BEGIN:VCALENDAR
VERSION:2.0
PRODID:-//Evangelisches Forum Bonn - ECPv6.15.20//NONSGML v1.0//EN
CALSCALE:GREGORIAN
METHOD:PUBLISH
X-WR-CALNAME:Evangelisches Forum Bonn
X-ORIGINAL-URL:https://www.evforum-bonn.de
X-WR-CALDESC:Veranstaltungen für Evangelisches Forum Bonn
REFRESH-INTERVAL;VALUE=DURATION:PT1H
X-Robots-Tag:noindex
X-PUBLISHED-TTL:PT1H
BEGIN:VTIMEZONE
TZID:Europe/Berlin
BEGIN:DAYLIGHT
TZOFFSETFROM:+0100
TZOFFSETTO:+0200
TZNAME:CEST
DTSTART:20240331T010000
END:DAYLIGHT
BEGIN:STANDARD
TZOFFSETFROM:+0200
TZOFFSETTO:+0100
TZNAME:CET
DTSTART:20241027T010000
END:STANDARD
BEGIN:DAYLIGHT
TZOFFSETFROM:+0100
TZOFFSETTO:+0200
TZNAME:CEST
DTSTART:20250330T010000
END:DAYLIGHT
BEGIN:STANDARD
TZOFFSETFROM:+0200
TZOFFSETTO:+0100
TZNAME:CET
DTSTART:20251026T010000
END:STANDARD
BEGIN:DAYLIGHT
TZOFFSETFROM:+0100
TZOFFSETTO:+0200
TZNAME:CEST
DTSTART:20260329T010000
END:DAYLIGHT
BEGIN:STANDARD
TZOFFSETFROM:+0200
TZOFFSETTO:+0100
TZNAME:CET
DTSTART:20261025T010000
END:STANDARD
END:VTIMEZONE
BEGIN:VEVENT
DTSTART;TZID=Europe/Berlin:20250620T140000
DTEND;TZID=Europe/Berlin:20250620T153000
DTSTAMP:20260423T121048
CREATED:20250305T092905Z
LAST-MODIFIED:20250626T095330Z
UID:10005545-1750428000-1750433400@www.evforum-bonn.de
SUMMARY:Stadtführung - Glasmalerei in der Bonner Kreuzkirche
DESCRIPTION:20.06.2025  um 14 Uhr – Treffpunkt: Kreuzkirche (Haupteingang)\, Kaiserplatz\, Bonn-Zentrum\nDie Fenster des Glaskünstlers Gottfried von Stockhausen machen die Bonner Kreuzkirche\, das Ulmer Münster und die Leipziger Thomaskirche zu wahren Lichtwundern. Tauchen Sie in die farbigen Bilder moderner Glasmalerei ein und entdecken Sie die Vielfalt moderner Bildgestaltung im sakralen Raum \nTeilnahmegebühr pro Person: 8 Euro / ermäßigt 5 Euro. Dauer ca. 90 Minuten. \nEs führen Sie: \n-> mit Erreichen der Mindest-Teilnehmendenzahl erhalten Sie eine Bestätigung mit Zahlungsanweisung
URL:https://www.evforum-bonn.de/veranstaltung/glasmalerei-20-06-25/
LOCATION:Stadtführung – indiv. Treffpunkt\, Bonn\, NRW\, 53113\, Germany
CATEGORIES:Evangelische Stadtführungen
ATTACH;FMTTYPE=image/jpeg:https://www.evforum-bonn.de/wp-content/uploads/2025/03/Kreuzkirche-Lancester-Fenster-Foto-Gerhardt-edited-scaled-e1741167176934.jpg
ORGANIZER;CN="Evangelisches Forum Bonn":MAILTO:info@evforum-bonn.de
END:VEVENT
BEGIN:VEVENT
DTSTART;TZID=Europe/Berlin:20250620T193000
DTEND;TZID=Europe/Berlin:20250620T213000
DTSTAMP:20260423T121048
CREATED:20250616T110357Z
LAST-MODIFIED:20250616T110357Z
UID:10005807-1750447800-1750455000@www.evforum-bonn.de
SUMMARY:Wer ist eigentlich dieser Paulus?
DESCRIPTION:Vortrag mit Prof. Dr. Michael Meyer-Blanck \nPaulus von Tarsus – Völkerapostel\, Missionar\, Theologe und Briefautor – zählt zu den prägendsten Gestalten des frühen Christentums. Doch wer war dieser Paulus wirklich? Und was bedeuten seine Botschaften für unsere Zeit? \nProf. Dr. Michael Meyer-Blanck\, renommierter Theologe und ehemaliger Professor für Praktische Theologie an der Universität Bonn\, beleuchtet Leben\, Wirkung und bleibende Relevanz des Paulus – fundiert\, lebendig und dialogbereit. \n📍 Ort: Café Selig (Paulusgemeinde)\, In der Maar 7\, 53175 Bonn🕢 Termin: Freitag\, 20.06.2025\, 19:30 Uhr🎟️ Eintritt frei – Spenden willkommen
URL:https://www.evforum-bonn.de/veranstaltung/wer-ist-eigentlich-dieser-paulus/
LOCATION:Café Selig (Pauluskirche)\, In der Maar 7\, Bonn\, NRW\, 53175\, Germany
CATEGORIES:Bibel - Bibelgespräch,Bildung & Café,Lesung - Vortrag,Veranstaltungen von Gemeinden
ATTACH;FMTTYPE=image/png:https://www.evforum-bonn.de/wp-content/uploads/2025/06/Paulus_Bild_KI-generiert-e1750071811584.png
END:VEVENT
END:VCALENDAR