BEGIN:VCALENDAR
VERSION:2.0
PRODID:-//Evangelisches Forum Bonn - ECPv6.15.20//NONSGML v1.0//EN
CALSCALE:GREGORIAN
METHOD:PUBLISH
X-WR-CALNAME:Evangelisches Forum Bonn
X-ORIGINAL-URL:https://www.evforum-bonn.de
X-WR-CALDESC:Veranstaltungen für Evangelisches Forum Bonn
REFRESH-INTERVAL;VALUE=DURATION:PT1H
X-Robots-Tag:noindex
X-PUBLISHED-TTL:PT1H
BEGIN:VTIMEZONE
TZID:Europe/Berlin
BEGIN:DAYLIGHT
TZOFFSETFROM:+0100
TZOFFSETTO:+0200
TZNAME:CEST
DTSTART:20240331T010000
END:DAYLIGHT
BEGIN:STANDARD
TZOFFSETFROM:+0200
TZOFFSETTO:+0100
TZNAME:CET
DTSTART:20241027T010000
END:STANDARD
BEGIN:DAYLIGHT
TZOFFSETFROM:+0100
TZOFFSETTO:+0200
TZNAME:CEST
DTSTART:20250330T010000
END:DAYLIGHT
BEGIN:STANDARD
TZOFFSETFROM:+0200
TZOFFSETTO:+0100
TZNAME:CET
DTSTART:20251026T010000
END:STANDARD
BEGIN:DAYLIGHT
TZOFFSETFROM:+0100
TZOFFSETTO:+0200
TZNAME:CEST
DTSTART:20260329T010000
END:DAYLIGHT
BEGIN:STANDARD
TZOFFSETFROM:+0200
TZOFFSETTO:+0100
TZNAME:CET
DTSTART:20261025T010000
END:STANDARD
END:VTIMEZONE
BEGIN:VEVENT
DTSTART;TZID=Europe/Berlin:20250624T131500
DTEND;TZID=Europe/Berlin:20250624T170000
DTSTAMP:20260423T121045
CREATED:20250703T091240Z
LAST-MODIFIED:20250703T091326Z
UID:10005881-1750770900-1750784400@www.evforum-bonn.de
SUMMARY:Nachmittagsausflug mit Stadtführung in Rheinbach
DESCRIPTION:Das Projekt Miteinander–Füreinander lädt herzlich ein zu einem abwechslungsreichen Ausflug mit kulturellem Schwerpunkt: \nBei einer Stadtführung durch Rheinbach (ca. 14–15 Uhr) erfahren wir mehr über die bewegte Geschichte\, die Architektur und die kulturgeschichtliche Entwicklung der Stadt. Die Führung vermittelt interessante Einblicke in Rheinbachs Wandel vom mittelalterlichen Ort zur modernen Kleinstadt mit Glas- und Töpfertradition. \nIm Anschluss geht es weiter zur alten Scheune in Hilberath\, wo der Tag bei Kaffee und Gesprächen in geselliger Runde ausklingen darf. \n🚌 Abfahrt: 13:15 Uhr\, Kirchparkplatz💶 Kosten: 8 € (inkl. Stadtführung\, Fahrtkosten und ein Getränk)📌 Anmeldung erforderlich im [Gemeindebüro bei carla.hornberger@ekir.de]
URL:https://www.evforum-bonn.de/veranstaltung/nachmittagsausflug-mit-stadtfuehrung-in-rheinbach/
LOCATION:Ev. Auferstehungskirche\, Haager Weg 71\, Bonn\, NRW\, 53127
CATEGORIES:Existenzielle Fragestellungen,Exkursion - Ausflug - Tour,Theologie / Philosophie,Veranstaltungen von Gemeinden
ATTACH;FMTTYPE=image/jpeg:https://www.evforum-bonn.de/wp-content/uploads/2025/07/Ausflug-Gruppe_Lego_Pixabay-Free-von-planet_fox-e1751533902334.jpg
ORGANIZER;CN="Ev. Kirchengemeinde im Bonner Westen (Auferstehung)":MAILTO:carla.hornberger@ekir.de
END:VEVENT
BEGIN:VEVENT
DTSTART;TZID=Europe/Berlin:20250624T150000
DTEND;TZID=Europe/Berlin:20250624T170000
DTSTAMP:20260423T121045
CREATED:20250703T122340Z
LAST-MODIFIED:20250703T122440Z
UID:10005915-1750777200-1750784400@www.evforum-bonn.de
SUMMARY:Ökumenischer Seniorenkreis in Emmaus
DESCRIPTION:Der Seniorenkreis an der Emmaus-Kirche lädt alle Interessierten herzlich ein zu einem Nachmittag in guter Gemeinschaft. Neben Vorträgen zu wechselnden Themen gibt es Raum für persönliche Begegnung\, Austausch und Nachdenken über Glaube\, Leben und Gesellschaft. \nEin wechselndes Programm mit kulturellen\, spirituellen oder auch unterhaltsamen Beiträgen sorgt für Abwechslung und Gesprächsanregung. Selbstverständlich ist auch für das leibliche Wohl gesorgt. \n📅 Jeden 2. und 4. Dienstag im Monat | 15:00–17:00 Uhr📍 Emmaus-Kirche\, Borsigallee 23\, Bonn-Brüser Berg(Eingang über Fußgängerzone · Parken: Fahrenheitstraße\, vom Brüser Damm kommend) \nKontakt:Pfarrer Dr. Georg Schwikart📧 georg.schwikart@ekir.de · ☎ 01523 6915109 \n 
URL:https://www.evforum-bonn.de/veranstaltung/seniorenkreis-emmaus-2025-2-copy/2025-06-24/
LOCATION:Gemeindezentrum Emmaus-Kirche\, Borsigallee 23\, Bonn\, 53125\, Deutschland
CATEGORIES:Altern und Alter,Bibel - Bibelgespräch,Existenzielle Fragestellungen,Philosophisch-psychologische Kaffeehausgespräche,Seniorenbildung,Seniorenkreis -nachmittag,Thematische Schwerpunkte,Theologie / Philosophie,Veranstaltungen von Gemeinden,Veranstaltungsreihen
ATTACH;FMTTYPE=image/jpeg:https://www.evforum-bonn.de/wp-content/uploads/2022/12/Senior-e1751876645808.jpg
ORGANIZER;CN="Ev. Kirchengemeinde im Bonner Westen (Hardtberg)":MAILTO:hardtberg@ekir.de
END:VEVENT
BEGIN:VEVENT
DTSTART;TZID=Europe/Berlin:20250624T160000
DTEND;TZID=Europe/Berlin:20250624T180000
DTSTAMP:20260423T121045
CREATED:20250623T094754Z
LAST-MODIFIED:20250623T094754Z
UID:10005816-1750780800-1750788000@www.evforum-bonn.de
SUMMARY:Ökumenisches Begegnungscafé
DESCRIPTION:Formularhilfe – Austausch\, Orientierung und praktische Unterstützung für Geflüchtete \nDas Begegnungscafé im Pfarrheim der St. Elisabethkirche versteht sich als ein Treffpunkt für geflüchtete Menschen und ihre Nachbar:innen im Stadtteil. In geschützter Atmosphäre können Kontakte geknüpft\, Alltagsfragen besprochen und konkrete Unterstützung bei behördlichen Anliegen in Anspruch genommen werden. \nEin zentrales Anliegen ist die Formularhilfe: Hier erhalten Besucher:innen praktische Unterstützung beim Ausfüllen von Anträgen und Formularen (z. B. Jobcenter\, Schule\, Arzt\, Wohnungsamt). Dies wird ergänzt durch einfache Erklärungen zu Abläufen im deutschen Verwaltungssystem\, wodurch ein Beitrag zur Orientierung und gesellschaftlichen Teilhabe geleistet wird. \nDas Café bietet gleichzeitig Raum für informelle Bildung: Gespräche über kulturelle Unterschiede\, Alltagsthemen\, gemeinsame Aktivitäten und gegenseitiger Austausch stärken Sprachkompetenz\, Vertrauen und Teilhabe. \n🕓 Jeden Dienstag\, 16:00–18:00 Uhr📍 Pfarrheim St. Elisabethkirche\, EG\, Bernard-Custodis-Str. 1\, 53113 Bonn \nEine Anmeldung ist nicht erforderlich – kommen Sie gerne vorbei | Ansprechpartner*in: Ulrike Gerhard – Tel. 0228 23 35 31
URL:https://www.evforum-bonn.de/veranstaltung/oekumenisches-begegnungscafe/2025-06-24/
LOCATION:Pfarrheim St. Elisabethkirche\, Custodis-Str. 1\, Bonn\, NRW\, 53113\, Germany
CATEGORIES:Existenzielle Fragestellungen,Migration - Kultur - Kultureller Austausch,Politik - Geschichte - Soziologie,Theologie / Philosophie,Veranstaltungen von Gemeinden,Veranstaltungsreihen
ATTACH;FMTTYPE=image/jpeg:https://www.evforum-bonn.de/wp-content/uploads/2025/05/hands-8331123_1280-e1747643850165.jpg
END:VEVENT
BEGIN:VEVENT
DTSTART;TZID=Europe/Berlin:20250624T170000
DTEND;TZID=Europe/Berlin:20250624T183000
DTSTAMP:20260423T121045
CREATED:20250703T103022Z
LAST-MODIFIED:20250703T103106Z
UID:10005888-1750784400-1750789800@www.evforum-bonn.de
SUMMARY:"Mystik entdecken" Theologiekreis der Auferstehungskirche
DESCRIPTION:📅 4. Dienstag im Monat (außer in den Ferien)📍Gemeindehaus der Ev. Auferstehungskirchengemeinde \nSeit vielen Jahren trifft sich ein Kreis theologisch und spirituell interessierter Menschen\, um sich mit der Geschichte christlicher Mystik und der Vielfalt spiritueller Wege vertraut zu machen. Von den Wüstenvätern und -müttern des 4. Jahrhunderts über die Tradition der Klöster bis in die Gegenwart suchen Christinnen und Christen nach einem inneren Zugang zu Gott. \nIm Gespräch gehen wir Zeugnissen und Texten der Mystik nach\, lassen uns von deren Erfahrungen inspirieren und tauschen uns über die Bedeutung für unser eigenes Glaubensleben aus. \nDie Reihe lebt von gemeinsamer Neugier\, Erfahrung und Offenheit – neue Interessierte sind herzlich willkommen. \n📧 Ansprechpartner: Pfarrer Christian Knoche-Hager – christian.knoche-hager@ekir.de
URL:https://www.evforum-bonn.de/veranstaltung/mystik-entdecken_25_06/
LOCATION:Gemeindehaus der Ev. Auferstehungskirche\, Haager Weg 40\, Bonn\, NRW\, 53127\, Germany
CATEGORIES:Bibel - Bibelgespräch,Bibel und Buch,Theologie / Philosophie,Veranstaltungen von Gemeinden,Veranstaltungsreihen
ATTACH;FMTTYPE=image/jpeg:https://www.evforum-bonn.de/wp-content/uploads/2025/07/Mystik-entdecken_Bildquelle-Ev.-Auferstehungskirche-Bonn.jpg
ORGANIZER;CN="Ev. Kirchengemeinde im Bonner Westen (Auferstehung)":MAILTO:carla.hornberger@ekir.de
END:VEVENT
BEGIN:VEVENT
DTSTART;TZID=Europe/Berlin:20250624T183000
DTEND;TZID=Europe/Berlin:20250624T210000
DTSTAMP:20260423T121045
CREATED:20250116T171109Z
LAST-MODIFIED:20250616T094310Z
UID:10005199-1750789800-1750798800@www.evforum-bonn.de
SUMMARY:Diskutier Ma(h)l:  Zu reich\, um arm zu sein?
DESCRIPTION:Am 24. Juni 2025 um 18:30 Uhr im Kirchenpavillon Bonn | Kaiserplatz 1a\nHerzliche Einladung zu einem Themenabend im Kirchenpavillon\, organisiert vom Lehrstuhl für (Sozial-)Ethik und dem Evangelischen Forum. \nProf. Dr. Sigrid Leitner von der Universität Köln der Evangelisch-Theologischen-Fakultät\, wird einen Impulsvortrag zu o.g. Thema geben. \nDanach sind alle Besucher*innen zum Mitdenken und Diskutieren eingeladen. \nDer Eintritt ist frei \nZielgruppe: Studierende | Wissenschaftler*innen | Alle Interessierten – Anmeldung bitte über ua Formular oder per Mail an info@ev-forum-bonn.de \nDiskutier Ma(h)l am 24.06.2025 im Kirchenpavillon ab 18.30 Uhr \n 
URL:https://www.evforum-bonn.de/veranstaltung/diskutiermahl_25-06-24/
LOCATION:Ev. Kirchenpavillon Bonn\, Kaiserplatz 1a\, Bonn\, NRW\, 53113\, Germany
CATEGORIES:Aktuelles,Diskutier Ma(h)l,Kirchenpavillon,Politik - Geschichte - Soziologie,Theologie / Philosophie,Veranstaltungsreihen,Zentralprogramm
ATTACH;FMTTYPE=image/png:https://www.evforum-bonn.de/wp-content/uploads/2025/01/Diskutiermahl.15.1-e1742458876561.png
END:VEVENT
BEGIN:VEVENT
DTSTART;TZID=Europe/Berlin:20250624T190000
DTEND;TZID=Europe/Berlin:20250624T203000
DTSTAMP:20260423T121045
CREATED:20250218T085647Z
LAST-MODIFIED:20250218T085922Z
UID:10005515-1750791600-1750797000@www.evforum-bonn.de
SUMMARY:Tol’dot & Tarbut: Leonard Cohens Stimme
DESCRIPTION:24.06.2025 um 19 Uhr | Online via Zoom\n\nLeonard Cohens Stimme\n\nDer Vortrag wird den vielfältigen jüdischen Bezügen im Werk des Autors\, Singer\, Songwriters und Superstars Leonard Cohen nachgehen.\nVon den ersten Songs bis zum Alterswerk war das Judentum für Cohen zentral\, sei es biografisch und historisch oder als Texttradition. Bibel\, Kommentarliteratur und Liturgie waren Cohen gut vertraut und er nutzte diese\nTexte als poetischen Referenzrahmen. Mit einem Blick auf Cohens Selbst-Inszenierungen als Prophet und Priester des Pop wird auch der Funktion von Cohens spezifischer Stimme analysiert und danach\ngefragt\, was etwa der Einsatz des Synagogenchors auf dem letzten Album »You want it darker« zu bedeuten hat. \nDr. Caspar Battegay\, Basel \nAnmeldung: externer Zoom Link\nDie Anmeldung erfogt über den QR-Code in der Ausschreibung oder über info@bildungswerk-bonn.de und 0228 42979-0.\nDie Teilnahme ist kostenfrei. \nOffizieller Flyer – TOLDOT & TARBUT_Sommersemester 2025
URL:https://www.evforum-bonn.de/veranstaltung/toldot-tarbut-2025-06-24/
LOCATION:ONLINE via Zoom\, externer Zoom Link\, Germany
CATEGORIES:Aktuelles,Toldot & Tarbut,Veranstaltungsreihen,Zentralprogramm
ATTACH;FMTTYPE=image/jpeg:https://www.evforum-bonn.de/wp-content/uploads/2024/08/toldot-und-tarbut-e1736348778526.jpg
ORGANIZER;CN="Katholisches Bildungsforum Bonn":MAILTO:fbs@bildungsforum-bonn.de
END:VEVENT
BEGIN:VEVENT
DTSTART;TZID=Europe/Berlin:20250624T193000
DTEND;TZID=Europe/Berlin:20250624T203000
DTSTAMP:20260423T121045
CREATED:20250725T113808Z
LAST-MODIFIED:20250725T113808Z
UID:10006043-1750793400-1750797000@www.evforum-bonn.de
SUMMARY:Lindy Hop | Offener Tanzunterricht
DESCRIPTION:Lindy Hop ist ein beschwingter Swing-Tanzstil mit Wurzeln in der afroamerikanischen Kultur der 1930er Jahre. In diesem offenen Tanzunterricht steht nicht nur die Freude an Bewegung im Mittelpunkt\, sondern auch das gemeinschaftliche Lernen: Vom ersten Grundschritt bis zur Improvisation können alle – mit oder ohne Vorkenntnisse – neue Schritte erlernen\, Koordination und Rhythmusgefühl schulen und dabei die Geschichte eines kulturell bedeutenden Tanzstils kennenlernen. \nDie Abende bieten Raum für Begegnung\, körperliche Aktivität und kulturelle Bildung – immer in respektvoller Atmosphäre und mit viel Spaß. Kommen Sie vorbei\, tanzen Sie mit! \n📍 Ort: Melanchthonhaus der Kreuzkirche📩 Anmeldung & Infos: lindyhop@justmail.de🕒 Wöchentlich dienstags um 19:30 Uhr (außer ggf. in den Ferien und an Feiertagen)
URL:https://www.evforum-bonn.de/veranstaltung/lindy-hop-offener-tanzunterricht/2025-06-24/
LOCATION:Melanchthon Haus der Kreuzkirche\, An der Evangelischen Kirche 6\, Bonn\, NRW\, 53113\, Germany
CATEGORIES:Gesundheit - Krankheit - Medizin,Lindy Hop,Tanz - Bewegung - Gesundheit,Veranstaltungen von Gemeinden,Veranstaltungsreihen
ATTACH;FMTTYPE=image/jpeg:https://www.evforum-bonn.de/wp-content/uploads/2025/07/Lindy-Hop_Foto-by-Lindy-Hop-e1753443452177.jpg
END:VEVENT
BEGIN:VEVENT
DTSTART;TZID=Europe/Berlin:20250624T193000
DTEND;TZID=Europe/Berlin:20250624T210000
DTSTAMP:20260423T121045
CREATED:20250620T081753Z
LAST-MODIFIED:20250620T082054Z
UID:10005809-1750793400-1750798800@www.evforum-bonn.de
SUMMARY:Ökumenischer Bibelkreis Auerberg
DESCRIPTION:am 24. Juni 2025 – 19:30 Uhr im Gemeindeforum Auerberg \n…bei unserer Lektüre des Philipperbriefes kommen wir diesmal zu einem ganz entscheidenden Text und theologischen Höhepunkt des Schreibens: den sog. Christushymnus in Phil 2\,5-11. Wie immer werden wir aber auch den größeren Zusammenhang uns anschauen (Phil 1\,27-2\,18). Herzliche Grüße – Günther Röser \n„Herzlich willkommen zu unserem Bibelgesprächskreis!\nIn einer offenen und inspirierenden Runde lesen und diskutieren wir gemeinsam biblische Texte\, tauschen Gedanken aus und lassen uns von neuen Perspektiven bereichern. Jede und jeder ist herzlich eingeladen\, teilzunehmen!“ \nÖkumenischer Bibelkreis Auerberg
URL:https://www.evforum-bonn.de/veranstaltung/oekumenischer-bibelkreis-auerberg-24-06-25/
LOCATION:Ev. Gemeindeforum Auerberg\, Helsinkistraße 4\, Bonn\, 53117\, Deutschland
CATEGORIES:Bibel - Bibelgespräch,Bibel und Buch,Lesung - Vortrag,Theologie / Philosophie,Veranstaltungen von Gemeinden,Veranstaltungsreihen
ATTACH;FMTTYPE=image/jpeg:https://www.evforum-bonn.de/wp-content/uploads/2025/01/Oekumene_auerberg.jpg
END:VEVENT
END:VCALENDAR