BEGIN:VCALENDAR
VERSION:2.0
PRODID:-//Evangelisches Forum Bonn - ECPv6.15.20//NONSGML v1.0//EN
CALSCALE:GREGORIAN
METHOD:PUBLISH
X-WR-CALNAME:Evangelisches Forum Bonn
X-ORIGINAL-URL:https://www.evforum-bonn.de
X-WR-CALDESC:Veranstaltungen für Evangelisches Forum Bonn
REFRESH-INTERVAL;VALUE=DURATION:PT1H
X-Robots-Tag:noindex
X-PUBLISHED-TTL:PT1H
BEGIN:VTIMEZONE
TZID:Europe/Berlin
BEGIN:DAYLIGHT
TZOFFSETFROM:+0100
TZOFFSETTO:+0200
TZNAME:CEST
DTSTART:20240331T010000
END:DAYLIGHT
BEGIN:STANDARD
TZOFFSETFROM:+0200
TZOFFSETTO:+0100
TZNAME:CET
DTSTART:20241027T010000
END:STANDARD
BEGIN:DAYLIGHT
TZOFFSETFROM:+0100
TZOFFSETTO:+0200
TZNAME:CEST
DTSTART:20250330T010000
END:DAYLIGHT
BEGIN:STANDARD
TZOFFSETFROM:+0200
TZOFFSETTO:+0100
TZNAME:CET
DTSTART:20251026T010000
END:STANDARD
BEGIN:DAYLIGHT
TZOFFSETFROM:+0100
TZOFFSETTO:+0200
TZNAME:CEST
DTSTART:20260329T010000
END:DAYLIGHT
BEGIN:STANDARD
TZOFFSETFROM:+0200
TZOFFSETTO:+0100
TZNAME:CET
DTSTART:20261025T010000
END:STANDARD
END:VTIMEZONE
BEGIN:VEVENT
DTSTART;TZID=Europe/Berlin:20250626T093000
DTEND;TZID=Europe/Berlin:20250626T111500
DTSTAMP:20260423T134633
CREATED:20250521T134153Z
LAST-MODIFIED:20250521T134449Z
UID:10005681-1750930200-1750936500@www.evforum-bonn.de
SUMMARY:Erziehungs- und Familienberatung
DESCRIPTION:Die Evangelische Beratungsstelle Bonn regelmäßig Erziehungs- und Familienberatung im Joki-Familienhaus Bonn an.Zwei Termine stehen heute zur Auswahl: \n🕤 09:30–10:15 Uhr🕥 10:30–11:15 Uhr \nDie Beratung richtet sich an Eltern\, die sich in Erziehungsfragen Unterstützung oder neue Impulse wünschen – persönlich\, vertraulich und alltagsnah. \n📍 Ort: Joki-Familienhaus\, Bahnhofstraße 67\, 53123 Bonn📞 Anmeldung erforderlich: 0228 64 09 48👥 Ansprechpartnerin: Bärbel Goddon\, b.goddon@johanniskirche-bonn.de
URL:https://www.evforum-bonn.de/veranstaltung/erziehungs-und-familienberatung/
LOCATION:Joki-Familienhaus\, Bahnhofstr. 67\, Bonn\, 53123\, Deutschland
CATEGORIES:Eltern-Kind-Pädagogik,Existenzielle Fragestellungen,Pädagogische Bildung,Veranstaltungen von Gemeinden,Veranstaltungsreihen
ATTACH;FMTTYPE=image/png:https://www.evforum-bonn.de/wp-content/uploads/2025/05/Erziehungs_und-Familienberatung-e1747835038606.png
ORGANIZER;CN="Ev. Johanniskirchengemeinde":MAILTO:d.gruss@bonn-evangelisch.de
END:VEVENT
BEGIN:VEVENT
DTSTART;TZID=Europe/Berlin:20250626T143000
DTEND;TZID=Europe/Berlin:20250626T143000
DTSTAMP:20260423T134633
CREATED:20250210T103722Z
LAST-MODIFIED:20250213T081847Z
UID:10005405-1750948200-1750948200@www.evforum-bonn.de
SUMMARY:Integrationsassistenz-Beratung
DESCRIPTION:An 12 Terminen jeweils Donnerstag von 14:30 – 15:30 Uhr im Melanchthonhaus Bonn \nEinladung zur Fortbildung: Integrationsassistenz-Beratung \nDie Evangelische Kreuzkirchengemeinde lädt Sie herzlich zur Teilnahme an unserer Fortbildungsreihe „Integrationsassistenz-Beratung“ ein. Unter der Leitung von Rüdiger Petrat\, Pfarrer i.R. einem erfahrenen Experten mit 40 Jahren Erfahrung in der Integrationsarbeit\, bieten wir eine praxisnahe Beratung und Austausch mit anderen Integrationsassistenten an. \nWas erwartet Sie?\nIn 12 Terminen\, jeweils donnerstags von 14:30 bis 15:30 Uhr\, erhalten Sie Einblicke in die Prinzipien und Methoden der Integrationsassistenz. Die Fortbildung richtet sich an alle\, die in der Integrationsarbeit tätig sind oder sich dafür interessieren. Ziel ist es\, die Teilnehmenden zu befähigen\, effektiv und empathisch in der Beratung von Personen mit Migrationshintergrund zu unterstützen. \nIhre Chance:\nNutzen Sie die Gelegenheit\, von einem erfahrenen Akteur und bereits tätigen Integrationsassistenten zu lernen und Ihre Fähigkeiten in der Integrationsassistenz zu vertiefen. Die Fortbildung bietet nicht nur fachliches Wissen\, sondern auch Raum für Diskussionen und Erfahrungsaustausch\, um bestmögliche Unterstützung in der Integrationsarbeit zu gewährleisten. \nMelden Sie sich jetzt an und werden Sie Teil einer Gemeinschaft\, die aktiv dazu beiträgt\, das Zusammenleben in Vielfalt zu fördern und zu verbessern. \nAnmeldung: r.petrat@icloud.com
URL:https://www.evforum-bonn.de/veranstaltung/integrationsassistenz-beratung-06-25/
LOCATION:Melanchthon Haus der Kreuzkirche\, An der Evangelischen Kirche 6\, Bonn\, NRW\, 53113\, Germany
CATEGORIES:Migration - Kultur - Kultureller Austausch,Veranstaltungen von Gemeinden,Veranstaltungsreihen
ATTACH;FMTTYPE=image/webp:https://www.evforum-bonn.de/wp-content/uploads/2025/02/integrationsassistenz-e1739183143517.webp
END:VEVENT
END:VCALENDAR