BEGIN:VCALENDAR
VERSION:2.0
PRODID:-//Evangelisches Forum Bonn - ECPv6.15.20//NONSGML v1.0//EN
CALSCALE:GREGORIAN
METHOD:PUBLISH
X-WR-CALNAME:Evangelisches Forum Bonn
X-ORIGINAL-URL:https://www.evforum-bonn.de
X-WR-CALDESC:Veranstaltungen für Evangelisches Forum Bonn
REFRESH-INTERVAL;VALUE=DURATION:PT1H
X-Robots-Tag:noindex
X-PUBLISHED-TTL:PT1H
BEGIN:VTIMEZONE
TZID:Europe/Berlin
BEGIN:DAYLIGHT
TZOFFSETFROM:+0100
TZOFFSETTO:+0200
TZNAME:CEST
DTSTART:20240331T010000
END:DAYLIGHT
BEGIN:STANDARD
TZOFFSETFROM:+0200
TZOFFSETTO:+0100
TZNAME:CET
DTSTART:20241027T010000
END:STANDARD
BEGIN:DAYLIGHT
TZOFFSETFROM:+0100
TZOFFSETTO:+0200
TZNAME:CEST
DTSTART:20250330T010000
END:DAYLIGHT
BEGIN:STANDARD
TZOFFSETFROM:+0200
TZOFFSETTO:+0100
TZNAME:CET
DTSTART:20251026T010000
END:STANDARD
BEGIN:DAYLIGHT
TZOFFSETFROM:+0100
TZOFFSETTO:+0200
TZNAME:CEST
DTSTART:20260329T010000
END:DAYLIGHT
BEGIN:STANDARD
TZOFFSETFROM:+0200
TZOFFSETTO:+0100
TZNAME:CET
DTSTART:20261025T010000
END:STANDARD
END:VTIMEZONE
BEGIN:VTIMEZONE
TZID:Europe/Bratislava
BEGIN:DAYLIGHT
TZOFFSETFROM:+0100
TZOFFSETTO:+0200
TZNAME:CEST
DTSTART:20240331T010000
END:DAYLIGHT
BEGIN:STANDARD
TZOFFSETFROM:+0200
TZOFFSETTO:+0100
TZNAME:CET
DTSTART:20241027T010000
END:STANDARD
BEGIN:DAYLIGHT
TZOFFSETFROM:+0100
TZOFFSETTO:+0200
TZNAME:CEST
DTSTART:20250330T010000
END:DAYLIGHT
BEGIN:STANDARD
TZOFFSETFROM:+0200
TZOFFSETTO:+0100
TZNAME:CET
DTSTART:20251026T010000
END:STANDARD
BEGIN:DAYLIGHT
TZOFFSETFROM:+0100
TZOFFSETTO:+0200
TZNAME:CEST
DTSTART:20260329T010000
END:DAYLIGHT
BEGIN:STANDARD
TZOFFSETFROM:+0200
TZOFFSETTO:+0100
TZNAME:CET
DTSTART:20261025T010000
END:STANDARD
END:VTIMEZONE
BEGIN:VEVENT
DTSTART;TZID=Europe/Berlin:20250627T150000
DTEND;TZID=Europe/Berlin:20250627T170000
DTSTAMP:20260423T121055
CREATED:20250205T115845Z
LAST-MODIFIED:20250205T120100Z
UID:10005362-1751036400-1751043600@www.evforum-bonn.de
SUMMARY:Internationales Frauencafé
DESCRIPTION:Jeden letzten Freitag im Monat von 15 – 17 Uhr im Stadtteilbüro des Diakonischen Werk Bonn \nBegegnung\, Dialog\, Austausch und Information zwischen Migrantinnen und Deutschen in einem Stadtteil mit 53 % Zuwandereranteil. Im Alltag begegnen sich Kulturen gerade in den Wohnvierteln. Stadtteilbezogene Probleme werden diskutiert\, aber auch interreligiöse\, rechtliche und soziale Themen besprochen. \nLeitung: Almut Schubert\, Pädagogin\, 0228 667508 \n 
URL:https://www.evforum-bonn.de/veranstaltung/internationales-frauencafe-emfa-2025-copy-copy-copy-copy-copy/
LOCATION:Stadtteilbüro des Diakonischen Werkes\, Oppelner Str. 130\,  Bonn\, NRW\, 53119\, Deutschland
CATEGORIES:Migration - Kultur - Kultureller Austausch,Veranstaltungen von Gemeinden,Veranstaltungen von Institutionen und Verbänden,Veranstaltungsreihen
ATTACH;FMTTYPE=image/jpeg:https://www.evforum-bonn.de/wp-content/uploads/2025/02/Frauencafe-e1738755900347.jpg
END:VEVENT
BEGIN:VEVENT
DTSTART;TZID=Europe/Bratislava:20250627T180000
DTEND;TZID=Europe/Bratislava:20250628T030000
DTSTAMP:20260423T121055
CREATED:20250127T102445Z
LAST-MODIFIED:20250616T100900Z
UID:10005270-1751047200-1751079600@www.evforum-bonn.de
SUMMARY:10. Bonner KirchenNacht
DESCRIPTION:Herzliche Einladung zu einer „Nacht der Träume“: 50 Kirchen öffnen zur 10. Langen Nacht der Kirchen in Bonn und Region am 27. Juni 2025\n\n\n\n\n\nEs wird traumhaft: 50 Kirchen mit mehr als 250 Programmangeboten öffnen für Sie und Dich am Freitag\, 27. Juni 2025\, zur 10. Langen Nacht der Kirchen in Bonn und der Region. Ab 18.00 Uhr bis in die Nacht\, das Kinderprogramm beginnt zum Teil schon früher. Überall das Motto „Nacht der Träume“ und natürlich wieder: Eintritt frei. ▶️ PROGRAMM\n\n\n\n\n\nKatholisch\, evangelisch\, orthodox\, alt-katholisch\, freikirchlich – alle Kirchen und aus allen Stadtteilen sowie einige sogar aus dem Rhein-Sieg-Kreis sind dabei. Die 10. ist die größte aller bisherigen Bonner Kirchennächte\, das geistliche Kulturfestival unserer Region. \nFür jede und jeden ist etwas anderes im Angebot: Mitsing-Konzert\, Tanz und House-Party\, Turmführung mit Blick über die nächtliche Stadt\, Stummfilmkino mit Orgelmusik\, Jazz\, Andacht und Segen\, Lesung\, Diskussion\, der großes Pub-Quiz\, die Schlafkirche zum Übernachten mit Isomatte und Schlafsack und vieles\, vieles mehr – und ganz viel Gemeinschaft in Kirchencafés an vielen Orten. \nDazu top Musiker wie der Pianist Fabian Müller (23 Uhr Kreuzkirche Zentrum) oder das Impro-Duo Christian Padberg & Matthias Kaufmann (ab 20 Uhr Thomaskirche Röttgen). Unendlich viele traumhafte Einladungen\, aber auch besondere Angebote\, zum Beispiel sich mit Alpträumen zu beschäftigen\, wo kommen sie her und wie deute ich sie\, mit dem Psychotherapeuten Artus Achterberg (21 Uhr St. Cyprian). \nStimmungsvoll festlich feiern wir die Eröffnung um 18.00 Uhr vor der Kreuzkirche am Kaiserplatz im Bonner Zentrum mit der Oberbürgermeisterin. \nSchlafkirche und House-Party jetzt anmelden\nTIPP: Wer in einer Kirche übernachten will – einmaliges Angebot in der wunderschönen St. Elisabethkirche in der Bonner Südstadt – oder sicher einen Platz in der House-Party in der Emmaus-Kirche Brüser Berg mit 5 Top-DJs aus der Region ergattern möchte\, sollte sich am besten jetzt schon anmelden. \n\nAnmeldung SOUND OF EMMAUS: https://hardtberggemeinde.de/2025/05/29/bonner-kirchennacht-sound-of-emmaus/.\nZur Schlafkirche einfach hier: kostanze.nolte@web.de.\n\nAlle anderen Angeboten sind wie immer spontan besuchbar. Wenn es voll wird\, bitten wir um Verständnis und Rücksicht. \nJeder Mensch träumt – träumen wir gemeinsam\nWir träumen\, jeder Mensch träumt. Gute Träume\, Träume voller Sehnsucht\, der Traum vom Frieden … – manchmal sind es auch verwirrende\, bedrohliche Träume. Die Bibel erzählt an vielen Stellen von geradezu wunderbaren Traumerfahrungen. Träume sprechen aus der Seele\, geben Kraft und Orientierung. Feiern wir miteinander eine traumhafte Nacht. Wir freuen uns auf Sie! \nIhr Team BonnerKirchenNacht unter dem Dach der Arbeitsgemeinschaft Christlicher Kirchen (ACK) Bonn
URL:https://www.evforum-bonn.de/veranstaltung/10-bonner-kirchennacht/
LOCATION:Stadt Bonn\, Bonn\, NRW\, Germany
CATEGORIES:Aktuelles,Bibel - Bibelgespräch,Haus der Ev. Kirche Bonn,Veranstaltungen von Gemeinden,Veranstaltungsreihen,Zentralprogramm
ATTACH;FMTTYPE=image/png:https://www.evforum-bonn.de/wp-content/uploads/2025/01/10.-bonner-kirchennacht.png
END:VEVENT
BEGIN:VEVENT
DTSTART;TZID=Europe/Berlin:20250627T190000
DTEND;TZID=Europe/Berlin:20250627T233000
DTSTAMP:20260423T121055
CREATED:20250430T092303Z
LAST-MODIFIED:20250430T093445Z
UID:10005657-1751050800-1751067000@www.evforum-bonn.de
SUMMARY:Turmbesichtigung und Besteigung
DESCRIPTION:„Nacht der Träume – Blick über die Stadt“Freitag\, 27. Juni 2025\, ab 19 Uhr | Kreuzkirche Bonn – Turm geöffnet \n\nIm Rahmen der 10. Bonner Kirchennacht laden wir herzlich zur Turmbesichtigung der Kreuzkirche ein. \nAb 19 Uhr ist der Turm geöffnet – wer möchte\, kann hinaufsteigen und den Abend aus luftiger Höhe mit Blick über das beleuchtete Bonn genießen. \nEin Ort der Stille und der Aussicht\, im wahrsten Sinne. Vielleicht hören Sie dort oben ein Echo der biblischen Verheißung: „Ich hebe meine Augen auf zu den Bergen – woher kommt mir Hilfe?“ (Psalm 121\,1). Ein kleiner Aufstieg – ein großer Moment\, um innezuhalten\, zu träumen und Gottes Nähe in der Weite zu spüren. \nOrganisiert durch das Evangelische Forum Bonn \n„Neugierig auf mehr Geschichten rund um Bonn und den Glauben? Entdecken Sie unsere öffentlichen Stadtführungen!“
URL:https://www.evforum-bonn.de/veranstaltung/turmbesichtigung-und-besteigung/
LOCATION:Ev. Kreuzkirche Bonn\, Kaiserplatz 1\, Bonn\, 53113
CATEGORIES:Aktuelles,Evangelische Stadtführungen,Zentralprogramm
ATTACH;FMTTYPE=image/jpeg:https://www.evforum-bonn.de/wp-content/uploads/2025/04/Kreuzkirche-Bonn-e1746005602483.jpg
ORGANIZER;CN="Evangelisches Forum Bonn":MAILTO:info@evforum-bonn.de
END:VEVENT
END:VCALENDAR