BEGIN:VCALENDAR
VERSION:2.0
PRODID:-//Evangelisches Forum Bonn - ECPv6.15.20//NONSGML v1.0//EN
CALSCALE:GREGORIAN
METHOD:PUBLISH
X-ORIGINAL-URL:https://www.evforum-bonn.de
X-WR-CALDESC:Veranstaltungen für Evangelisches Forum Bonn
REFRESH-INTERVAL;VALUE=DURATION:PT1H
X-Robots-Tag:noindex
X-PUBLISHED-TTL:PT1H
BEGIN:VTIMEZONE
TZID:Europe/Berlin
BEGIN:DAYLIGHT
TZOFFSETFROM:+0100
TZOFFSETTO:+0200
TZNAME:CEST
DTSTART:20240331T010000
END:DAYLIGHT
BEGIN:STANDARD
TZOFFSETFROM:+0200
TZOFFSETTO:+0100
TZNAME:CET
DTSTART:20241027T010000
END:STANDARD
BEGIN:DAYLIGHT
TZOFFSETFROM:+0100
TZOFFSETTO:+0200
TZNAME:CEST
DTSTART:20250330T010000
END:DAYLIGHT
BEGIN:STANDARD
TZOFFSETFROM:+0200
TZOFFSETTO:+0100
TZNAME:CET
DTSTART:20251026T010000
END:STANDARD
BEGIN:DAYLIGHT
TZOFFSETFROM:+0100
TZOFFSETTO:+0200
TZNAME:CEST
DTSTART:20260329T010000
END:DAYLIGHT
BEGIN:STANDARD
TZOFFSETFROM:+0200
TZOFFSETTO:+0100
TZNAME:CET
DTSTART:20261025T010000
END:STANDARD
END:VTIMEZONE
BEGIN:VEVENT
DTSTART;TZID=Europe/Berlin:20250728T090000
DTEND;TZID=Europe/Berlin:20250728T120000
DTSTAMP:20260423T121415
CREATED:20250630T093953Z
LAST-MODIFIED:20250630T095026Z
UID:10005875-1753693200-1753704000@www.evforum-bonn.de
SUMMARY:Lust auf "Wortsalat" und "Buchstabensuppe"?
DESCRIPTION:Für Kinder von 8 bis 10 Jahren bietet die Gemeindebücherei in Kooperation mit Schreibland NRW einen kreativen Schreibworkshop an. Gemeinsam wird geschrieben\, gereimt\, erfunden und erzählt! \nDie Leitung übernehmen:🖊️ Konstanze Ebel\, Dichterin und Sprachspielerin📚 Hanna Schott\, Kinderbuchautorin und Spieleentwicklerin \nVoraussetzung: Spaß am Schreiben und an Geschichten – Fantasie erlaubt! \nAbschlusslesung:📅 Samstag\, 02.08.2025 | 17:00–18:30 Uhr📍 Pauluskirche\, Bücherei \n📧 Anmeldung & Infos: konebel@gmx.de
URL:https://www.evforum-bonn.de/veranstaltung/schreibworkshop_thomaskirche_25/
LOCATION:Ev. Pauluskirche Bad Godesberg\, In der Maar 7\, Bonn\, NRW\, 53175\, Germany
CATEGORIES:Eltern-Kind-Pädagogik,Kunst - Musik - Literatur,Lesung - Vortrag,Pädagogische Bildung,Theologie / Philosophie,Veranstaltungen von Gemeinden,Veranstaltungsreihen,Weiterbildung allgemein
ATTACH;FMTTYPE=image/jpeg:https://www.evforum-bonn.de/wp-content/uploads/2025/06/Buchstabensalat_pixabay-free-e1751276949528.jpg
END:VEVENT
BEGIN:VEVENT
DTSTART;TZID=Europe/Berlin:20250728T180000
DTEND;TZID=Europe/Berlin:20250728T193000
DTSTAMP:20260423T121415
CREATED:20250127T093607Z
LAST-MODIFIED:20250528T103302Z
UID:10005731-1753725600-1753731000@www.evforum-bonn.de
SUMMARY:Arbeitsgruppe „Schöpfung bewahren“
DESCRIPTION:einmal im Monat montags 18:00-19:30 Uhr\n\n\nIn der Arbeitsgruppe „Schöpfung bewahren“ beschäftigen wir uns mit Schöpfungs- und Umweltthemen: \n\nEinerseits informieren wir uns selbst – zuletzt z.B. bei der gemeinsamen Lektüre eines Buchs über den Klimawandel oder bei einer Waldführung im Kottenforst mit dem Förster. \nAndererseits versuchen wir aktuelle Umweltfragen auch in die Gemeinde zu tragen – das geschieht z.B. bei Projekten wie dem Bau von Insektenhotels\, der Aktion „100 Haushalte wechseln zu BonnNaturStrom“ oder bei der Handy-Recycling-Aktion NRW. \n\nWer an diesen Themen interessiert ist\, ist herzlich willkommen: Wenden Sie sich einfach an Renate Ohly (Tel. 0228 31 16 78) oder Pfarrerin Stefanie Graner. \n\n\n\nWeitere Informationen
URL:https://www.evforum-bonn.de/veranstaltung/ag_schoepfung_bewahren2025/2025-07-28/
LOCATION:Gemeindehaus der Friedenskirchengemeinde\, Franz-Bücheler-Straße 10\, Bonn\, NRW\, 53129\, Germany
CATEGORIES:Existenzielle Fragestellungen,Ressourcen - Umwelt - Klima,Veranstaltungen von Gemeinden,Veranstaltungsreihen
ATTACH;FMTTYPE=image/jpeg:https://www.evforum-bonn.de/wp-content/uploads/2025/01/AG-schoepfung-bewahren-e1737971201984.jpg
END:VEVENT
END:VCALENDAR