BEGIN:VCALENDAR
VERSION:2.0
PRODID:-//Evangelisches Forum Bonn - ECPv6.15.20//NONSGML v1.0//EN
CALSCALE:GREGORIAN
METHOD:PUBLISH
X-WR-CALNAME:Evangelisches Forum Bonn
X-ORIGINAL-URL:https://www.evforum-bonn.de
X-WR-CALDESC:Veranstaltungen für Evangelisches Forum Bonn
REFRESH-INTERVAL;VALUE=DURATION:PT1H
X-Robots-Tag:noindex
X-PUBLISHED-TTL:PT1H
BEGIN:VTIMEZONE
TZID:Europe/Berlin
BEGIN:DAYLIGHT
TZOFFSETFROM:+0100
TZOFFSETTO:+0200
TZNAME:CEST
DTSTART:20240331T010000
END:DAYLIGHT
BEGIN:STANDARD
TZOFFSETFROM:+0200
TZOFFSETTO:+0100
TZNAME:CET
DTSTART:20241027T010000
END:STANDARD
BEGIN:DAYLIGHT
TZOFFSETFROM:+0100
TZOFFSETTO:+0200
TZNAME:CEST
DTSTART:20250330T010000
END:DAYLIGHT
BEGIN:STANDARD
TZOFFSETFROM:+0200
TZOFFSETTO:+0100
TZNAME:CET
DTSTART:20251026T010000
END:STANDARD
BEGIN:DAYLIGHT
TZOFFSETFROM:+0100
TZOFFSETTO:+0200
TZNAME:CEST
DTSTART:20260329T010000
END:DAYLIGHT
BEGIN:STANDARD
TZOFFSETFROM:+0200
TZOFFSETTO:+0100
TZNAME:CET
DTSTART:20261025T010000
END:STANDARD
END:VTIMEZONE
BEGIN:VEVENT
DTSTART;TZID=Europe/Berlin:20251126T100000
DTEND;TZID=Europe/Berlin:20251126T110000
DTSTAMP:20260423T104140
CREATED:20250923T120025Z
LAST-MODIFIED:20250923T120106Z
UID:10006243-1764151200-1764154800@www.evforum-bonn.de
SUMMARY:Alle Stimmen - Musik für Alle!
DESCRIPTION:Einfach vorbeikommen\, mitsingen und Freude an der Musik teilen! Gemeinsam mit Lisanne Schröder\, Community Artist & Sozialarbeiterin\, laden wir alle Interessierten zum freien Singen ein – ohne Vorkenntnisse und mit viel Spaß am gemeinsamen Klang. Die Teilnahme ist kostenlos. Nordstadt-Bewohner*innen werden bevorzugt. \nTermine – jeweils 10 – 11 Uhr \nMittwoch\, 26. November 2025Mittwoch\, 10. Dezember 2025 \nOrt:Quartiersmanagement Macke-Viertel\, Vorgebirgsstraße 43\, 53119 Bonn (barrierefrei) \nAnmeldung:📧 projektanderssehen@ekir.de📞 0157 50458917🌐 www.anderssehen-bonn.de
URL:https://www.evforum-bonn.de/veranstaltung/alle-stimmen-musik-fuer-alle-26-11/
LOCATION:DRK-Quartiersbüro Macke-Viertel\, Vorgebirgsstraße 43\, Bonn\, NRW\, 53119\, Germany
CATEGORIES:Kunst - Musik - Literatur,Veranstaltungen von Gemeinden,Veranstaltungen von Institutionen und Verbänden,Veranstaltungsreihen
END:VEVENT
BEGIN:VEVENT
DTSTART;TZID=Europe/Berlin:20251126T190000
DTEND;TZID=Europe/Berlin:20251126T203000
DTSTAMP:20260423T104140
CREATED:20250923T121434Z
LAST-MODIFIED:20251124T115046Z
UID:10006245-1764183600-1764189000@www.evforum-bonn.de
SUMMARY:„Vom Antijudaismus zum Hass auf Israel“
DESCRIPTION:Wie lässt sich der Hass auf Israel erklären? Woher kommt der tief verwurzelte Antisemitismus\, der sowohl in der westlichen als auch in der arabischen Welt existiert? \nProf. Stephan Grigat beleuchtet die verschiedenen Gesichter des Antisemitismus – von christlichem und islamischem Antijudaismus über modernen Antisemitismus bis hin zum Antizionismus. Er untersucht\, wie diese Formen des Hasses nicht nur aus historischen Wurzeln hervorgehen\, sondern auch als Ideologien in politischen Bewegungen auf beiden Seiten des politischen Spektrums agieren – vom arabischen Nationalismus bis zum politischen Islam. \nMittwoch\, 26. November 2025\, 19:00 Uhr📍 Kirchenpavillon Bonn \n\n❗Die Veranstaltung ist ausgebucht\, bzgl. Plätze auf Warteliste melden Sie sich bitte bei: info@gcjz-bonn.de \n\nVeranstalter:GCJZ Bonn\, Konrad-Adenauer-Stiftung Bonn\, Evangelisches Forum Bonn\, Katholisches Bildungsforum\, Förderverein der Gedenkstätte Bonn\, Deutsch-Israelische Gesellschaft Bonn \nVeranstaltungsausschreibung des\nBüro Bundesstadt BonnPolitische Bildung in Nordrhein-Westfalen
URL:https://www.evforum-bonn.de/veranstaltung/vom-antijudaismus-zum-hass-auf-israel/
LOCATION:Ev. Kirchenpavillon Bonn\, Kaiserplatz 1a\, Bonn\, NRW\, 53113\, Germany
CATEGORIES:Aktuelles,Demokratie-Krieg,Kirchenpavillon,Lesung - Vortrag,Politik - Geschichte - Soziologie,Theologie / Philosophie,Veranstaltungen von Institutionen und Verbänden,Zentralprogramm
ATTACH;FMTTYPE=image/jpeg:https://www.evforum-bonn.de/wp-content/uploads/2025/09/Israel_Flagge_Pixabay-free_jorono.jpg
END:VEVENT
BEGIN:VEVENT
DTSTART;TZID=Europe/Berlin:20251126T200000
DTEND;TZID=Europe/Berlin:20251126T210000
DTSTAMP:20260423T104140
CREATED:20250407T111957Z
LAST-MODIFIED:20250407T111958Z
UID:10005628-1764187200-1764190800@www.evforum-bonn.de
SUMMARY:Religiöse Kindererziehung
DESCRIPTION:Impulse zur religiösen Kindererziehung – jeden Mittwoch (außer Ferien ab 20 Uhr in der Friedenskirche \nJeden Mittwochabend (außer in den Ferien) lädt Pastorin Annette Ziegler von 20–21 Uhr in die Friedenskirche Bonn-Kessenich ein\, um zentrale Fragen der religiösen Kindererziehung zu beleuchten. Begleitend durch ausgewählte Literatur und ergänzt durch Vorträge externer Fachleute bietet die Reihe praxisnahe Impulse und Raum für Austausch. \nWeitere Informationen: Tel. 0228 23 83 71 | E-Mail: buero@friedenskirche-bonn.de \n 
URL:https://www.evforum-bonn.de/veranstaltung/religioese-kindererziehung-2/2025-11-26/
LOCATION:Friedenskirche\, Franz-Bücheler-Str. 10\, Bonn\, 53129 \, Deutschland
CATEGORIES:Existenzielle Fragestellungen,Lesung - Vortrag,Pädagogische Bildung,Veranstaltungen von Gemeinden,Veranstaltungsreihen,Weiterbildung allgemein
ATTACH;FMTTYPE=image/png:https://www.evforum-bonn.de/wp-content/uploads/2025/04/Religioese-Kindererziehung-e1744024216838.png
END:VEVENT
END:VCALENDAR