BEGIN:VCALENDAR
VERSION:2.0
PRODID:-//Evangelisches Forum Bonn - ECPv6.15.20//NONSGML v1.0//EN
CALSCALE:GREGORIAN
METHOD:PUBLISH
X-ORIGINAL-URL:https://www.evforum-bonn.de
X-WR-CALDESC:Veranstaltungen für Evangelisches Forum Bonn
REFRESH-INTERVAL;VALUE=DURATION:PT1H
X-Robots-Tag:noindex
X-PUBLISHED-TTL:PT1H
BEGIN:VTIMEZONE
TZID:Europe/Berlin
BEGIN:DAYLIGHT
TZOFFSETFROM:+0100
TZOFFSETTO:+0200
TZNAME:CEST
DTSTART:20250330T010000
END:DAYLIGHT
BEGIN:STANDARD
TZOFFSETFROM:+0200
TZOFFSETTO:+0100
TZNAME:CET
DTSTART:20251026T010000
END:STANDARD
BEGIN:DAYLIGHT
TZOFFSETFROM:+0100
TZOFFSETTO:+0200
TZNAME:CEST
DTSTART:20260329T010000
END:DAYLIGHT
BEGIN:STANDARD
TZOFFSETFROM:+0200
TZOFFSETTO:+0100
TZNAME:CET
DTSTART:20261025T010000
END:STANDARD
BEGIN:DAYLIGHT
TZOFFSETFROM:+0100
TZOFFSETTO:+0200
TZNAME:CEST
DTSTART:20270328T010000
END:DAYLIGHT
BEGIN:STANDARD
TZOFFSETFROM:+0200
TZOFFSETTO:+0100
TZNAME:CET
DTSTART:20271031T010000
END:STANDARD
END:VTIMEZONE
BEGIN:VEVENT
DTSTART;TZID=Europe/Berlin:20260324T153000
DTEND;TZID=Europe/Berlin:20260324T170000
DTSTAMP:20260424T064433
CREATED:20260218T121058Z
LAST-MODIFIED:20260318T104852Z
UID:10006899-1774366200-1774371600@www.evforum-bonn.de
SUMMARY:Teil 2: Menschen\, Maschinen und Moral? • Workshop im Deutschen Museum
DESCRIPTION:Menschen\, Maschinen und Moral? Di\, 24. März 2026\, 15:30 – 17 Uhr\nWorkshop im Deutschen Museum\, Ahrstr. 45\, 53175 Bonn\, max. 25 Teilnehmer:innen.\n\nDie Teilnehmerinnen und Teilnehmer des Workshops lernen\, ethische Aspekte im Umgang mit Künstlicher Intelligenz zu erkennen. Sie analysieren ethische Dilemmata\, erarbeiten gemeinsam mögliche Lösungsansätze und diskutieren potenzielle Auswirkungen auf Mensch und Gesellschaft. Die Grundlagen von künstlichen Intelligenzen und neuronalen Netzen werden an den interaktiven Exponaten des Museums vermittelt. \nUm ein Bewusstsein für die Herausforderungen und Verantwortlichkeiten im Kontext lernender Maschinen zu erreichen\, werden gemeinsam Fragen zu moderner Kriegsführung\, Deepfakes\, KI und Medizin sowie emotionaler Robotik und Gesichtserkennung diskutiert. \n🎟️ Anmeldung zum Workshop:  info@stiftung-informationskompetenz.de
URL:https://www.evforum-bonn.de/veranstaltung/teil-2-menschen-maschinen-und-moral/
LOCATION:Deutsches Museum Bonn\, Ahrstraße 45\, Bonn\, NRW\, 53175\, Germany
CATEGORIES:Aktuelles,Ev. Forum Bonn,KI Künstliche Intelligenz - Digital,Medien.Mündigkeit,Online - Digital,Veranstaltungen von Institutionen und Verbänden,Veranstaltungsreihen,Zentralprogramm
ATTACH;FMTTYPE=image/jpeg:https://www.evforum-bonn.de/wp-content/uploads/2025/11/Medien.Muendigkeit-2026.jpg
END:VEVENT
BEGIN:VEVENT
DTSTART;TZID=Europe/Berlin:20260324T170000
DTEND;TZID=Europe/Berlin:20260324T183000
DTSTAMP:20260424T064433
CREATED:20260202T114124Z
LAST-MODIFIED:20260202T114343Z
UID:10006818-1774371600-1774377000@www.evforum-bonn.de
SUMMARY:"Mystik entdecken" Theologiekreis der Auferstehungskirche
DESCRIPTION:📅 4. Dienstag im Monat (außer in den Ferien)📍Gemeindehaus der Ev. Auferstehungskirchengemeinde \nSeit vielen Jahren trifft sich ein Kreis theologisch und spirituell interessierter Menschen\, um sich mit der Geschichte christlicher Mystik und der Vielfalt spiritueller Wege vertraut zu machen. Von den Wüstenvätern und -müttern des 4. Jahrhunderts über die Tradition der Klöster bis in die Gegenwart suchen Christinnen und Christen nach einem inneren Zugang zu Gott. \nIm Gespräch gehen wir Zeugnissen und Texten der Mystik nach\, lassen uns von deren Erfahrungen inspirieren und tauschen uns über die Bedeutung für unser eigenes Glaubensleben aus. \nDie Reihe lebt von gemeinsamer Neugier\, Erfahrung und Offenheit – neue Interessierte sind herzlich willkommen. \n📧 Ansprechpartner: Pfarrer Christian Knoche-Hager – christian.knoche-hager@ekir.de
URL:https://www.evforum-bonn.de/veranstaltung/mystik-entdecken-theologiekreis-der-auferstehungskirche-26/2026-03-24/
LOCATION:Gemeindehaus der Ev. Auferstehungskirche\, Haager Weg 40\, Bonn\, NRW\, 53127\, Germany
CATEGORIES:Bibel - Bibelgespräch,Bibel und Buch,Theologie / Philosophie,Veranstaltungen von Gemeinden,Veranstaltungsreihen
ATTACH;FMTTYPE=image/jpeg:https://www.evforum-bonn.de/wp-content/uploads/2025/07/Mystik-entdecken_Bildquelle-Ev.-Auferstehungskirche-Bonn.jpg
ORGANIZER;CN="Ev. Kirchengemeinde im Bonner Westen (Auferstehung)":MAILTO:carla.hornberger@ekir.de
END:VEVENT
BEGIN:VEVENT
DTSTART;TZID=Europe/Berlin:20260324T190000
DTEND;TZID=Europe/Berlin:20260324T200000
DTSTAMP:20260424T064433
CREATED:20260202T120009Z
LAST-MODIFIED:20260202T120034Z
UID:10006831-1774378800-1774382400@www.evforum-bonn.de
SUMMARY:„Expedition Glaube“
DESCRIPTION:Sie hat die Frage nach Gott nicht losgelassen? Sie haben den Eindruck\, dass es mehr geben muss\, als was vor Augen liegt? Sie möchten sich einmal solide informieren\, was der Kerngehalt des christlichen Glaubens ist? \nDann laden wir Sie zu einer Expedition ein! Wir wollen mit Impulsen und viel Raum für Gespräch den Glauben entdecken. Die Expedition läuft an sechs Abendterminen im Gemeindehaus jeweils um 19.00 Uhr.\nDie erste Etappe beginnt am Dienstag\, dem 24. Februar 2026. \nMelden Sie sich gerne im Gemeindebüro zur ersten Etappe an oder fragen Sie bei Pfr. Steffen Tiemann nach. Wir freuen uns auf Sie! \nTermine und Themen: \n\n24. März – Neustart: Vom Christwerden und bleiben\n31. März – Abschluss-Fest
URL:https://www.evforum-bonn.de/veranstaltung/expedition-glaube-26-03-24/
LOCATION:Gemeindehaus der Ev. Auferstehungskirche\, Haager Weg 40\, Bonn\, NRW\, 53127\, Germany
CATEGORIES:Bibel - Bibelgespräch,Bibel und Buch,Philosophisch-psychologische Kaffeehausgespräche,Politik - Geschichte - Soziologie,Theologie / Philosophie,Veranstaltungen von Gemeinden,Veranstaltungsreihen
ATTACH;FMTTYPE=image/jpeg:https://www.evforum-bonn.de/wp-content/uploads/2025/03/religion-3428650_640.jpg
ORGANIZER;CN="Ev. Kirchengemeinde im Bonner Westen (Auferstehung)":MAILTO:carla.hornberger@ekir.de
END:VEVENT
BEGIN:VEVENT
DTSTART;TZID=Europe/Berlin:20260324T190000
DTEND;TZID=Europe/Berlin:20260324T203000
DTSTAMP:20260424T064433
CREATED:20251215T174527Z
LAST-MODIFIED:20251215T174527Z
UID:10006418-1774378800-1774384200@www.evforum-bonn.de
SUMMARY:Mütter verändern die Welt! Vortrag
DESCRIPTION:Warum Mütterstimmen in der Politik fehlen – und warum wir sie jetzt brauchen \nMütter sind tragende Pfeiler unserer Gesellschaft: Sie übernehmen fürsorgende Arbeit\, meistern mentale Last\, koordinieren Haushalt\, Familie und oft auch Beruf. Dennoch sind ihre Perspektiven in politischen Entscheidungen häufig unterrepräsentiert – oder gar unsichtbar. Sarah Zöllner zeigt\, warum das so ist – und welchen Unterschied es macht\, wenn Mütter politische Macht übernehmen. Wenn Mütter in politische Entscheidungsprozesse einbezogen sind\, verändert sich nicht nur Familienpolitik – es verändert sich\, wie Gesellschaft gestaltet wird: gerecht\, inklusiv\, fürsorglich. \nReferentin: Sarah Zöllner • Freie Journalistin und Autorin \n🔗 Anmeldung Zoom Link •  Zugang erfolgt nach Anmeldung \nDr. Kathrin S. Kürzinger\, Studienleiterin\nThemenbereich: Transformation von Arbeit und Wirtschaft\nhttps://www.kirche-arbeit-wirtschaft.de/\nTel.: 0228 479898-50 \n  \n▶️ Weitere Informationen finden Sie auf der Veranstaltungsseite der Ev. Akademie im Rheinland \nVeranstalter: Evangelische Akademie im Rheinland in Kooperation mit Haus der Familie Bonn | Frauenbeauftragte des KK Bad Godesberg-Voreifel | eeb an Sieg und Rhein | Gleichstellungsstelle Bonn | Gleichstellungsstelle Rhein-Sieg-Kreis und dem Evangelischen Forum Bonn \nEqual Care Day 2026_Kooperationsreihe
URL:https://www.evforum-bonn.de/veranstaltung/muetter-veraendern-die-welt-vortrag/
LOCATION:ONLINE via Zoom\, externer Zoom Link\, Germany
CATEGORIES:Aktuelles,Ev. Forum Bonn,Lesung - Vortrag,Online - Digital,Online Veranstaltung,Veranstaltungen von Gemeinden,Veranstaltungen von Institutionen und Verbänden,Veranstaltungsreihen,Zentralprogramm
ATTACH;FMTTYPE=image/jpeg:https://www.evforum-bonn.de/wp-content/uploads/2026/03/Sarah-Zoellner.-Foto-von-Sofia-Wagner-600-300x200-1.jpg
ORGANIZER;CN="Ev. Akademie im Rheinland":MAILTO:info@akademie.ekir.de
END:VEVENT
BEGIN:VEVENT
DTSTART;TZID=Europe/Berlin:20260324T193000
DTEND;TZID=Europe/Berlin:20260324T203000
DTSTAMP:20260424T064433
CREATED:20260220T085434Z
LAST-MODIFIED:20260220T090009Z
UID:10006914-1774380600-1774384200@www.evforum-bonn.de
SUMMARY:Lindy Hop | Offener Tanzunterricht
DESCRIPTION:Lindy Hop ist ein beschwingter Swing-Tanzstil mit Wurzeln in der afroamerikanischen Kultur der 1930er Jahre. In diesem offenen Tanzunterricht steht nicht nur die Freude an Bewegung im Mittelpunkt\, sondern auch das gemeinschaftliche Lernen: Vom ersten Grundschritt bis zur Improvisation können alle – mit oder ohne Vorkenntnisse – neue Schritte erlernen\, Koordination und Rhythmusgefühl schulen und dabei die Geschichte eines kulturell bedeutenden Tanzstils kennenlernen. \nDie Abende bieten Raum für Begegnung\, körperliche Aktivität und kulturelle Bildung – immer in respektvoller Atmosphäre und mit viel Spaß. Kommen Sie vorbei\, tanzen Sie mit! \n📍 Ort: Melanchthonhaus der Kreuzkirche📩 Anmeldung & Infos: lindyhop@justmail.de🕒 Wöchentlich dienstags um 19:30 Uhr (außer ggf. in den Ferien und an Feiertagen) \n❗ diese Veranstaltungsreihe wird uU als fortlaufender Termin auch in den Ferien angezeigt – bitte erkundigen Sie sich beim Veranstalter.
URL:https://www.evforum-bonn.de/veranstaltung/lindy-hop-2026/2026-03-24/
LOCATION:Melanchthon Haus der Kreuzkirche\, An der Evangelischen Kirche 6\, Bonn\, NRW\, 53113\, Germany
CATEGORIES:Gesundheit - Krankheit - Medizin,Lindy Hop,Tanz - Bewegung - Gesundheit,Veranstaltungen von Gemeinden,Veranstaltungsreihen
ATTACH;FMTTYPE=image/jpeg:https://www.evforum-bonn.de/wp-content/uploads/2025/07/Lindy-Hop_Foto-by-Lindy-Hop-e1753443452177.jpg
END:VEVENT
BEGIN:VEVENT
DTSTART;TZID=Europe/Berlin:20260324T193000
DTEND;TZID=Europe/Berlin:20260324T210000
DTSTAMP:20260424T064433
CREATED:20260319T143229Z
LAST-MODIFIED:20260319T143425Z
UID:10007143-1774380600-1774386000@www.evforum-bonn.de
SUMMARY:Ökumenischer Bibelgesprächskreis Auerberg
DESCRIPTION:am 24. März 2026 – 19:30 Uhr im Gemeindeforum Auerberg \n…die sog. Konfessionen Jeremias gehören zu den markanten Besonderheiten des Prophetenbuches und stehen in der prophetischen Literatur fast einzigartig da. Die gängige Bezeichnung ist irreführend\, da es sich nicht um „Bekenntnisse“\, sondern um Klagegebete an Gott handelt. Zu ihnen gehören fünf Texte: Jeremia 11\,18-12\,6; 15\,10-21; 17\,14-18; 18\,18-23; 20\,7-18. Wenn Sie Zeit und Lust haben\, lesen Sie gerne alle fünf Abschnitte; für unser Gespräch wäre das sicher hilfreich. Schwerpunktmäßig werden wir aber von der zweiten Klage 15\,10-21 ausgehen. \n\nDazu lade ich Sie herzlich ein: am Dienstag\, den 24.03.26\, um 19.30 Uhr im Gemeindeforum Auerberg. Da dort parallel eine Filmvorführung mit Publikumsgespräch stattfindet\, können wir uns nicht ebenerdig treffen\, sondern müssen die Treppe ins Hillertzimmer hochgehen. Eine andere Ausweichmöglichkeit gibt es leider nicht. Herzliche Grüße – Günther Röhser \n\n„Herzlich willkommen zu unserem Bibelgesprächskreis!\nIn einer offenen und inspirierenden Runde lesen und diskutieren wir gemeinsam biblische Texte\, tauschen Gedanken aus und lassen uns von neuen Perspektiven bereichern. Jede und jeder ist herzlich eingeladen\, teilzunehmen!“ \nÖkumenischer Bibelkreis Auerberg
URL:https://www.evforum-bonn.de/veranstaltung/kumenischer-bibelgesprchskreis-auerberg26-03/
LOCATION:Ev. Gemeindeforum Auerberg\, Helsinkistraße 4\, Bonn\, 53117\, Deutschland
CATEGORIES:Bibel - Bibelgespräch,Bibel und Buch,Lesung - Vortrag,Theologie / Philosophie,Veranstaltungen von Gemeinden,Veranstaltungsreihen
ATTACH;FMTTYPE=image/jpeg:https://www.evforum-bonn.de/wp-content/uploads/2025/01/Oekumene_auerberg.jpg
END:VEVENT
END:VCALENDAR