BEGIN:VCALENDAR
VERSION:2.0
PRODID:-//Evangelisches Forum Bonn - ECPv6.15.20//NONSGML v1.0//EN
CALSCALE:GREGORIAN
METHOD:PUBLISH
X-WR-CALNAME:Evangelisches Forum Bonn
X-ORIGINAL-URL:https://www.evforum-bonn.de
X-WR-CALDESC:Veranstaltungen für Evangelisches Forum Bonn
REFRESH-INTERVAL;VALUE=DURATION:PT1H
X-Robots-Tag:noindex
X-PUBLISHED-TTL:PT1H
BEGIN:VTIMEZONE
TZID:Europe/Berlin
BEGIN:DAYLIGHT
TZOFFSETFROM:+0100
TZOFFSETTO:+0200
TZNAME:CEST
DTSTART:20250330T010000
END:DAYLIGHT
BEGIN:STANDARD
TZOFFSETFROM:+0200
TZOFFSETTO:+0100
TZNAME:CET
DTSTART:20251026T010000
END:STANDARD
BEGIN:DAYLIGHT
TZOFFSETFROM:+0100
TZOFFSETTO:+0200
TZNAME:CEST
DTSTART:20260329T010000
END:DAYLIGHT
BEGIN:STANDARD
TZOFFSETFROM:+0200
TZOFFSETTO:+0100
TZNAME:CET
DTSTART:20261025T010000
END:STANDARD
BEGIN:DAYLIGHT
TZOFFSETFROM:+0100
TZOFFSETTO:+0200
TZNAME:CEST
DTSTART:20270328T010000
END:DAYLIGHT
BEGIN:STANDARD
TZOFFSETFROM:+0200
TZOFFSETTO:+0100
TZNAME:CET
DTSTART:20271031T010000
END:STANDARD
END:VTIMEZONE
BEGIN:VEVENT
DTSTART;TZID=Europe/Berlin:20260325T150000
DTEND;TZID=Europe/Berlin:20260325T170000
DTSTAMP:20260424T051705
CREATED:20251107T084631Z
LAST-MODIFIED:20251107T085229Z
UID:10006346-1774450800-1774458000@www.evforum-bonn.de
SUMMARY:Offener Nachmittag für Senioren - Ev. Kreuzkirche
DESCRIPTION:Das Universalgenie – Leonardo da Vinci mit Dr. Ellen Wagner \nDie Evangelische Kreuzkirchengemeinde Bonn lädt herzlich zum Offenen Nachmittag ein. \nIn gemütlicher Atmosphäre erwarten Sie Vorträge\, Musik\, Gespräche und besondere Themen\, die Glauben\, Kultur und Leben miteinander verbinden.Neben geistlichen Impulsen bleibt auch Zeit für Begegnung und Gespräch bei Kaffee und Kuchen. \n📅 Mittwochs\, 15 bis 17 Uhr📍 Gemeindezentrum der Kreuzkirche\, An der Ev. Kirche 6\, Bonn
URL:https://www.evforum-bonn.de/veranstaltung/offener-nachmittag-fuer-senioren-26-03-25/
LOCATION:Gemeindehaus/ -zentrum der Ev. Kreuzkirche\, An der Evangelischen Kirche 6\, Bonn\, NRW\, 53113
CATEGORIES:Angebote für Senioren,Seniorenbildung,Seniorenkreis -nachmittag,Veranstaltungen von Gemeinden,Veranstaltungsreihen
ATTACH;FMTTYPE=image/jpeg:https://www.evforum-bonn.de/wp-content/uploads/2022/12/Senior-e1751876645808.jpg
END:VEVENT
BEGIN:VEVENT
DTSTART;TZID=Europe/Berlin:20260325T150000
DTEND;TZID=Europe/Berlin:20260325T180000
DTSTAMP:20260424T051705
CREATED:20260128T131735Z
LAST-MODIFIED:20260318T173125Z
UID:10006726-1774450800-1774461600@www.evforum-bonn.de
SUMMARY:Treffpunkt IT
DESCRIPTION: Der Treffpunkt IT in den Räumen der Emmaus-Kirche auf dem Brüser Berg ist seit über zehn Jahren eine im ganzen Kirchenkreis bekannte Veranstaltung. Parallel zur Hilfe bei Computerproblemen hat nun auch die Smartphoneberatung Einzug gehalten.\nJeden Mittwoch ab 15.00 Uhr (außerhalb der Schulferien) \nZusätzlich werden Workshops für Apps und technische Spielereien angeboten oder auch Vorträge und Schulungen zu besonderen Themen. Weitere Informationen dazu finden Sie aktuell auch immer auf der Internet-Seite der Gemeinde : https://hardtberggemeinde.de/ \nAnsprechpartner und Kontakt:\nKarsten Bosse\, Tel. 0152 32 79 53 78  – um Anmeldung möglichst per WhatsApp wird gebeten! –\nhardtberg@ekir.de \nParkmöglichkeit: Parkplatz Fahrenheitstraße (vom Brüser Damm kommend) \nggf. NICHT in den Ferien
URL:https://www.evforum-bonn.de/veranstaltung/treffpunkt-it-2026/2026-03-25/
LOCATION:Gemeindezentrum Emmaus-Kirche\, Borsigallee 23\, Bonn\, 53125\, Deutschland
CATEGORIES:Veranstaltungen von Gemeinden,Veranstaltungsreihen,Weiterbildung allgemein
ATTACH;FMTTYPE=image/jpeg:https://www.evforum-bonn.de/wp-content/uploads/2025/05/hands-820272_640-e1746615511644.jpg
ORGANIZER;CN="Ev. Kirchengemeinde im Bonner Westen (Hardtberg)":MAILTO:hardtberg@ekir.de
END:VEVENT
BEGIN:VEVENT
DTSTART;TZID=Europe/Berlin:20260325T190000
DTEND;TZID=Europe/Berlin:20260325T210000
DTSTAMP:20260424T051705
CREATED:20260205T115040Z
LAST-MODIFIED:20260209T202113Z
UID:10006873-1774465200-1774472400@www.evforum-bonn.de
SUMMARY:Lebenswege im jüdischen Glauben - Rituale\, Übergänge\, Identität
DESCRIPTION:Der Vortrag widmet sich den großen persönlichen Übergangsriten im Judentum – von Geburt und Bar/Bat Mizwa über Hochzeit bis hin zu Abschiedsritualen.\nRabbiner Dr. Daniel S. Katz zeigt\, wie diese Feste das individuelle Leben strukturieren\, Gemeinschaft stiften und religiöse Identität stärken. Er verbindet historische Hintergründe\nmit heutigen Formen gelebter jüdischer Tradition. \n🎙️ Rabbiner Dr. Daniel S. Katz\, Liberale Jüdische Gemeinde Köln \n🎟️ wir Sie um eine digitale Anmeldung oder durch eine Mail an info@bildungsforum-bonn.de \n\nDie Reihe „Wie ist Gott in der Welt?“ wird die großen Religionen dieser Welt vorstellen. \nDie Reihe möchte Geschichte und Glaubensgrundsätze\, Traditionen und Feste nahebringen und wird dabei verschiedene Wege gehen: Wir werden Vorträge anbieten\, in denen je eine Religion historisch und theologisch in den Blick genommen wird; wir wollen Räume besuchen\, in denen sich die Gläubigen einer Religion zu Gebet und Gottesdienst versammeln; wir werden Orte suchen\, wo in der Stadt und auf Friedhöfen an verstorbene Menschen erinnert wird; wir möchten versuchen\, Elemente von Fest und Tanz zu erleben und zu teilen. Als erste der drei abrahamischen\, monotheistischen Religionen werden wir das Judentum in den Mittelpunkt stellen. Es folgen das Christentum und der Islam. Daran anschließend werden wir den Buddhismus\, den Hinduismus und den Daoismus vorstellen. \nWie ist Gott in der Welt? Wie können wir Gott begegnen? Welche Wege und Orte\, welche Rituale und Traditionen gibt es?  \nWie prägen Geschichte\, Regeln\, Schriften und Dogmen den Glauben? Die einzelnen Veranstaltungen laden Sie ein zum Zuhören\, Nachfragen und – wenn es sich anbietet – bei Wasser\, Wein und Salzigem miteinander ins Gespräch zu kommen. \n🎟️ Um die Nachmittage und Abende planen zu können\, bitten wir Sie um eine digitale Anmeldung oder durch eine Mail an info@bildungsforum-bonn.de.\nGerne können Sie aber auch spontan kommen. Die Teilnahme ist kostenfrei. Wir bitten Sie am Abend um eine finanzielle Unterstützung.
URL:https://www.evforum-bonn.de/veranstaltung/persnliche-feste-im-judentum-26-03-25/
LOCATION:Katholische Familienbildungsstätte Bonn\, Lennéstraße 5 \, Bonn\, 53113\, Deutschland
CATEGORIES:Aktuelles,Migration - Kultur - Kultureller Austausch,Philosophisch-psychologische Kaffeehausgespräche,Politik - Geschichte - Soziologie,Thematische Schwerpunkte,Theologie / Philosophie,Veranstaltungen von Gemeinden,Veranstaltungen von Institutionen und Verbänden,Veranstaltungsreihen,Zentralprogramm
ATTACH;FMTTYPE=image/jpeg:https://www.evforum-bonn.de/wp-content/uploads/2026/02/Wie-ist-Gott-in-der-Welt_Flyer.jpg
ORGANIZER;CN="Evangelisches Forum Bonn":MAILTO:info@evforum-bonn.de
END:VEVENT
END:VCALENDAR