BEGIN:VCALENDAR
VERSION:2.0
PRODID:-//Evangelisches Forum Bonn - ECPv6.15.20//NONSGML v1.0//EN
CALSCALE:GREGORIAN
METHOD:PUBLISH
X-WR-CALNAME:Evangelisches Forum Bonn
X-ORIGINAL-URL:https://www.evforum-bonn.de
X-WR-CALDESC:Veranstaltungen für Evangelisches Forum Bonn
REFRESH-INTERVAL;VALUE=DURATION:PT1H
X-Robots-Tag:noindex
X-PUBLISHED-TTL:PT1H
BEGIN:VTIMEZONE
TZID:Europe/Berlin
BEGIN:DAYLIGHT
TZOFFSETFROM:+0100
TZOFFSETTO:+0200
TZNAME:CEST
DTSTART:20250330T010000
END:DAYLIGHT
BEGIN:STANDARD
TZOFFSETFROM:+0200
TZOFFSETTO:+0100
TZNAME:CET
DTSTART:20251026T010000
END:STANDARD
BEGIN:DAYLIGHT
TZOFFSETFROM:+0100
TZOFFSETTO:+0200
TZNAME:CEST
DTSTART:20260329T010000
END:DAYLIGHT
BEGIN:STANDARD
TZOFFSETFROM:+0200
TZOFFSETTO:+0100
TZNAME:CET
DTSTART:20261025T010000
END:STANDARD
BEGIN:DAYLIGHT
TZOFFSETFROM:+0100
TZOFFSETTO:+0200
TZNAME:CEST
DTSTART:20270328T010000
END:DAYLIGHT
BEGIN:STANDARD
TZOFFSETFROM:+0200
TZOFFSETTO:+0100
TZNAME:CET
DTSTART:20271031T010000
END:STANDARD
END:VTIMEZONE
BEGIN:VEVENT
DTSTART;TZID=Europe/Berlin:20260326T153000
DTEND;TZID=Europe/Berlin:20260326T163000
DTSTAMP:20260424T040036
CREATED:20260120T175619Z
LAST-MODIFIED:20260302T100350Z
UID:10006448-1774539000-1774542600@www.evforum-bonn.de
SUMMARY:„Mit Gefühl! – Sieben Wochen ohne Härte“
DESCRIPTION:In diesem Jahr bieten wir eine Fastengruppe an\, die sich wöchentlich trifft. Die evangelische Fastenaktion lädt dazu ein\, die Zeit zwischen Aschermittwoch und Ostern bewusst zu gestalten. Statt dem klassischen Verzicht auf Essen steht in diesem Jahr eine innere Haltung im Mittelpunkt: freundlicher\, achtsamer und weicher mit sich selbst und anderen umgehen. \nMit unserer Fastengruppe laden wir dazu ein\, neue Wege zu entdecken\, Belastendes loszulassen und gemeinsam zu überlegen\, wie wir mehr Mitgefühl in unseren Alltag bringen können – im Denken\, Reden und Handeln. \nDie Gruppe trifft sich in der Fastenzeit (19. Februar bis 2. April) jeden Donnerstag von 15:30 Uhr bis 16:30 Uhr unter der Leitung von Pfarrer Dirk Wolter im Kirchenpavillon. \n🎟️ ohne Anmeldung \nWillkommen | 7 Wochen Ohne • weitere Informationen zur Aktion
URL:https://www.evforum-bonn.de/veranstaltung/mit-gefuehl-sieben-wochen-ohne-haerte/2026-03-26/
LOCATION:Ev. Kirchenpavillon Bonn\, Kaiserplatz 1a\, Bonn\, NRW\, 53113\, Germany
CATEGORIES:Aktuelles,Ev. Forum Bonn,Gesundheit - Krankheit - Medizin,Kirchenpavillon,Veranstaltungsreihen
ATTACH;FMTTYPE=image/jpeg:https://www.evforum-bonn.de/wp-content/uploads/2026/01/RGB-scaled.jpg
ORGANIZER;CN="Evangelisches Forum Bonn":MAILTO:info@evforum-bonn.de
END:VEVENT
BEGIN:VEVENT
DTSTART;TZID=Europe/Berlin:20260326T193000
DTEND;TZID=Europe/Berlin:20260326T210000
DTSTAMP:20260424T040036
CREATED:20251125T095557Z
LAST-MODIFIED:20251125T102042Z
UID:10006372-1774553400-1774558800@www.evforum-bonn.de
SUMMARY:Teil 1: Buch-Gespräch • Online
DESCRIPTION:Die Veranstaltungsreihe „Medien.Mündigkeit 2026: KI.Perspektiven“ lädt dazu ein\, Entwicklungen der Künstlichen Intelligenz besser zu verstehen\, kritisch einzuordnen und verantwortungsvoll zu nutzen. In Vorträgen\, Workshops und Buch.Gesprächen erhalten Interessierte verständliche Einblicke in Chancen\, Risiken und gesellschaftliche Auswirkungen von KI. \nDie Veranstaltungen sind kostenfrei und richten sich an alle\, die Orientierung im digitalen Wandel suchen. \nKooperationspartner: Evangelisches Forum Bonn\, Evangelische Akademie im Rheinland\, Stiftung Informationskompetenz\, Stadtbibliothek Bonn\, VHS Bonn\, Katholisches Bildungswerk. \n📍 Online: 26. 2. – 12. 3. – 26. 3.\, jeweils Do\, 19.30 – 21 Uhr\, Moderation: Dr. Bettina Förster \n🎟️ Anmeldung: Ev. Akademie im Rheinland\, info@akademie.ekir.de \nCover „Weiß die KI. dass sie nichts weiß?“ (c) Heyne Verlag
URL:https://www.evforum-bonn.de/veranstaltung/medien-muendigkeit-26-03-26/
LOCATION:ONLINE
CATEGORIES:Aktuelles,Ev. Forum Bonn,KI Künstliche Intelligenz - Digital,Medien.Mündigkeit,Online - Digital,Online Veranstaltung,Veranstaltungen von Institutionen und Verbänden,Veranstaltungsreihen,Zentralprogramm
ATTACH;FMTTYPE=image/jpeg:https://www.evforum-bonn.de/wp-content/uploads/2025/11/Medien.Muendigkeit-2026.jpg
ORGANIZER;CN="Ev. Akademie im Rheinland":MAILTO:info@akademie.ekir.de
END:VEVENT
END:VCALENDAR