BEGIN:VCALENDAR
VERSION:2.0
PRODID:-//Evangelisches Forum Bonn - ECPv6.15.20//NONSGML v1.0//EN
CALSCALE:GREGORIAN
METHOD:PUBLISH
X-WR-CALNAME:Evangelisches Forum Bonn
X-ORIGINAL-URL:https://www.evforum-bonn.de
X-WR-CALDESC:Veranstaltungen für Evangelisches Forum Bonn
REFRESH-INTERVAL;VALUE=DURATION:PT1H
X-Robots-Tag:noindex
X-PUBLISHED-TTL:PT1H
BEGIN:VTIMEZONE
TZID:Europe/Berlin
BEGIN:DAYLIGHT
TZOFFSETFROM:+0100
TZOFFSETTO:+0200
TZNAME:CEST
DTSTART:20250330T010000
END:DAYLIGHT
BEGIN:STANDARD
TZOFFSETFROM:+0200
TZOFFSETTO:+0100
TZNAME:CET
DTSTART:20251026T010000
END:STANDARD
BEGIN:DAYLIGHT
TZOFFSETFROM:+0100
TZOFFSETTO:+0200
TZNAME:CEST
DTSTART:20260329T010000
END:DAYLIGHT
BEGIN:STANDARD
TZOFFSETFROM:+0200
TZOFFSETTO:+0100
TZNAME:CET
DTSTART:20261025T010000
END:STANDARD
BEGIN:DAYLIGHT
TZOFFSETFROM:+0100
TZOFFSETTO:+0200
TZNAME:CEST
DTSTART:20270328T010000
END:DAYLIGHT
BEGIN:STANDARD
TZOFFSETFROM:+0200
TZOFFSETTO:+0100
TZNAME:CET
DTSTART:20271031T010000
END:STANDARD
END:VTIMEZONE
BEGIN:VEVENT
DTSTART;TZID=Europe/Berlin:20260422T150000
DTEND;TZID=Europe/Berlin:20260422T170000
DTSTAMP:20260423T222258
CREATED:20251107T085636Z
LAST-MODIFIED:20251107T085747Z
UID:10006350-1776870000-1776877200@www.evforum-bonn.de
SUMMARY:Offener Nachmittag für Senioren - Ev. Kreuzkirche
DESCRIPTION:„Gott lacht zuletzt“ – Die kirchliche Tradition des Osterlachens mit Pfarrerin Dr. Anne Kathrin Quaas \nDie Evangelische Kreuzkirchengemeinde Bonn lädt herzlich zum Offenen Nachmittag ein. \nIn gemütlicher Atmosphäre erwarten Sie Vorträge\, Musik\, Gespräche und besondere Themen\, die Glauben\, Kultur und Leben miteinander verbinden.Neben geistlichen Impulsen bleibt auch Zeit für Begegnung und Gespräch bei Kaffee und Kuchen. \n📅 Mittwochs\, 15 bis 17 Uhr📍 Gemeindezentrum der Kreuzkirche\, An der Ev. Kirche 6\, Bonn
URL:https://www.evforum-bonn.de/veranstaltung/offener-nachmittag-fuer-senioren-26-04-22/
LOCATION:Gemeindehaus/ -zentrum der Ev. Kreuzkirche\, An der Evangelischen Kirche 6\, Bonn\, NRW\, 53113
CATEGORIES:Angebote für Senioren,Seniorenbildung,Seniorenkreis -nachmittag,Veranstaltungen von Gemeinden,Veranstaltungsreihen
ATTACH;FMTTYPE=image/jpeg:https://www.evforum-bonn.de/wp-content/uploads/2022/12/Senior-e1751876645808.jpg
END:VEVENT
BEGIN:VEVENT
DTSTART;TZID=Europe/Berlin:20260422T150000
DTEND;TZID=Europe/Berlin:20260422T180000
DTSTAMP:20260423T222258
CREATED:20260128T131735Z
LAST-MODIFIED:20260318T173125Z
UID:10006730-1776870000-1776880800@www.evforum-bonn.de
SUMMARY:Treffpunkt IT
DESCRIPTION: Der Treffpunkt IT in den Räumen der Emmaus-Kirche auf dem Brüser Berg ist seit über zehn Jahren eine im ganzen Kirchenkreis bekannte Veranstaltung. Parallel zur Hilfe bei Computerproblemen hat nun auch die Smartphoneberatung Einzug gehalten.\nJeden Mittwoch ab 15.00 Uhr (außerhalb der Schulferien) \nZusätzlich werden Workshops für Apps und technische Spielereien angeboten oder auch Vorträge und Schulungen zu besonderen Themen. Weitere Informationen dazu finden Sie aktuell auch immer auf der Internet-Seite der Gemeinde : https://hardtberggemeinde.de/ \nAnsprechpartner und Kontakt:\nKarsten Bosse\, Tel. 0152 32 79 53 78  – um Anmeldung möglichst per WhatsApp wird gebeten! –\nhardtberg@ekir.de \nParkmöglichkeit: Parkplatz Fahrenheitstraße (vom Brüser Damm kommend) \nggf. NICHT in den Ferien
URL:https://www.evforum-bonn.de/veranstaltung/treffpunkt-it-2026/2026-04-22/
LOCATION:Gemeindezentrum Emmaus-Kirche\, Borsigallee 23\, Bonn\, 53125\, Deutschland
CATEGORIES:Veranstaltungen von Gemeinden,Veranstaltungsreihen,Weiterbildung allgemein
ATTACH;FMTTYPE=image/jpeg:https://www.evforum-bonn.de/wp-content/uploads/2025/05/hands-820272_640-e1746615511644.jpg
ORGANIZER;CN="Ev. Kirchengemeinde im Bonner Westen (Hardtberg)":MAILTO:hardtberg@ekir.de
END:VEVENT
BEGIN:VEVENT
DTSTART;TZID=Europe/Berlin:20260422T180000
DTEND;TZID=Europe/Berlin:20260422T193000
DTSTAMP:20260423T222258
CREATED:20260414T074437Z
LAST-MODIFIED:20260414T074619Z
UID:10007408-1776880800-1776886200@www.evforum-bonn.de
SUMMARY:Recht und Realpolitik?
DESCRIPTION:Völkerrecht zwischen Anspruch und politischer Wirklichkeit \nWelche Rolle spielt das Völkerrecht heute noch für Frieden und Sicherheit? Ist es weiterhin eine tragfähige Grundlage internationaler Ordnung – oder wird es zunehmend durch machtpolitische Interessen verdrängt? \nDer Vortrag geht diesen Fragen nach und beleuchtet aktuelle Entwicklungen in der internationalen Politik. Dabei werden insbesondere die Bedeutung von Abrüstungsverträgen\, globale Machtverschiebungen und sicherheitspolitische Spannungen thematisiert. \nDer Referent gibt Einblicke in die Rolle des Völkerrechts in Vergangenheit und Gegenwart und eröffnet Perspektiven für die Zukunft. \n\n👤 Referent: Dr. Hendrik Simon (Leibniz-Institut für Friedens- und Konfliktforschung\, Frankfurt a. M.) \n📍 Mittwoch\, 22. April 2026\, 18:00 Uhr📌 Volkshochschule Bonn (VHS Bonn)\, Mülheimer Platz 1\, 53111 Bonn\, Raum 3.49 \n💡 Eintritt frei📧 Anmeldung erforderlich (Kurs 1501) \n   Eine Veranstaltung der Volkshochschule Bonn (VHS) • Startseite | Ihre vhs Bonn
URL:https://www.evforum-bonn.de/veranstaltung/recht-und-realpolitik/
LOCATION:Volkshochschule Bonn (VHS Bonn)\, Mülheimer Platz 1\, Bonn\, NRW\, 53111\, Germany
CATEGORIES:Veranstaltungen von Institutionen und Verbänden,Volkshochschule Bonn (VHS)
ATTACH;FMTTYPE=image/png:https://www.evforum-bonn.de/wp-content/uploads/2025/04/logo-volkshochschule-Bonn.png
END:VEVENT
BEGIN:VEVENT
DTSTART;TZID=Europe/Berlin:20260422T190000
DTEND;TZID=Europe/Berlin:20260422T200000
DTSTAMP:20260423T222258
CREATED:20260422T080214Z
LAST-MODIFIED:20260422T080748Z
UID:10007411-1776884400-1776888000@www.evforum-bonn.de
SUMMARY:Treffpunkt Bibel
DESCRIPTION:Gemeinsam werden biblische Texte gelesen\, hinterfragt und in ihren Bedeutungen für das eigene Leben entdeckt. Der Austausch fördert das Verständnis für religiöse Zusammenhänge und eröffnet neue Perspektiven auf zentrale Glaubensthemen. \nVortrag und Dialog mit David Renz 📍Gemeindesaal Christuskirche
URL:https://www.evforum-bonn.de/veranstaltung/treffpunkt-bibel/
LOCATION:Gemeindesaal Christuskirche\, Wurzerstr. 31\, Bonn - Bad Godesberg\, NRW\, 53175\, Germany
CATEGORIES:Bibel - Bibelgespräch,Ev. Thomas-Kirchengemeinde,Lesung - Vortrag,Thematische Schwerpunkte,Theologie / Philosophie,Veranstaltungen von Gemeinden
ATTACH;FMTTYPE=image/jpeg:https://www.evforum-bonn.de/wp-content/uploads/2025/07/Kinderbibeltag_Schoepfung.jpg
END:VEVENT
BEGIN:VEVENT
DTSTART;TZID=Europe/Berlin:20260422T190000
DTEND;TZID=Europe/Berlin:20260422T203000
DTSTAMP:20260423T222258
CREATED:20251125T115951Z
LAST-MODIFIED:20260318T105142Z
UID:10006383-1776884400-1776889800@www.evforum-bonn.de
SUMMARY:Teil 2: KI und Kolonialismus: Wer zahlt den Preis für unseren Fortschritt?
DESCRIPTION:KI und Kolonialismus: Wer zahlt den Preis für unseren Fortschritt?\n22. April 2026\, 19:00 – 20:30 Uhr\, Kirchenpavillon\, Kaiserplatz 1a\, 53113 Bonn.\n \n\nDie Entwicklungen der Künstlichen Intelligenz bringen viele Vorteile. Aber an diesem Abend wollen wir über die Schattenseiten sprechen. Neben der „Geisterarbeit“ hinter KI-Anwendungen und ökologischen Fragen geht es um die Aspekte Daten\, Diskriminierung\, Überwachung und Geopolitik. Was müssen wir wissen und wie sollten wir damit als Gesellschaft und Individuum damit umgehen?\nIngo Dachwitz ist Journalist und Mitautor des Buches „Digitaler Kolonialismus. Wie Tech-Konzerne und Großmächte die Welt unter sich aufteilen“ (Beck Verlag 2025). Das Buch von ihm und Sven Hilbig war 2025 für den Sachbuchpreis nominiert.\n  \n  \n🎟️ Keine Anmeldung nötig\n  \n  \n  \n \nIngo Dachwitz (c) Darja Preuss
URL:https://www.evforum-bonn.de/veranstaltung/medien-muendigkeit-26-04-22/
LOCATION:Ev. Kirchenpavillon Bonn\, Kaiserplatz 1a\, Bonn\, NRW\, 53113\, Germany
CATEGORIES:Aktuelles,Ev. Forum Bonn,KI Künstliche Intelligenz - Digital,Kirchenpavillon,Medien.Mündigkeit,Veranstaltungen von Institutionen und Verbänden,Veranstaltungsreihen,Zentralprogramm
ATTACH;FMTTYPE=image/jpeg:https://www.evforum-bonn.de/wp-content/uploads/2025/11/Medien.Muendigkeit-2026.jpg
ORGANIZER;CN="Evangelisches Forum Bonn":MAILTO:info@evforum-bonn.de
END:VEVENT
END:VCALENDAR