BEGIN:VCALENDAR
VERSION:2.0
PRODID:-//Evangelisches Forum Bonn - ECPv6.15.20//NONSGML v1.0//EN
CALSCALE:GREGORIAN
METHOD:PUBLISH
X-WR-CALNAME:Evangelisches Forum Bonn
X-ORIGINAL-URL:https://www.evforum-bonn.de
X-WR-CALDESC:Veranstaltungen für Evangelisches Forum Bonn
REFRESH-INTERVAL;VALUE=DURATION:PT1H
X-Robots-Tag:noindex
X-PUBLISHED-TTL:PT1H
BEGIN:VTIMEZONE
TZID:Europe/Berlin
BEGIN:DAYLIGHT
TZOFFSETFROM:+0100
TZOFFSETTO:+0200
TZNAME:CEST
DTSTART:20250330T010000
END:DAYLIGHT
BEGIN:STANDARD
TZOFFSETFROM:+0200
TZOFFSETTO:+0100
TZNAME:CET
DTSTART:20251026T010000
END:STANDARD
BEGIN:DAYLIGHT
TZOFFSETFROM:+0100
TZOFFSETTO:+0200
TZNAME:CEST
DTSTART:20260329T010000
END:DAYLIGHT
BEGIN:STANDARD
TZOFFSETFROM:+0200
TZOFFSETTO:+0100
TZNAME:CET
DTSTART:20261025T010000
END:STANDARD
BEGIN:DAYLIGHT
TZOFFSETFROM:+0100
TZOFFSETTO:+0200
TZNAME:CEST
DTSTART:20270328T010000
END:DAYLIGHT
BEGIN:STANDARD
TZOFFSETFROM:+0200
TZOFFSETTO:+0100
TZNAME:CET
DTSTART:20271031T010000
END:STANDARD
END:VTIMEZONE
BEGIN:VEVENT
DTSTART;TZID=Europe/Berlin:20260424T090000
DTEND;TZID=Europe/Berlin:20260424T120000
DTSTAMP:20260423T222240
CREATED:20251028T115218Z
LAST-MODIFIED:20251028T115336Z
UID:10006317-1777021200-1777032000@www.evforum-bonn.de
SUMMARY:Präventionsschulung Intensiv/ Leitungsschulung • Teil 2_Online
DESCRIPTION:Intensiv-/Leitungsschulung (Schulungseinheit mind. 270 Minuten) – Pflicht für: \n\n\nMitarbeitende mit regelmäßigem oder intensivem Kontakt zur Schutzgruppe\, auch ohne Führungsverantwortung \n\n\nLeitungspersonen (haupt- und ehrenamtlich) \n\n\n\n❗ Dieser Termin gehört zur zweitägigen Präventionsschulung Intensiv / Leitungsschulung. \nEr bildet den zweiten Schulungsteil (Online) Eine separate Anmeldung ist nicht möglich.Bitte melden Sie sich ausschließlich über den Haupttermin • Teil 1_Präsenz an.
URL:https://www.evforum-bonn.de/veranstaltung/praeventionsschulung-intensiv-leitungsschulung-23-24-04-26-teil-2/
LOCATION:ONLINE
CATEGORIES:Aktuelles,Fort- und Weiterbildung,Haus der Ev. Kirche Bonn,Lehrgang | Kurs,Präventionsschulung,Veranstaltungsreihen
ATTACH;FMTTYPE=image/png:https://www.evforum-bonn.de/wp-content/uploads/2025/09/Slider-Praeventionsschulung-scaled-e1773317881965.png
ORGANIZER;CN="Evangelisches Forum Bonn":MAILTO:info@evforum-bonn.de
END:VEVENT
BEGIN:VEVENT
DTSTART;TZID=Europe/Berlin:20260424T150000
DTEND;TZID=Europe/Berlin:20260424T160000
DTSTAMP:20260423T222240
CREATED:20260318T165833Z
LAST-MODIFIED:20260318T165833Z
UID:10007044-1777042800-1777046400@www.evforum-bonn.de
SUMMARY:Gesprächskreis im Café Schlich
DESCRIPTION:Der Gesprächskreis im Café Schlich lädt Erwachsene dazu ein\, in entspannter Atmosphäre miteinander ins Gespräch zu kommen. Bei Kaffee und offenen Gesprächen geht es um Themen des Alltags\, persönliche Erfahrungen und das\, was Menschen bewegt. \nDie Treffen bieten Raum für Begegnung\, Zuhören und Austausch – ohne Vorkenntnisse\, aber mit Interesse am Miteinander. \nDie Reihe richtet sich an alle\, die sich Zeit nehmen möchten für Gespräche\, neue Impulse und gemeinsames Nachdenken. \n\nTermine:27.02. | 27.03. | 24.04. | 22.05. | 26.06.2026jeweils um 15:00 Uhr \n\nOrt: Café Schlich \nKontakt:Renate Jorke📞 02226 146 30 \n❗ Eine Veranstaltungsreihe der Ev. Kirchengemeinde Rheinbach
URL:https://www.evforum-bonn.de/veranstaltung/gespraechskreis-im-cafe-schlich/2026-04-24/
LOCATION:Café Schlich\, Hauptstraße 10\, Rheinbach\, NRW\, 53359\, Germany
CATEGORIES:Bildung & Café,Philosophisch-psychologische Kaffeehausgespräche,Veranstaltungen von Gemeinden
ATTACH;FMTTYPE=image/png:https://www.evforum-bonn.de/wp-content/uploads/2026/03/Signet-Ev.-KGM-Rheinbach.png
ORGANIZER;CN="Ev. Kirchengemeinde Rheinbach":MAILTO:rheinbach@ekir.de
END:VEVENT
BEGIN:VEVENT
DTSTART;TZID=Europe/Berlin:20260424T160000
DTEND;TZID=Europe/Berlin:20260424T190000
DTSTAMP:20260423T222240
CREATED:20260422T080920Z
LAST-MODIFIED:20260422T081449Z
UID:10007412-1777046400-1777057200@www.evforum-bonn.de
SUMMARY:6. Friesdorfer Saatgut- und Pflanzentauschbörse
DESCRIPTION:Pflanzen und Saatgut abgeben\, tauschen oder neu entdecken: Die Saatgut- und Pflanzentauschbörse lädt dazu ein\, sich aktiv mit nachhaltigem Gärtnern und dem Erhalt von Pflanzenvielfalt auseinanderzusetzen. \nNeben dem praktischen Austausch von Pflanzen und Saatgut bietet die Veranstaltung Raum\, Erfahrungen zu teilen und Wissen rund um Anbau\, Pflege und Weitergabe von Pflanzen weiterzugeben. So werden Aspekte wie Biodiversität\, Ressourcenschonung und nachhaltiger Umgang mit natürlichen Lebensgrundlagen anschaulich vermittelt. \nIn entspannter Atmosphäre bei Kaffee und Kuchen kommen Interessierte ins Gespräch und lernen voneinander. \n🌱 Mitwirkende: Annette Emminger \n📍 Freitag\, 24.04.\, 16:00 Uhr📌 Ev. Pauluskirche \n💡 Pflanzen und Saatgut können mitgebracht\, getauscht oder mitgenommen werden
URL:https://www.evforum-bonn.de/veranstaltung/friesdorfer-saatgut-und-pflanzentauschbrse/
LOCATION:Ev. Pauluskirche Bad Godesberg\, In der Maar 7\, Bonn\, NRW\, 53175\, Germany
CATEGORIES:Ev. Thomas-Kirchengemeinde,Ressourcen - Umwelt - Klima,Thematische Schwerpunkte,Veranstaltungen von Gemeinden
ATTACH;FMTTYPE=image/jpeg:https://www.evforum-bonn.de/wp-content/uploads/2026/04/Hand_Pflanze-by-Pixabay-Free_goranH.jpg
END:VEVENT
BEGIN:VEVENT
DTSTART;TZID=Europe/Berlin:20260424T183000
DTEND;TZID=Europe/Berlin:20260424T200000
DTSTAMP:20260423T222240
CREATED:20260331T114834Z
LAST-MODIFIED:20260331T114834Z
UID:10007353-1777055400-1777060800@www.evforum-bonn.de
SUMMARY:"Geh\, dein Glaube hat dir geholfen"
DESCRIPTION:Am Freitag\, den 24. April\, findet um 18.30 Uhr im Gemeindehaus eine Lesung aus dem neuen Buch von Georg Schwikart (Hg) statt. Es hat den Titel: „Geh\, dein Glaube hat dir geholfen“.\nGeorg Schwikart als Herausgeber und Steffen Tiemann werden aus den 55 inspirierenden Beiträgen einige vorstellen. \nAnmeldung bei Carla Hornberger\,\n0228-281321; carla.hornberger@ekir.de
URL:https://www.evforum-bonn.de/veranstaltung/geh-dein-glaube-hat-dir-geholfen/
LOCATION:Gemeindehaus der Ev. Auferstehungskirche\, Haager Weg 40\, Bonn\, NRW\, 53127\, Germany
CATEGORIES:Buch - Lesen - Literatur,Ev. Kirchengemeinde im Bonner Westen,Lesung - Vortrag,Veranstaltungen von Gemeinden
ATTACH;FMTTYPE=image/jpeg:https://www.evforum-bonn.de/wp-content/uploads/2026/03/24.04.26-Lesung.jpg
END:VEVENT
END:VCALENDAR