BEGIN:VCALENDAR
VERSION:2.0
PRODID:-//Evangelisches Forum Bonn - ECPv6.15.20//NONSGML v1.0//EN
CALSCALE:GREGORIAN
METHOD:PUBLISH
X-WR-CALNAME:Evangelisches Forum Bonn
X-ORIGINAL-URL:https://www.evforum-bonn.de
X-WR-CALDESC:Veranstaltungen für Evangelisches Forum Bonn
REFRESH-INTERVAL;VALUE=DURATION:PT1H
X-Robots-Tag:noindex
X-PUBLISHED-TTL:PT1H
BEGIN:VTIMEZONE
TZID:Europe/Berlin
BEGIN:DAYLIGHT
TZOFFSETFROM:+0100
TZOFFSETTO:+0200
TZNAME:CEST
DTSTART:20250330T010000
END:DAYLIGHT
BEGIN:STANDARD
TZOFFSETFROM:+0200
TZOFFSETTO:+0100
TZNAME:CET
DTSTART:20251026T010000
END:STANDARD
BEGIN:DAYLIGHT
TZOFFSETFROM:+0100
TZOFFSETTO:+0200
TZNAME:CEST
DTSTART:20260329T010000
END:DAYLIGHT
BEGIN:STANDARD
TZOFFSETFROM:+0200
TZOFFSETTO:+0100
TZNAME:CET
DTSTART:20261025T010000
END:STANDARD
BEGIN:DAYLIGHT
TZOFFSETFROM:+0100
TZOFFSETTO:+0200
TZNAME:CEST
DTSTART:20270328T010000
END:DAYLIGHT
BEGIN:STANDARD
TZOFFSETFROM:+0200
TZOFFSETTO:+0100
TZNAME:CET
DTSTART:20271031T010000
END:STANDARD
END:VTIMEZONE
BEGIN:VEVENT
DTSTART;TZID=Europe/Berlin:20260427T100000
DTEND;TZID=Europe/Berlin:20260427T130000
DTSTAMP:20260423T192200
CREATED:20260318T173316Z
LAST-MODIFIED:20260318T173541Z
UID:10007083-1777284000-1777294800@www.evforum-bonn.de
SUMMARY:Mal- und Zeichenkurs Hardtberg
DESCRIPTION:Der fortlaufende Mal- und Zeichenkurs unter der Leitung von Gerhild Bergknecht bietet Raum für künstlerisches Gestalten\, experimentelles Arbeiten und den Austausch über Kunst und Bildsprache. Mit der Künstlerin Valentina Siggelow \nIn entspannter Atmosphäre erlernen und vertiefen die Teilnehmenden Techniken des Zeichnens und Malens – von Grundlagen wie Komposition\, Perspektive und Farbwirkung bis hin zu freien Ausdrucksformen. Der Kurs richtet sich an Interessierte mit und ohne Vorkenntnisse. \nDie eigene Kreativität steht im Mittelpunkt – verbunden mit der Möglichkeit\, unter fachkundiger Anleitung den eigenen Blick zu schärfen und neue Impulse aufzunehmen. \n📅 Jeden Montag (außer in den Ferien) | 10:00–13:00 Uhr📍 Matthäikirche\, Gutenbergstraße 10\, 53123 Bonn🖌️ Leitung: Gerhild Bergknecht
URL:https://www.evforum-bonn.de/veranstaltung/mal-und-zeichenkurs-hardtberg-2026/2026-04-27/
LOCATION:Matthäikirche\, Gutenbergstr. 10\, Bonn\, 53123\, Germany
CATEGORIES:Ausstellung - Kunst - Kultur,Kunst - Musik - Literatur,Lehrgang | Kurs,Veranstaltungen von Gemeinden,Veranstaltungsreihen
ATTACH;FMTTYPE=image/jpeg:https://www.evforum-bonn.de/wp-content/uploads/2025/02/schenk-mir-deine-farbe-e1739531762592.jpg
ORGANIZER;CN="Ev. Kirchengemeinde im Bonner Westen (Hardtberg)":MAILTO:hardtberg@ekir.de
END:VEVENT
BEGIN:VEVENT
DTSTART;TZID=Europe/Berlin:20260427T140000
DTEND;TZID=Europe/Berlin:20260427T160000
DTSTAMP:20260423T192200
CREATED:20260325T121743Z
LAST-MODIFIED:20260325T122137Z
UID:10007329-1777298400-1777305600@www.evforum-bonn.de
SUMMARY:Aktion zum Welttag des Buches
DESCRIPTION:Anlässlich des Welttages des Buches verschenken wir Bücher internationaler Autor*innen. \nLesen macht Freude. Lesen ist Bildung. Lesen ist Teilhabe. \nMit Kaffee\, Tee & Gebäck.Komm vorbei und nimm dein Buch mit! \n\nProjekt „Anders sehen – inklusiv gestalten. Begegnung und Kultur in Vielfalt“\nEvangelische Migrations- und Flüchtlingsarbeit Bonn (EMFA) / Integrationsagentur\nBrüdergasse 16-18\, 53111 Bonn \nE-Mail: gergana.ghanbarian-baleva@ekir.de\nWebsite: https://anderssehen-bonn.de/ \n 
URL:https://www.evforum-bonn.de/veranstaltung/aktion-zum-welttag-des-buches/
LOCATION:Migrapolis- Haus der Vielfalt\, Brüdergasse 16–18\, Bonn\, 53111\, Deutschland
CATEGORIES:EMFA,Kunst - Musik - Literatur,Veranstaltungen von Gemeinden,Veranstaltungen von Institutionen und Verbänden
ATTACH;FMTTYPE=image/png:https://www.evforum-bonn.de/wp-content/uploads/2026/03/27.04.26-Welttag-des-Buches_Migrapolis.png
END:VEVENT
BEGIN:VEVENT
DTSTART;TZID=Europe/Berlin:20260427T140000
DTEND;TZID=Europe/Berlin:20260427T163000
DTSTAMP:20260423T192200
CREATED:20260320T160701Z
LAST-MODIFIED:20260320T160701Z
UID:10007159-1777298400-1777307400@www.evforum-bonn.de
SUMMARY:Seniorenkreis Bornheim
DESCRIPTION:Der Seniorennachmittag bietet Raum für Begegnung\, Austausch und neue Impulse. In angenehmer Atmosphäre beschäftigen wir uns mit Themen aus Alltag\, Gesellschaft\, Kultur und Glauben. Kleine Inputs\, Gesprächsrunden\, gemeinsames Tun oder spielerische Elemente laden dazu ein\, Neues zu entdecken und miteinander ins Gespräch zu kommen.\nDie Treffen sind offen für alle Interessierten. Eine Anmeldung ist nicht erforderlich\, neue Teilnehmende sind jederzeit herzlich willkommen. \nMo 14:00 – 16:30 | Versöhnungskirche Bornheim\nLeitung: Heidi Leinweber\nTelefon: 02222 64248 \n❗ Das Angebot wird über die Ev. Emmaus-Kirchengemeinde an Rhein und Vorgebirge zur Verfügung gestellt. Bitte informieren Sie sich\, ob die Termine stattfinden\, ggf. finden diese in den Ferien\, an oder vor Feiertagen nicht statt. emmaus-evangelisch.de/angebote-in-unserer-gemeinde/senioren \n 
URL:https://www.evforum-bonn.de/veranstaltung/seniorenkreis-bornheim/2026-04-27/
LOCATION:Versöhnungskirche/ Alte Kirche Bornheim\, Königstraße 21\, Bornheim\, NRW\, 53332\, Germany
CATEGORIES:Angebote für Senioren,Seniorenkreis -nachmittag,Veranstaltungen von Gemeinden,Veranstaltungsreihen
ATTACH;FMTTYPE=image/jpeg:https://www.evforum-bonn.de/wp-content/uploads/2022/12/Senior-e1751876645808.jpg
END:VEVENT
BEGIN:VEVENT
DTSTART;TZID=Europe/Berlin:20260427T153000
DTEND;TZID=Europe/Berlin:20260427T170000
DTSTAMP:20260423T192200
CREATED:20260331T121123Z
LAST-MODIFIED:20260331T121411Z
UID:10007360-1777303800-1777309200@www.evforum-bonn.de
SUMMARY:Roboterclub
DESCRIPTION:Du bist in der 3. bis 6. Klasse? Mach mit\, baue und programmiere dein eigenes Roboterauto. Du baust und programmierst ein ferngesteuertes Roboter auto (23x11x14cm). Mit der\nInfrarotfernbedienung steuerst du die Fahrtrichtung\, schaltest die Lampen ein usw. Unter Anleitung baust du dein Roboterauto zusammen und verkabelst die Elektronik. \nDer Kurs besteht aus 3 Terminen: 23.02.\, 02.03. und 09.03. jeweils von 15.30 bis 17 Uhr in der Immanuelkirche. Es gibt max. 8 Plätze. Der Teilnehmendenbeitrag für Materialkosten\nbeträgt 15 €. Bei finanziellen Engpässen bitte an mich\, Jugendleiterin Melanie Schmidt\, wenden. Anmeldeschluss ist der 06.04.2026. Ansprechpartner ist Martin Böhm (roboterkurs2024@gmail.com). \nTermine: 13.04. / 20.04. / 27.04. 2026Uhrzeit: jeweils 15.30–17.00 Uhr📍 Ort: Gemeindezentrum der ImmanuelkircheKosten: 15 € pro Teilnehmer*in (für alle Termine zusammen)Für wen: Kinder der 3.–6. Klasse \nAnmeldung: per Mail an Martin Böhm (roboterkurs2024@gmail.com)
URL:https://www.evforum-bonn.de/veranstaltung/roboterclub-26-04/2026-04-27/
LOCATION:Gemeindezentrum Immanuelkirche\, Bonner Talweg 357\, Bonn\, NRW\, 53129\, Germany
CATEGORIES:Ev. Johannes-Kirchengemeinde,KI Künstliche Intelligenz - Digital,Lehrgang | Kurs,Pädagogische Bildung,Veranstaltungen von Gemeinden,Veranstaltungsreihen
ATTACH;FMTTYPE=image/jpeg:https://www.evforum-bonn.de/wp-content/uploads/2025/10/robot_Pixabay-Free.jpg
END:VEVENT
BEGIN:VEVENT
DTSTART;TZID=Europe/Berlin:20260427T160000
DTEND;TZID=Europe/Berlin:20260427T173000
DTSTAMP:20260423T192200
CREATED:20260122T123912Z
LAST-MODIFIED:20260122T123912Z
UID:10006519-1777305600-1777311000@www.evforum-bonn.de
SUMMARY:Lerncafé Erlöser
DESCRIPTION:Das Lerncafé Erlöser ist ein offenes Unterstützungsangebot für geflüchtete Menschen. In wertschätzender Atmosphäre bieten Ehrenamtliche Hilfe bei Hausaufgaben\, unterstützen beim Deutschlernen und trainieren alltagsnahe Konversation. Ziel ist es\, Lernen zu erleichtern\, Selbstvertrauen zu stärken und Begegnung zu ermöglichen. \nDas Angebot richtet sich an Kinder\, Jugendliche und Erwachsene und wird individuell auf die jeweiligen Bedürfnisse abgestimmt. Die Teilnahme ist kostenfrei und erfolgt nach Absprache. \nWas? Hausaufgabenhilfe\, Konversationstraining\, individuelle UnterstützungWann? Montags von 16.00–17.30 Uhr (nach Absprache)Wo? Friedrichallee 20\, 53173 BonnKontakt: info@erloeser-kirchengemeinde.de(Bitte im Betreff „Anfrage Flüchtlingshilfe zum Lerncafé“ angeben)
URL:https://www.evforum-bonn.de/veranstaltung/lerncafe-erloeser/2026-04-27/
LOCATION:Lerncafé\, Friedrichallee 20\, Bonn\, NRW\, 53173\, Germany
CATEGORIES:Migration - Kultur - Kultureller Austausch,Pädagogische Bildung,Politik - Geschichte - Soziologie,Theologie / Philosophie,Veranstaltungen von Gemeinden,Veranstaltungsreihen
ATTACH;FMTTYPE=image/jpeg:https://www.evforum-bonn.de/wp-content/uploads/2026/01/people-2557396_640.jpg
ORGANIZER;CN="Ev. Erl%C3%B6ser-Kirchengemeinde Bad Godesberg":MAILTO:info@erloeser-kirchengemeinde.de
END:VEVENT
BEGIN:VEVENT
DTSTART;TZID=Europe/Berlin:20260427T173000
DTEND;TZID=Europe/Berlin:20260427T190000
DTSTAMP:20260423T192200
CREATED:20260309T123231Z
LAST-MODIFIED:20260309T123231Z
UID:10006973-1777311000-1777316400@www.evforum-bonn.de
SUMMARY:Trauerkurs für Jugendliche ab 13 Jahren
DESCRIPTION:Hast du einen geliebten Menschen verloren und fühlst dich manchmal überfordert mit deinen Gefühlen? Weißt nicht\, wie du mit der Trauer umgehen sollst oder suchst nach einem Ort\, an dem du dich verstanden fühlst? Dann bist du hier richtig! \nIch biete einen einfühlsamen Trauerkurs speziell für Jugendliche ab 13 Jahren an die einen lieben Menschen verloren haben. In geschütztem Rahmen könnt du deinen Verlust bearbeiten\, dich austauschen und neue Bewältigungsstrategien kennenlernen. \nWas erwartet dich? \nIn diesem Trauerkurs für Jugendliche ab 13 Jahren biete ich dir die Möglichkeit\, in einem sicheren Raum über deine Gefühle zu sprechen. Du musst dich nicht alleine fühlen – hier findest du Gleichgesinnte\, die ähnliche Erfahrungen gemacht haben. Der Kurs wird von mir als erfahrenen Trauerbegleiter geleitet\, der dir helfen wird\, deine Emotionen zu sortieren und einen Weg zu finden\, mit der Trauer umzugehen. \nThemen des Kurses: \n\nWas ist Trauer? Verstehen\, was in dir vorgeht.\nGefühle erkennen und ausdrücken\, wie du deine Emotionen anerkennst.\nErinnerungen bewahren – den Verlust in dein Leben integrieren.\nUmgang mit Veränderungen – wie sich dein Leben nach dem Verlust verändert hat und wie du damit umgehen kannst.\nAustausch und Unterstützung mit anderen Jugendlichen\, die ähnlich empfinden.\n\nWann und wo? \n\nStart des Kurses ist der 20.04.26.\nJeweils montags von 17:30 – 19:00 Uhr.\nDauer 10 Wochen (1x pro Woche  90 Minuten)\nOrt: Gemeindesaal der Friedenskirchengemeinde Bonn in der Franz-Bücheler-Str. 10\, 53129 Bonn.\nKosten: Der Kurs ist für die Teilnehmenden kostenfrei.\n\nAnmeldung: \nMelde dich bitte bis zum 16.04.26 an\, um deinen Platz zu sichern. Du kannst dich unter folgender E-Mail-Adresse: uwe.brenmoehl@ekir.de anmelden. \nBei Fragen stehe ich dir gerne zur Verfügung.
URL:https://www.evforum-bonn.de/veranstaltung/trauerkurs-fuer-jugendliche-ab-13-jahren/2026-04-27/
LOCATION:Gemeindehaus der Friedenskirchengemeinde\, Franz-Bücheler-Straße 10\, Bonn\, NRW\, 53129\, Germany
CATEGORIES:Aktuelles,Ev. Forum Bonn,Existenzielle Fragestellungen,Theologie / Philosophie,Veranstaltungen von Gemeinden,Veranstaltungsreihen,Zentralprogramm
ATTACH;FMTTYPE=image/jpeg:https://www.evforum-bonn.de/wp-content/uploads/2026/03/karen_nadine-ai-generated-8692895_1280.jpg
END:VEVENT
BEGIN:VEVENT
DTSTART;TZID=Europe/Berlin:20260427T190000
DTEND;TZID=Europe/Berlin:20260427T203000
DTSTAMP:20260423T192200
CREATED:20260120T172720Z
LAST-MODIFIED:20260120T173056Z
UID:10006442-1777316400-1777321800@www.evforum-bonn.de
SUMMARY:Teil 2: Weiß die KI\, dass sie nichts weiß? Vortrag der Autorin Prof. Dr. Katharina Zweig
DESCRIPTION:Die Veranstaltungsreihe „Medien.Mündigkeit 2026: KI.Perspektiven“ lädt dazu ein\, Entwicklungen der Künstlichen Intelligenz besser zu verstehen\, kritisch einzuordnen und verantwortungsvoll zu nutzen. In Vorträgen\, Workshops und Buch.Gesprächen erhalten Interessierte verständliche Einblicke in Chancen\, Risiken und gesellschaftliche Auswirkungen von KI. \nDie Veranstaltungen sind kostenfrei und richten sich an alle\, die Orientierung im digitalen Wandel suchen. \nKooperationspartner: Evangelisches Forum Bonn\, Evangelische Akademie im Rheinland\, Stiftung Informationskompetenz\, Stadtbibliothek Bonn\, VHS Bonn\, Katholisches Bildungswerk. \n\n🎙️ Vortrag und Dialog mit der Autorin Autorin Prof. Dr. Katharina Zweig \n📍 Haus der Bildung • 27. April 2026\, 19.00 – 20.30 Uhr | keine Anmeldung erforderlich \nKatharina Zweig (c) Felix-Schmitt
URL:https://www.evforum-bonn.de/veranstaltung/teil-2-wei-die-ki-dass-sie-nichts-wei-vortrag-der-autorin-prof-dr-katharina-zweig/
LOCATION:Haus der Bildung\, Mühlheimer Platz 1\, Bonn\, 53111\, Deutschland
CATEGORIES:Aktuelles,Ev. Forum Bonn,KI Künstliche Intelligenz - Digital,Medien.Mündigkeit,Veranstaltungen von Institutionen und Verbänden,Veranstaltungsreihen,Zentralprogramm
ATTACH;FMTTYPE=image/jpeg:https://www.evforum-bonn.de/wp-content/uploads/2025/11/Medien.Muendigkeit-2026.jpg
ORGANIZER;CN="Ev. Akademie im Rheinland":MAILTO:info@akademie.ekir.de
END:VEVENT
BEGIN:VEVENT
DTSTART;TZID=Europe/Berlin:20260427T190000
DTEND;TZID=Europe/Berlin:20260427T203000
DTSTAMP:20260423T192200
CREATED:20260325T132511Z
LAST-MODIFIED:20260326T074210Z
UID:10007332-1777316400-1777321800@www.evforum-bonn.de
SUMMARY:Tol’dot & Tarbut: "Die Demut ist die positive Macht\, welche allen Eudämonismus niederschlägt"
DESCRIPTION:An account of the virtues is a central but neglected part of Hermann Cohen’s philosophical ethics and Jewish philosophy. In this lecture\, we will examine the role of modesty (Bescheidenheit) and humility (Demut) in Cohen’s Tugendlehre. Cohen understood his own neo-Kantian ethics in contrast with two broad opposing ethical systems: the „eudaimonia“ of Aristotle and the „pantheism“ of Spinoza. Our examination of Cohen on the virtue of humility sheds light on these contrasts and also on Cohen’s positive reception of the philosophy of Maimonides\, whom he understood\, surprisingly\, as sharing his opposition to Aristotelean ethics. As we will see\, central to Cohen’s Tugendlehre is an understanding of power and agency in opposition to determinism and fatalism\, on the one hand\, and to common alternative understandings of power\, on the other hand. \n❗ Der Vortrag wird in englischer Sprache gehalten\, bei Bedarf gibt es eine Zusammenfassung in deutscher Sprache. \nReferentin: Shira Billet \n\n💻 Online-VeranstaltungAnmeldung 🎟️ Bitte registrieren Sie sich über den externen Zoom-Link: \n\nWeitere Informationen zur Veranstaltungsreihe HIER
URL:https://www.evforum-bonn.de/veranstaltung/toldot-tarbut-jdische-geschichte-kultur/
LOCATION:ONLINE via Zoom\, externer Zoom Link\, Germany
CATEGORIES:Aktuelles,Kath. Bildungsforum Bonn,Lesung - Vortrag,Online - Digital,Politik - Geschichte - Soziologie,Theologie / Philosophie,Toldot & Tarbut,Veranstaltungen von Institutionen und Verbänden,Veranstaltungsreihen,Zentralprogramm
ATTACH;FMTTYPE=image/jpeg:https://www.evforum-bonn.de/wp-content/uploads/2024/08/toldot-und-tarbut-e1736348778526.jpg
ORGANIZER;CN="Katholisches Bildungsforum Bonn":MAILTO:fbs@bildungsforum-bonn.de
END:VEVENT
BEGIN:VEVENT
DTSTART;TZID=Europe/Berlin:20260427T190000
DTEND;TZID=Europe/Berlin:20260427T210000
DTSTAMP:20260423T192200
CREATED:20260202T122424Z
LAST-MODIFIED:20260202T122424Z
UID:10006860-1777316400-1777323600@www.evforum-bonn.de
SUMMARY:Literaturkreis - Auferstehung
DESCRIPTION:An jedem letzten Montagabend im Monat (19.30 – ca. 21.00 Uhr) trifft sich unser bald 20 Jahre alter Lesekreis. \nGemeinsam wählen wir Bücher aus\, die jeder aus der Gruppe für sich liest und über deren Inhalt wir uns dann beim nächsten Termin gemeinsam austauschen. Manchmal ergeben sich inhaltliche Zusammenhänge\, zum Beispiel verschiedene Werk der Russischen Literatur des 19.Jahrhunderts oder dystope Romane wie Margaret Atwoods: Der Report der Magd oder Aldous Huxleys Schöne neue Welt. \nEs werden im Lesekreis sowohl aktuelle Autoren (Beispiele: Julian Barnes\, Joachim Meyerhoff\, Sascha Stanicic) als auch Klassiker wie Joseph Roth\, Thomas Mann oder Theodor Fontane ausgewählt. \nHerzliche Einladung an alle\, die gerne lesen und sich über Bücher austauschen möchten.\nDr. Henrike Steudel \n❗automatisierte Kalenderreihe – Bitte prüfen Sie die Aktualität der Termine auf der Homepage des Anbieters • Termine finden ggf. NICHT in den Ferien oder an Feiertagen statt!
URL:https://www.evforum-bonn.de/veranstaltung/literaturkreis-auferstehung/2026-04-27/
LOCATION:Gemeindehaus der Ev. Auferstehungskirche\, Haager Weg 40\, Bonn\, NRW\, 53127\, Germany
CATEGORIES:Buch - Lesen - Literatur,Kunst - Musik - Literatur,Thematische Schwerpunkte,Veranstaltungen von Gemeinden,Veranstaltungsreihen
ATTACH;FMTTYPE=image/jpeg:https://www.evforum-bonn.de/wp-content/uploads/2025/01/Literaturkreis.jpg
ORGANIZER;CN="Ev. Kirchengemeinde im Bonner Westen (Auferstehung)":MAILTO:carla.hornberger@ekir.de
END:VEVENT
BEGIN:VEVENT
DTSTART;TZID=Europe/Berlin:20260427T193000
DTEND;TZID=Europe/Berlin:20260427T210000
DTSTAMP:20260423T192200
CREATED:20260120T180321Z
LAST-MODIFIED:20260120T180721Z
UID:10006502-1777318200-1777323600@www.evforum-bonn.de
SUMMARY:Montagsvortrag: „Und plötzlich ist nichts mehr\, wie es war“
DESCRIPTION:Was tun\, wenn das Leben plötzlich aus den Fugen gerät? Ein Notfallseelsorger über Schicksalsschläge und Hoffnung \nAlbi Roebke\, evangelischer Pfarrer und hauptamtlicher Koordinator der Notfallseelsorge in der Region Bonn/Rhein-Sieg\, gibt in seinem neuen Buch tiefe Einblicke in seine Erfahrungen mit Schicksalsschlägen\, Katastropheneinsätzen und Momenten menschlicher Ohnmacht – und erzählt zugleich von Hoffnung und innerer Stärke. \nEin Abend über seelische Soforthilfe\, Resilienz\, Alltag und Krisen – berührend\, nachdenklich\, stärkend. \nAutorenlesung und Gespräch • Büchertisch: Buchhandlung Goethe und Hafis \n\n▶️ Alle Termine auf einen Blick \n🎤 Moderation: Barbara Kliesch 🎟️ Eintritt frei – Für den Umtrunk im Anschluss\, werden Getränkespenden angenommen
URL:https://www.evforum-bonn.de/veranstaltung/montagsvortrag-und-pltzlich-ist-nichts-mehr-wie-es-war/
LOCATION:Matthäikirche\, Gutenbergstr. 10\, Bonn\, 53123\, Germany
CATEGORIES:Aktuelles,Ev. Forum Bonn,Lesung - Vortrag,Montagsvortrag,Thematische Schwerpunkte,Theologie / Philosophie,Veranstaltungen von Gemeinden,Veranstaltungsreihen,Zentralprogramm
ATTACH;FMTTYPE=image/jpeg:https://www.evforum-bonn.de/wp-content/uploads/2025/07/Buchcover-Fischer-Verlag_Albi-Roebke-e1753695431778.jpg
ORGANIZER;CN="Ev. Kirchengemeinde im Bonner Westen (Hardtberg)":MAILTO:hardtberg@ekir.de
END:VEVENT
BEGIN:VEVENT
DTSTART;TZID=Europe/Berlin:20260427T200000
DTEND;TZID=Europe/Berlin:20260427T210000
DTSTAMP:20260423T192200
CREATED:20260202T121155Z
LAST-MODIFIED:20260202T121155Z
UID:10006840-1777320000-1777323600@www.evforum-bonn.de
SUMMARY:Bibel Gesprächskreis - Auferstehung
DESCRIPTION:Etwa 14-tägig treffen wir uns montagabends (20.00 – ca. 21.30 Uhr) mit Tee\, Knabbereien und Kerzenschein zum gemeinsamen Bibellesen im Gemeindehaus. \nAlleine in der Bibel zu lesen\, ist nicht immer so einfach. Gemeinsam geht es besser. In unserem Bibel-Gesprächskreis lesen wir gemeinsam einen Abschnitt aus der Bibel und reden darüber. Wir – das ist zurzeit eine kleine Gruppe von drei bis sechs Menschen ohne besondere theologische Vorkenntnisse. Ein Begleitbuch zum Bibeltext hilft uns bei Fragen und unser Pfarrer hilft auch gerne „im Hintergrund“\, Fragen zu beantworten. \nWir lesen zusammen den Text und lassen uns leiten von den Fragen: was wird da erzählt? Warum wird es erzählt? Kann ich damit etwas anfangen? Bedeutet es etwas für mein Leben? Kann ich etwas davon in meinen Alltag nehmen? \nDabei reden wir „über Gott und die Welt“\, manchmal über persönliche Erlebnisse\, die uns beschäftigen\, manchmal driften wir in politische Diskussionen ab und häufig können wir mit manchen Abschnitten auch gar nichts anfangen\, weil sie uns zu fremd vorkommen. Oft machen wir interessante Entdeckungen\, oft nehmen wir ungeklärte Fragen mit nach Hause und oft begleiten uns diese Fragen im Alltag noch weiter. Wir sind offen für alles und haben keine vorgefertigte theologische Meinung – wohl aber eine christliche Grundüberzeugung. \nDer Austausch ist sehr bereichernd\, weil es häufig verschiedene Sichtweisen gibt. Und vor allem: wir lernen die Bibel kennen! \nBis zu den Sommerferien 2025 haben wir das Markusevangelium gelesen\, im September starten wir mit der Apostelgeschichte. Jeder/jede ist herzlich eingeladen\, um unsere kleine Gruppe zu verstärken und zu bereichern! \nDie nächsten Termine sind hier zu finden. Einfach vorbeikommen\, man muss nichts mitbringen und eine Anmeldung ist auch nicht nötig! \nStefanie Lentz (für eventuelle Fragen die Kontaktdaten bitte übers Pfarrbüro erfragen) \n❗Ggf. finden die Termine NICHT in den Ferien oder an Feiertagen statt\, die hier aufgelisteten Termine sind automatisch als Kalenderreihe generiert!
URL:https://www.evforum-bonn.de/veranstaltung/bibel-gespraechskreis-auferstehung/2026-04-27/
LOCATION:Gemeindehaus der Ev. Auferstehungskirche\, Haager Weg 40\, Bonn\, NRW\, 53127\, Germany
CATEGORIES:Bibel - Bibelgespräch,Bibel und Buch,Veranstaltungen von Gemeinden,Veranstaltungsreihen
ATTACH;FMTTYPE=image/jpeg:https://www.evforum-bonn.de/wp-content/uploads/2026/02/aaron-burden-9zsHNt5OpqE-unsplash-scaled.jpg
ORGANIZER;CN="Ev. Kirchengemeinde im Bonner Westen (Auferstehung)":MAILTO:carla.hornberger@ekir.de
END:VEVENT
END:VCALENDAR