BEGIN:VCALENDAR
VERSION:2.0
PRODID:-//Evangelisches Forum Bonn - ECPv6.15.20//NONSGML v1.0//EN
CALSCALE:GREGORIAN
METHOD:PUBLISH
X-ORIGINAL-URL:https://www.evforum-bonn.de
X-WR-CALDESC:Veranstaltungen für Evangelisches Forum Bonn
REFRESH-INTERVAL;VALUE=DURATION:PT1H
X-Robots-Tag:noindex
X-PUBLISHED-TTL:PT1H
BEGIN:VTIMEZONE
TZID:Europe/Berlin
BEGIN:DAYLIGHT
TZOFFSETFROM:+0100
TZOFFSETTO:+0200
TZNAME:CEST
DTSTART:20250330T010000
END:DAYLIGHT
BEGIN:STANDARD
TZOFFSETFROM:+0200
TZOFFSETTO:+0100
TZNAME:CET
DTSTART:20251026T010000
END:STANDARD
BEGIN:DAYLIGHT
TZOFFSETFROM:+0100
TZOFFSETTO:+0200
TZNAME:CEST
DTSTART:20260329T010000
END:DAYLIGHT
BEGIN:STANDARD
TZOFFSETFROM:+0200
TZOFFSETTO:+0100
TZNAME:CET
DTSTART:20261025T010000
END:STANDARD
BEGIN:DAYLIGHT
TZOFFSETFROM:+0100
TZOFFSETTO:+0200
TZNAME:CEST
DTSTART:20270328T010000
END:DAYLIGHT
BEGIN:STANDARD
TZOFFSETFROM:+0200
TZOFFSETTO:+0100
TZNAME:CET
DTSTART:20271031T010000
END:STANDARD
END:VTIMEZONE
BEGIN:VEVENT
DTSTART;TZID=Europe/Berlin:20260428T150000
DTEND;TZID=Europe/Berlin:20260428T170000
DTSTAMP:20260423T192359
CREATED:20260128T124343Z
LAST-MODIFIED:20260128T125405Z
UID:10006577-1777388400-1777395600@www.evforum-bonn.de
SUMMARY:Ökumenischer Seniorenkreis in Emmaus
DESCRIPTION:Der Seniorenkreis an der Emmaus-Kirche lädt alle Interessierten herzlich ein zu einem Nachmittag in guter Gemeinschaft. Neben Vorträgen zu wechselnden Themen gibt es Raum für persönliche Begegnung\, Austausch und Nachdenken über Glaube\, Leben und Gesellschaft. \nEin wechselndes Programm mit kulturellen\, spirituellen oder auch unterhaltsamen Beiträgen sorgt für Abwechslung und Gesprächsanregung. Selbstverständlich ist auch für das leibliche Wohl gesorgt. \n📅 Jeden 1. und 3. Dienstag im Monat | 15:00–17:00 Uhr📍 Emmaus-Kirche\, Borsigallee 23\, Bonn-Brüser Berg(Eingang über Fußgängerzone · Parken: Fahrenheitstraße\, vom Brüser Damm kommend) \nKontakt:Pfarrer Dr. Georg Schwikart📧 georg.schwikart@ekir.de · ☎ 01523 6915109 \nDie Themen entnehmen Sie gern dem Terminkalender der Ev. Kirchengemeinde im Bonner Westen (Hardtberg)
URL:https://www.evforum-bonn.de/veranstaltung/okumenischer-seniorenkreis-in-emmaus/2026-04-28/
LOCATION:Gemeindezentrum Emmaus-Kirche\, Borsigallee 23\, Bonn\, 53125\, Deutschland
CATEGORIES:Altern und Alter,Bibel - Bibelgespräch,Existenzielle Fragestellungen,Philosophisch-psychologische Kaffeehausgespräche,Seniorenbildung,Seniorenkreis -nachmittag,Thematische Schwerpunkte,Theologie / Philosophie,Veranstaltungen von Gemeinden,Veranstaltungsreihen
ATTACH;FMTTYPE=image/jpeg:https://www.evforum-bonn.de/wp-content/uploads/2022/12/Senior-e1751876645808.jpg
ORGANIZER;CN="Ev. Kirchengemeinde im Bonner Westen (Hardtberg)":MAILTO:hardtberg@ekir.de
END:VEVENT
BEGIN:VEVENT
DTSTART;TZID=Europe/Berlin:20260428T150000
DTEND;TZID=Europe/Berlin:20260428T180000
DTSTAMP:20260423T192359
CREATED:20260416T072646Z
LAST-MODIFIED:20260416T072646Z
UID:10007410-1777388400-1777399200@www.evforum-bonn.de
SUMMARY:Online Studientag - "Gods own Country?"
DESCRIPTION:Der Online-Studientag thematisiert die politischen Entwicklungen in den USA im Zusammenhang mit der Präsidentschaft von Donald Trump. Im Fokus stehen der autoritäre Wandel der Republikanischen Partei sowie der wachsende Einfluss christlich-fundamentalistischer Gruppierungen. \nU. a. geht es um diese Fragen:\n– Wer sind die radikalen christlichen Fundamentalisten?\n– Woher kommen sie und worauf berufen sie sich?\n– Welchen Status haben sie innerhalb des Landes und wie weit wirkt ihr Einfluss? \nMit der erneuten Präsidentschaft von Donald Trump haben sich autoritäre Kräfte in den USA durchgesetzt. Die Republikaner – einst Verfechter eines liberalen Amerikas – sind in Teilen zu einer anti-demokratischen Partei mutiert\, die den Staat autoritär umkrempeln\, Freiheitsrechte einschränken und eine allein den USA dienende Politik durchsetzen will.\nEine wichtige Gruppierung hat wesentlich zum Erfolg von Trump und seinen Hardlinern beigetragen: Christliche-radikale Wähler haben ihn und die neuen Republikaner gewählt und unterstützen ihn weiterhin. Für sie ist der Präsident eine Lichtgestalt\, welche die Vereinigten Staaten von Amerika letztlich zu einem Gottesstaat machen soll\, in dem die Bibel die Verfassung ersetzt und nur Christen als treue Staatsbürger gelten. \nBeim Online-Studientag gibt es zu dieser Thematik Vorträge und Diskussion. \nPROGRAMM\n15:00 Uhr     Begrüßung und Moderation – Studienleiter Jörgen Klußmann\n15:10 Uhr      Die Geschichte der radikalen Christen und ihr politischer Einfluss – Annika Brockschmidt\, freie Journalistin und Autorin des Bestsellers „Amerikas Gotteskrieger“ anschließend Fragen aus dem Publikum\n16:00 Uhr     Kurze Pause\n16:10 Uhr      Im Westen nichts Neues: christlicher Glaube in den USA aus theologischer Perspektive – Prof. Matthew Ryan Robinson\, Institut für Ethik und Theologie der Leuphania Universität Lüneburg\, anschließend Fragen aus dem Publikum \n17:00 Uhr      Die extreme Rechte und die Kirchen – Einfluss\, Akteure und Netzwerke in Deutschland Henning Flad\, Projektleitung Bundesarbeitsgemeinschaft Kirche und Rechtsextremismus\nanschließend Fragen aus dem Publikum\n17:50 Uhr      Ausblick und Schlusswort\n18:00 Uhr     Ende \nEine Kooperationsveranstaltung von: Melanchthon-Akademie • Evangelischer Kirchenverband Köln und Region • Evangelisches Erwachsenenbildungswerk im Kirchenkreis Aachen • Evagelisches Forum Bonn • Evangelische Akademie im Rheinland • \n🎟️ Anmeldung\nBitte registrieren Sie sich unter folgendem Link: https://ekir.zoom.us/meeting/register/Og19vB_iTZW66Z0B7KgFPQ\nMit der Registrierung erhalten Sie die Einwahldaten. Wir nutzen die Videokonferenz-Software Zoom. \n🎟️ Die Teilnahme ist kostenfrei. \nBei Fragen zur Veranstaltung wenden Sie sich bitte an den/ die Organisator*in: Martina Steffen\, martina.steffen@ekir.de
URL:https://www.evforum-bonn.de/veranstaltung/online-studientag-gods-own-country/
LOCATION:ONLINE via Zoom\, externer Zoom Link\, Germany
CATEGORIES:Aktuelles,Demokratie-Krieg,Ev. Akademie im Rheinland,Online Veranstaltung,Veranstaltungen von Institutionen und Verbänden,Zentralprogramm
ATTACH;FMTTYPE=image/jpeg:https://www.evforum-bonn.de/wp-content/uploads/2026/04/28.04.26-God-owns-Country_Online_Insta.jpg
ORGANIZER;CN="Ev. Akademie im Rheinland":MAILTO:info@akademie.ekir.de
END:VEVENT
BEGIN:VEVENT
DTSTART;TZID=Europe/Berlin:20260428T170000
DTEND;TZID=Europe/Berlin:20260428T183000
DTSTAMP:20260423T192359
CREATED:20260202T114124Z
LAST-MODIFIED:20260202T114343Z
UID:10006819-1777395600-1777401000@www.evforum-bonn.de
SUMMARY:"Mystik entdecken" Theologiekreis der Auferstehungskirche
DESCRIPTION:📅 4. Dienstag im Monat (außer in den Ferien)📍Gemeindehaus der Ev. Auferstehungskirchengemeinde \nSeit vielen Jahren trifft sich ein Kreis theologisch und spirituell interessierter Menschen\, um sich mit der Geschichte christlicher Mystik und der Vielfalt spiritueller Wege vertraut zu machen. Von den Wüstenvätern und -müttern des 4. Jahrhunderts über die Tradition der Klöster bis in die Gegenwart suchen Christinnen und Christen nach einem inneren Zugang zu Gott. \nIm Gespräch gehen wir Zeugnissen und Texten der Mystik nach\, lassen uns von deren Erfahrungen inspirieren und tauschen uns über die Bedeutung für unser eigenes Glaubensleben aus. \nDie Reihe lebt von gemeinsamer Neugier\, Erfahrung und Offenheit – neue Interessierte sind herzlich willkommen. \n📧 Ansprechpartner: Pfarrer Christian Knoche-Hager – christian.knoche-hager@ekir.de
URL:https://www.evforum-bonn.de/veranstaltung/mystik-entdecken-theologiekreis-der-auferstehungskirche-26/2026-04-28/
LOCATION:Gemeindehaus der Ev. Auferstehungskirche\, Haager Weg 40\, Bonn\, NRW\, 53127\, Germany
CATEGORIES:Bibel - Bibelgespräch,Bibel und Buch,Theologie / Philosophie,Veranstaltungen von Gemeinden,Veranstaltungsreihen
ATTACH;FMTTYPE=image/jpeg:https://www.evforum-bonn.de/wp-content/uploads/2025/07/Mystik-entdecken_Bildquelle-Ev.-Auferstehungskirche-Bonn.jpg
ORGANIZER;CN="Ev. Kirchengemeinde im Bonner Westen (Auferstehung)":MAILTO:carla.hornberger@ekir.de
END:VEVENT
BEGIN:VEVENT
DTSTART;TZID=Europe/Berlin:20260428T193000
DTEND;TZID=Europe/Berlin:20260428T203000
DTSTAMP:20260423T192359
CREATED:20260220T085434Z
LAST-MODIFIED:20260220T090009Z
UID:10006919-1777404600-1777408200@www.evforum-bonn.de
SUMMARY:Lindy Hop | Offener Tanzunterricht
DESCRIPTION:Lindy Hop ist ein beschwingter Swing-Tanzstil mit Wurzeln in der afroamerikanischen Kultur der 1930er Jahre. In diesem offenen Tanzunterricht steht nicht nur die Freude an Bewegung im Mittelpunkt\, sondern auch das gemeinschaftliche Lernen: Vom ersten Grundschritt bis zur Improvisation können alle – mit oder ohne Vorkenntnisse – neue Schritte erlernen\, Koordination und Rhythmusgefühl schulen und dabei die Geschichte eines kulturell bedeutenden Tanzstils kennenlernen. \nDie Abende bieten Raum für Begegnung\, körperliche Aktivität und kulturelle Bildung – immer in respektvoller Atmosphäre und mit viel Spaß. Kommen Sie vorbei\, tanzen Sie mit! \n📍 Ort: Melanchthonhaus der Kreuzkirche📩 Anmeldung & Infos: lindyhop@justmail.de🕒 Wöchentlich dienstags um 19:30 Uhr (außer ggf. in den Ferien und an Feiertagen) \n❗ diese Veranstaltungsreihe wird uU als fortlaufender Termin auch in den Ferien angezeigt – bitte erkundigen Sie sich beim Veranstalter.
URL:https://www.evforum-bonn.de/veranstaltung/lindy-hop-2026/2026-04-28/
LOCATION:Melanchthon Haus der Kreuzkirche\, An der Evangelischen Kirche 6\, Bonn\, NRW\, 53113\, Germany
CATEGORIES:Gesundheit - Krankheit - Medizin,Lindy Hop,Tanz - Bewegung - Gesundheit,Veranstaltungen von Gemeinden,Veranstaltungsreihen
ATTACH;FMTTYPE=image/jpeg:https://www.evforum-bonn.de/wp-content/uploads/2025/07/Lindy-Hop_Foto-by-Lindy-Hop-e1753443452177.jpg
END:VEVENT
END:VCALENDAR