BEGIN:VCALENDAR
VERSION:2.0
PRODID:-//Evangelisches Forum Bonn - ECPv6.15.20//NONSGML v1.0//EN
CALSCALE:GREGORIAN
METHOD:PUBLISH
X-ORIGINAL-URL:https://www.evforum-bonn.de
X-WR-CALDESC:Veranstaltungen für Evangelisches Forum Bonn
REFRESH-INTERVAL;VALUE=DURATION:PT1H
X-Robots-Tag:noindex
X-PUBLISHED-TTL:PT1H
BEGIN:VTIMEZONE
TZID:Europe/Berlin
BEGIN:DAYLIGHT
TZOFFSETFROM:+0100
TZOFFSETTO:+0200
TZNAME:CEST
DTSTART:20250330T010000
END:DAYLIGHT
BEGIN:STANDARD
TZOFFSETFROM:+0200
TZOFFSETTO:+0100
TZNAME:CET
DTSTART:20251026T010000
END:STANDARD
BEGIN:DAYLIGHT
TZOFFSETFROM:+0100
TZOFFSETTO:+0200
TZNAME:CEST
DTSTART:20260329T010000
END:DAYLIGHT
BEGIN:STANDARD
TZOFFSETFROM:+0200
TZOFFSETTO:+0100
TZNAME:CET
DTSTART:20261025T010000
END:STANDARD
BEGIN:DAYLIGHT
TZOFFSETFROM:+0100
TZOFFSETTO:+0200
TZNAME:CEST
DTSTART:20270328T010000
END:DAYLIGHT
BEGIN:STANDARD
TZOFFSETFROM:+0200
TZOFFSETTO:+0100
TZNAME:CET
DTSTART:20271031T010000
END:STANDARD
END:VTIMEZONE
BEGIN:VEVENT
DTSTART;TZID=Europe/Berlin:20260504T100000
DTEND;TZID=Europe/Berlin:20260504T130000
DTSTAMP:20260423T193147
CREATED:20260318T173316Z
LAST-MODIFIED:20260318T173541Z
UID:10007084-1777888800-1777899600@www.evforum-bonn.de
SUMMARY:Mal- und Zeichenkurs Hardtberg
DESCRIPTION:Der fortlaufende Mal- und Zeichenkurs unter der Leitung von Gerhild Bergknecht bietet Raum für künstlerisches Gestalten\, experimentelles Arbeiten und den Austausch über Kunst und Bildsprache. Mit der Künstlerin Valentina Siggelow \nIn entspannter Atmosphäre erlernen und vertiefen die Teilnehmenden Techniken des Zeichnens und Malens – von Grundlagen wie Komposition\, Perspektive und Farbwirkung bis hin zu freien Ausdrucksformen. Der Kurs richtet sich an Interessierte mit und ohne Vorkenntnisse. \nDie eigene Kreativität steht im Mittelpunkt – verbunden mit der Möglichkeit\, unter fachkundiger Anleitung den eigenen Blick zu schärfen und neue Impulse aufzunehmen. \n📅 Jeden Montag (außer in den Ferien) | 10:00–13:00 Uhr📍 Matthäikirche\, Gutenbergstraße 10\, 53123 Bonn🖌️ Leitung: Gerhild Bergknecht
URL:https://www.evforum-bonn.de/veranstaltung/mal-und-zeichenkurs-hardtberg-2026/2026-05-04/
LOCATION:Matthäikirche\, Gutenbergstr. 10\, Bonn\, 53123\, Germany
CATEGORIES:Ausstellung - Kunst - Kultur,Kunst - Musik - Literatur,Lehrgang | Kurs,Veranstaltungen von Gemeinden,Veranstaltungsreihen
ATTACH;FMTTYPE=image/jpeg:https://www.evforum-bonn.de/wp-content/uploads/2025/02/schenk-mir-deine-farbe-e1739531762592.jpg
ORGANIZER;CN="Ev. Kirchengemeinde im Bonner Westen (Hardtberg)":MAILTO:hardtberg@ekir.de
END:VEVENT
BEGIN:VEVENT
DTSTART;TZID=Europe/Berlin:20260504T140000
DTEND;TZID=Europe/Berlin:20260504T163000
DTSTAMP:20260423T193147
CREATED:20260320T160701Z
LAST-MODIFIED:20260320T160701Z
UID:10007160-1777903200-1777912200@www.evforum-bonn.de
SUMMARY:Seniorenkreis Bornheim
DESCRIPTION:Der Seniorennachmittag bietet Raum für Begegnung\, Austausch und neue Impulse. In angenehmer Atmosphäre beschäftigen wir uns mit Themen aus Alltag\, Gesellschaft\, Kultur und Glauben. Kleine Inputs\, Gesprächsrunden\, gemeinsames Tun oder spielerische Elemente laden dazu ein\, Neues zu entdecken und miteinander ins Gespräch zu kommen.\nDie Treffen sind offen für alle Interessierten. Eine Anmeldung ist nicht erforderlich\, neue Teilnehmende sind jederzeit herzlich willkommen. \nMo 14:00 – 16:30 | Versöhnungskirche Bornheim\nLeitung: Heidi Leinweber\nTelefon: 02222 64248 \n❗ Das Angebot wird über die Ev. Emmaus-Kirchengemeinde an Rhein und Vorgebirge zur Verfügung gestellt. Bitte informieren Sie sich\, ob die Termine stattfinden\, ggf. finden diese in den Ferien\, an oder vor Feiertagen nicht statt. emmaus-evangelisch.de/angebote-in-unserer-gemeinde/senioren \n 
URL:https://www.evforum-bonn.de/veranstaltung/seniorenkreis-bornheim/2026-05-04/
LOCATION:Versöhnungskirche/ Alte Kirche Bornheim\, Königstraße 21\, Bornheim\, NRW\, 53332\, Germany
CATEGORIES:Angebote für Senioren,Seniorenkreis -nachmittag,Veranstaltungen von Gemeinden,Veranstaltungsreihen
ATTACH;FMTTYPE=image/jpeg:https://www.evforum-bonn.de/wp-content/uploads/2022/12/Senior-e1751876645808.jpg
END:VEVENT
BEGIN:VEVENT
DTSTART;TZID=Europe/Berlin:20260504T160000
DTEND;TZID=Europe/Berlin:20260504T173000
DTSTAMP:20260423T193147
CREATED:20260122T123912Z
LAST-MODIFIED:20260122T123912Z
UID:10006520-1777910400-1777915800@www.evforum-bonn.de
SUMMARY:Lerncafé Erlöser
DESCRIPTION:Das Lerncafé Erlöser ist ein offenes Unterstützungsangebot für geflüchtete Menschen. In wertschätzender Atmosphäre bieten Ehrenamtliche Hilfe bei Hausaufgaben\, unterstützen beim Deutschlernen und trainieren alltagsnahe Konversation. Ziel ist es\, Lernen zu erleichtern\, Selbstvertrauen zu stärken und Begegnung zu ermöglichen. \nDas Angebot richtet sich an Kinder\, Jugendliche und Erwachsene und wird individuell auf die jeweiligen Bedürfnisse abgestimmt. Die Teilnahme ist kostenfrei und erfolgt nach Absprache. \nWas? Hausaufgabenhilfe\, Konversationstraining\, individuelle UnterstützungWann? Montags von 16.00–17.30 Uhr (nach Absprache)Wo? Friedrichallee 20\, 53173 BonnKontakt: info@erloeser-kirchengemeinde.de(Bitte im Betreff „Anfrage Flüchtlingshilfe zum Lerncafé“ angeben)
URL:https://www.evforum-bonn.de/veranstaltung/lerncafe-erloeser/2026-05-04/
LOCATION:Lerncafé\, Friedrichallee 20\, Bonn\, NRW\, 53173\, Germany
CATEGORIES:Migration - Kultur - Kultureller Austausch,Pädagogische Bildung,Politik - Geschichte - Soziologie,Theologie / Philosophie,Veranstaltungen von Gemeinden,Veranstaltungsreihen
ATTACH;FMTTYPE=image/jpeg:https://www.evforum-bonn.de/wp-content/uploads/2026/01/people-2557396_640.jpg
ORGANIZER;CN="Ev. Erl%C3%B6ser-Kirchengemeinde Bad Godesberg":MAILTO:info@erloeser-kirchengemeinde.de
END:VEVENT
BEGIN:VEVENT
DTSTART;TZID=Europe/Berlin:20260504T173000
DTEND;TZID=Europe/Berlin:20260504T190000
DTSTAMP:20260423T193147
CREATED:20260309T123231Z
LAST-MODIFIED:20260309T123231Z
UID:10006974-1777915800-1777921200@www.evforum-bonn.de
SUMMARY:Trauerkurs für Jugendliche ab 13 Jahren
DESCRIPTION:Hast du einen geliebten Menschen verloren und fühlst dich manchmal überfordert mit deinen Gefühlen? Weißt nicht\, wie du mit der Trauer umgehen sollst oder suchst nach einem Ort\, an dem du dich verstanden fühlst? Dann bist du hier richtig! \nIch biete einen einfühlsamen Trauerkurs speziell für Jugendliche ab 13 Jahren an die einen lieben Menschen verloren haben. In geschütztem Rahmen könnt du deinen Verlust bearbeiten\, dich austauschen und neue Bewältigungsstrategien kennenlernen. \nWas erwartet dich? \nIn diesem Trauerkurs für Jugendliche ab 13 Jahren biete ich dir die Möglichkeit\, in einem sicheren Raum über deine Gefühle zu sprechen. Du musst dich nicht alleine fühlen – hier findest du Gleichgesinnte\, die ähnliche Erfahrungen gemacht haben. Der Kurs wird von mir als erfahrenen Trauerbegleiter geleitet\, der dir helfen wird\, deine Emotionen zu sortieren und einen Weg zu finden\, mit der Trauer umzugehen. \nThemen des Kurses: \n\nWas ist Trauer? Verstehen\, was in dir vorgeht.\nGefühle erkennen und ausdrücken\, wie du deine Emotionen anerkennst.\nErinnerungen bewahren – den Verlust in dein Leben integrieren.\nUmgang mit Veränderungen – wie sich dein Leben nach dem Verlust verändert hat und wie du damit umgehen kannst.\nAustausch und Unterstützung mit anderen Jugendlichen\, die ähnlich empfinden.\n\nWann und wo? \n\nStart des Kurses ist der 20.04.26.\nJeweils montags von 17:30 – 19:00 Uhr.\nDauer 10 Wochen (1x pro Woche  90 Minuten)\nOrt: Gemeindesaal der Friedenskirchengemeinde Bonn in der Franz-Bücheler-Str. 10\, 53129 Bonn.\nKosten: Der Kurs ist für die Teilnehmenden kostenfrei.\n\nAnmeldung: \nMelde dich bitte bis zum 16.04.26 an\, um deinen Platz zu sichern. Du kannst dich unter folgender E-Mail-Adresse: uwe.brenmoehl@ekir.de anmelden. \nBei Fragen stehe ich dir gerne zur Verfügung.
URL:https://www.evforum-bonn.de/veranstaltung/trauerkurs-fuer-jugendliche-ab-13-jahren/2026-05-04/
LOCATION:Gemeindehaus der Friedenskirchengemeinde\, Franz-Bücheler-Straße 10\, Bonn\, NRW\, 53129\, Germany
CATEGORIES:Aktuelles,Ev. Forum Bonn,Existenzielle Fragestellungen,Theologie / Philosophie,Veranstaltungen von Gemeinden,Veranstaltungsreihen,Zentralprogramm
ATTACH;FMTTYPE=image/jpeg:https://www.evforum-bonn.de/wp-content/uploads/2026/03/karen_nadine-ai-generated-8692895_1280.jpg
END:VEVENT
END:VCALENDAR