BEGIN:VCALENDAR
VERSION:2.0
PRODID:-//Evangelisches Forum Bonn - ECPv6.15.20//NONSGML v1.0//EN
CALSCALE:GREGORIAN
METHOD:PUBLISH
X-ORIGINAL-URL:https://www.evforum-bonn.de
X-WR-CALDESC:Veranstaltungen für Evangelisches Forum Bonn
REFRESH-INTERVAL;VALUE=DURATION:PT1H
X-Robots-Tag:noindex
X-PUBLISHED-TTL:PT1H
BEGIN:VTIMEZONE
TZID:Europe/Berlin
BEGIN:DAYLIGHT
TZOFFSETFROM:+0100
TZOFFSETTO:+0200
TZNAME:CEST
DTSTART:20250330T010000
END:DAYLIGHT
BEGIN:STANDARD
TZOFFSETFROM:+0200
TZOFFSETTO:+0100
TZNAME:CET
DTSTART:20251026T010000
END:STANDARD
BEGIN:DAYLIGHT
TZOFFSETFROM:+0100
TZOFFSETTO:+0200
TZNAME:CEST
DTSTART:20260329T010000
END:DAYLIGHT
BEGIN:STANDARD
TZOFFSETFROM:+0200
TZOFFSETTO:+0100
TZNAME:CET
DTSTART:20261025T010000
END:STANDARD
BEGIN:DAYLIGHT
TZOFFSETFROM:+0100
TZOFFSETTO:+0200
TZNAME:CEST
DTSTART:20270328T010000
END:DAYLIGHT
BEGIN:STANDARD
TZOFFSETFROM:+0200
TZOFFSETTO:+0100
TZNAME:CET
DTSTART:20271031T010000
END:STANDARD
END:VTIMEZONE
BEGIN:VEVENT
DTSTART;TZID=Europe/Berlin:20260505T090000
DTEND;TZID=Europe/Berlin:20260505T170000
DTSTAMP:20260423T193239
CREATED:20260313T102616Z
LAST-MODIFIED:20260313T104242Z
UID:10006985-1777971600-1778000400@www.evforum-bonn.de
SUMMARY:Gesprächsführungsseminar Teil 1
DESCRIPTION:❗Achtung: Dieses Seminar ist ein weiterführendes Modul für entsendete Notfallseelsorger:innen und vermittelt praxisnah Grundlagen der Gesprächsführung in Krisensituationen. \nDie vollständige Teilnahme an allen drei Teilen\, also an allen 8 Tagen ist Pflicht.\nDie Seminartage gehen jeweils von 9:00 – 17:00 Uhr. Darin enthalten sind eine Mittagspause von 1\,5 h sowie zwei Kaffeepausen. Es werden lediglich Getränke bereit gestellt. Für die Verpflegung muss jede/jeder selbst sorgen. \nFür die Teilnahme an der GF-Ausbildung ist ein Eigenanteil von 100\,00 € zu entrichten. Näheres wird im Kurs bekannt gegeben. \nTrainerin: Anne Bonn\, Kommunikationstrainerin AiP-Rheinland🔗 www.aip-im-rheinland.de🔗 www.anne-bonn.de \n\n📅 05. + 06. Mai 2026📍 Gemeindehaus Ev. Kirchengemeinde Seelscheid \n\nIn Ausnahmefällen können auch Teilnehmende des laufendenden Kurses der Notfallseelsorge teilnehmen. Für Rückfragen bitte bei langer@nfs-bn-rsk.de melden.
URL:https://www.evforum-bonn.de/veranstaltung/gesprchsfhrungsseminar-teil-1-2026/2026-05-05/
LOCATION:Gemeindehaus der Ev. Kirchengemeinde Seelscheid\, Pfarrer-Julius-Smend-Platz 3\, Neunkirchen-Seelscheid\, NRW\, 53819\, Germany
CATEGORIES:Lehrgang | Kurs,Notfallseelsorge - Ausbildungskurs,Veranstaltungen von Institutionen und Verbänden,Veranstaltungsreihen
ATTACH;FMTTYPE=image/png:https://www.evforum-bonn.de/wp-content/uploads/2025/08/notfallseelsorge_logo_kursiv-1.png
ORGANIZER;CN="Notfallseelsorge Bonn Rhein-Sieg":MAILTO:info@nfs-bn-rsk.de
END:VEVENT
BEGIN:VEVENT
DTSTART;TZID=Europe/Berlin:20260505T190000
DTEND;TZID=Europe/Berlin:20260505T203000
DTSTAMP:20260423T193239
CREATED:20251125T120823Z
LAST-MODIFIED:20251125T121150Z
UID:10006384-1778007600-1778013000@www.evforum-bonn.de
SUMMARY:Teil 2: KI und Zukunft. Über Ängste und Chancen
DESCRIPTION:Die Veranstaltungsreihe „Medien.Mündigkeit 2026: KI.Perspektiven“ lädt dazu ein\, Entwicklungen der Künstlichen Intelligenz besser zu verstehen\, kritisch einzuordnen und verantwortungsvoll zu nutzen. In Vorträgen\, Workshops und Buch.Gesprächen erhalten Interessierte verständliche Einblicke in Chancen\, Risiken und gesellschaftliche Auswirkungen von KI. \nDie Veranstaltungen sind kostenfrei und richten sich an alle\, die Orientierung im digitalen Wandel suchen. \nKooperationspartner: Evangelisches Forum Bonn\, Evangelische Akademie im Rheinland\, Stiftung Informationskompetenz\, Stadtbibliothek Bonn\, VHS Bonn\, Katholisches Bildungswerk. \n\nImpulsvorträge von Dr. Frank Vogelsang\, Direktor der Ev. Akademie im Rheinland\, und Sabria David\, Digitalphilosophin\, mit anschl. Dialog \n📍 Haus der Bildung • 05. Mai 2026\, 19.00 – 20.30 Uhr | keine Anmeldung erforderlich \nCover „Weiß die KI. dass sie nichts weiß?“ (c) Heyne Verlag
URL:https://www.evforum-bonn.de/veranstaltung/medien-muendigkeit-26-05-05/
LOCATION:Haus der Bildung\, Mühlheimer Platz 1\, Bonn\, 53111\, Deutschland
CATEGORIES:Aktuelles,Ev. Forum Bonn,KI Künstliche Intelligenz - Digital,Medien.Mündigkeit,Veranstaltungen von Institutionen und Verbänden,Veranstaltungsreihen,Zentralprogramm
ATTACH;FMTTYPE=image/jpeg:https://www.evforum-bonn.de/wp-content/uploads/2025/11/Medien.Muendigkeit-2026.jpg
ORGANIZER;CN="Ev. Akademie im Rheinland":MAILTO:info@akademie.ekir.de
END:VEVENT
BEGIN:VEVENT
DTSTART;TZID=Europe/Berlin:20260505T193000
DTEND;TZID=Europe/Berlin:20260505T203000
DTSTAMP:20260423T193239
CREATED:20260220T085434Z
LAST-MODIFIED:20260220T090009Z
UID:10006920-1778009400-1778013000@www.evforum-bonn.de
SUMMARY:Lindy Hop | Offener Tanzunterricht
DESCRIPTION:Lindy Hop ist ein beschwingter Swing-Tanzstil mit Wurzeln in der afroamerikanischen Kultur der 1930er Jahre. In diesem offenen Tanzunterricht steht nicht nur die Freude an Bewegung im Mittelpunkt\, sondern auch das gemeinschaftliche Lernen: Vom ersten Grundschritt bis zur Improvisation können alle – mit oder ohne Vorkenntnisse – neue Schritte erlernen\, Koordination und Rhythmusgefühl schulen und dabei die Geschichte eines kulturell bedeutenden Tanzstils kennenlernen. \nDie Abende bieten Raum für Begegnung\, körperliche Aktivität und kulturelle Bildung – immer in respektvoller Atmosphäre und mit viel Spaß. Kommen Sie vorbei\, tanzen Sie mit! \n📍 Ort: Melanchthonhaus der Kreuzkirche📩 Anmeldung & Infos: lindyhop@justmail.de🕒 Wöchentlich dienstags um 19:30 Uhr (außer ggf. in den Ferien und an Feiertagen) \n❗ diese Veranstaltungsreihe wird uU als fortlaufender Termin auch in den Ferien angezeigt – bitte erkundigen Sie sich beim Veranstalter.
URL:https://www.evforum-bonn.de/veranstaltung/lindy-hop-2026/2026-05-05/
LOCATION:Melanchthon Haus der Kreuzkirche\, An der Evangelischen Kirche 6\, Bonn\, NRW\, 53113\, Germany
CATEGORIES:Gesundheit - Krankheit - Medizin,Lindy Hop,Tanz - Bewegung - Gesundheit,Veranstaltungen von Gemeinden,Veranstaltungsreihen
ATTACH;FMTTYPE=image/jpeg:https://www.evforum-bonn.de/wp-content/uploads/2025/07/Lindy-Hop_Foto-by-Lindy-Hop-e1753443452177.jpg
END:VEVENT
END:VCALENDAR