BEGIN:VCALENDAR
VERSION:2.0
PRODID:-//Evangelisches Forum Bonn - ECPv6.15.20//NONSGML v1.0//EN
CALSCALE:GREGORIAN
METHOD:PUBLISH
X-ORIGINAL-URL:https://www.evforum-bonn.de
X-WR-CALDESC:Veranstaltungen für Evangelisches Forum Bonn
REFRESH-INTERVAL;VALUE=DURATION:PT1H
X-Robots-Tag:noindex
X-PUBLISHED-TTL:PT1H
BEGIN:VTIMEZONE
TZID:Europe/Berlin
BEGIN:DAYLIGHT
TZOFFSETFROM:+0100
TZOFFSETTO:+0200
TZNAME:CEST
DTSTART:20250330T010000
END:DAYLIGHT
BEGIN:STANDARD
TZOFFSETFROM:+0200
TZOFFSETTO:+0100
TZNAME:CET
DTSTART:20251026T010000
END:STANDARD
BEGIN:DAYLIGHT
TZOFFSETFROM:+0100
TZOFFSETTO:+0200
TZNAME:CEST
DTSTART:20260329T010000
END:DAYLIGHT
BEGIN:STANDARD
TZOFFSETFROM:+0200
TZOFFSETTO:+0100
TZNAME:CET
DTSTART:20261025T010000
END:STANDARD
BEGIN:DAYLIGHT
TZOFFSETFROM:+0100
TZOFFSETTO:+0200
TZNAME:CEST
DTSTART:20270328T010000
END:DAYLIGHT
BEGIN:STANDARD
TZOFFSETFROM:+0200
TZOFFSETTO:+0100
TZNAME:CET
DTSTART:20271031T010000
END:STANDARD
END:VTIMEZONE
BEGIN:VEVENT
DTSTART;TZID=Europe/Berlin:20260508T100000
DTEND;TZID=Europe/Berlin:20260508T160000
DTSTAMP:20260423T205239
CREATED:20260317T121901Z
LAST-MODIFIED:20260317T123455Z
UID:10006999-1778234400-1778256000@www.evforum-bonn.de
SUMMARY:Hörspiel-Workshop für Senioren
DESCRIPTION:Ein eigenes Hörspiel produzieren – das ist hier möglich! \nFür eine gelungene und lebendige Geschichte braucht es gute Ideen und eine schlüssige Kurzgeschichte. Dabei ist es egal\, ob es sich um einen Krimi\, eine Romanze oder eine Fantasiegeschichte handelt. Die einzelnen Elemente des Hörspiels wie Geräusche\, Musik und Texte werden mit Aufnahmegerät und Mikrofon aufgenommen und anschließend digital zusammengestellt und bearbeitet. So entsteht gemeinsam ein fertiges Produkt\, das mit nach Hause genommen werden kann! \n\n📆 Fr. 08.05.2026 – So. 10.05.2026 | 3x | 10.00 – 16.00 Uhr | 24 Unterrichtsstunden\n\n\n🎙️ Referent/in – Said Suma\n\n\n📍 Raum 1.3\, Lennéstraße 5\, 53113 Bonn\n\n\n\n🎟️ Gebühr – 50\,00 €\n\n\nInfos und Anmeldung: https://www.bildungswerk-ev.de/bildungsforum-bonn/einsamkeit
URL:https://www.evforum-bonn.de/veranstaltung/gemeinsam-gegen-einsam-26-05-08bis10/2026-05-08/
LOCATION:Katholische Familienbildungsstätte Bonn\, Lennéstraße 5 \, Bonn\, 53113\, Deutschland
CATEGORIES:Existenzielle Fragestellungen,Exkursion - Ausflug - Tour,Theologie / Philosophie,Veranstaltungen von Gemeinden,Veranstaltungsreihen
ATTACH;FMTTYPE=image/png:https://www.evforum-bonn.de/wp-content/uploads/2026/02/Einsamkeit-k_ein_Tabu.png
ORGANIZER;CN="Katholisches Bildungsforum Bonn":MAILTO:fbs@bildungsforum-bonn.de
END:VEVENT
BEGIN:VEVENT
DTSTART;TZID=Europe/Berlin:20260508T193000
DTEND;TZID=Europe/Berlin:20260508T210000
DTSTAMP:20260423T205239
CREATED:20260330T095550Z
LAST-MODIFIED:20260407T083002Z
UID:10007335-1778268600-1778274000@www.evforum-bonn.de
SUMMARY:Zeit für Bildung - Der Mai ist gekommen …
DESCRIPTION:Der Frühling im Vorgebirge zeigt eine beeindruckende Vielfalt an Pflanzen und Landschaften. In seinem Vortrag nimmt Dr. Wolfram Kunick\, Landschaftsplaner\, die Teilnehmenden mit auf eine gedankliche Reise durch diese Region. \nAnhand von Beispielen\, Bildern und fachkundigen Erläuterungen stellt er typische Pflanzenarten vor\, erklärt ökologische Zusammenhänge und gibt Einblicke in die Besonderheiten der heimischen Flora. Der Vortrag lädt dazu ein\, die Natur vor der eigenen Haustür bewusster wahrzunehmen und mit neuen Augen zu entdecken. \n\n👉 Freitag\, 08. Mai 2026\, 19.30-21 Uhr • Referent*in: Dr. Wolfram Kunick\, Landschaftsgärtner\n\nAllgemeine Hinweise: Bitte beachten Sie auch Aushänge und Ankündigungen auf unserer Webseite Willkommen | Evangelische Emmaus-Kirchengemeinde an Rhein und Vorgebirge.  Anmeldungen bitte per Mail an evelyn.geupel@t-online.de. \nEintritt bzw. Zugang zu den Veranstaltungen sind immer frei; wir freuen uns über eine Spende – das geht auch auf Entfernung über unser Konto: \n\nIBAN DE68 3506 0190 1088 6280 35\nmit dem Verwendungszweck „Zeit für Bildung“ 🫶
URL:https://www.evforum-bonn.de/veranstaltung/zeit-fr-bildung-26-05/
LOCATION:Ev. Markuskirche Hemmerich\, Rösberger Strasse 35\, Bornheim - Hemmerich\, NRW\, 53332\, Deutschland
CATEGORIES:Aktuelles,Lesung - Vortrag,Politik - Geschichte - Soziologie,Thematische Schwerpunkte,Theologie / Philosophie,Veranstaltungen von Gemeinden,Veranstaltungsreihen,Zeit für Bildung
ATTACH;FMTTYPE=image/jpeg:https://www.evforum-bonn.de/wp-content/uploads/2026/03/Maigloeckchen_Pixabay-Free_Alicja.jpg
END:VEVENT
BEGIN:VEVENT
DTSTART;TZID=Europe/Berlin:20260508T200000
DTEND;TZID=Europe/Berlin:20260508T213000
DTSTAMP:20260423T205239
CREATED:20260320T164728Z
LAST-MODIFIED:20260320T164827Z
UID:10007221-1778270400-1778275800@www.evforum-bonn.de
SUMMARY:"Männerkreis"
DESCRIPTION:▶️ Heute: Manfred Böddeker erkundet mit uns die begeisternde Kraft der Musik. – Max Ehlers \nAustausch\, Impulse & Gemeinschaft \nIm Männerkreis treffen sich Männer aller Altersgruppen zum offenen Austausch über Fragen des Glaubens\, der Gesellschaft und des Lebensalltags. Nach einem kurzen Impuls oder Vortrag gibt es Gelegenheit zur Diskussion\, zum gemeinsamen Nachdenken und für gegenseitige Unterstützung. \nWir laden herzlich ein zu anregenden Abenden in freundschaftlicher Atmosphäre. Neue Teilnehmer sind jederzeit willkommen!
URL:https://www.evforum-bonn.de/veranstaltung/mnnerkreis26-05/
LOCATION:Christuskirche Bad Godesberg\, Wurzerstr. 31\, Bonn - Bad Godesberg\, NRW\, 53175\, Germany
CATEGORIES:Existenzielle Fragestellungen,Gesundheit - Krankheit - Medizin,Philosophisch-psychologische Kaffeehausgespräche,Politik - Geschichte - Soziologie,Theologie / Philosophie,Veranstaltungen von Gemeinden,Veranstaltungsreihen,Weiterbildung allgemein
ATTACH;FMTTYPE=image/png:https://www.evforum-bonn.de/wp-content/uploads/2025/06/Maennerkreis-e1748863717279.png
END:VEVENT
END:VCALENDAR