BEGIN:VCALENDAR
VERSION:2.0
PRODID:-//Evangelisches Forum Bonn - ECPv6.15.20//NONSGML v1.0//EN
CALSCALE:GREGORIAN
METHOD:PUBLISH
X-WR-CALNAME:Evangelisches Forum Bonn
X-ORIGINAL-URL:https://www.evforum-bonn.de
X-WR-CALDESC:Veranstaltungen für Evangelisches Forum Bonn
REFRESH-INTERVAL;VALUE=DURATION:PT1H
X-Robots-Tag:noindex
X-PUBLISHED-TTL:PT1H
BEGIN:VTIMEZONE
TZID:Europe/Berlin
BEGIN:DAYLIGHT
TZOFFSETFROM:+0100
TZOFFSETTO:+0200
TZNAME:CEST
DTSTART:20250330T010000
END:DAYLIGHT
BEGIN:STANDARD
TZOFFSETFROM:+0200
TZOFFSETTO:+0100
TZNAME:CET
DTSTART:20251026T010000
END:STANDARD
BEGIN:DAYLIGHT
TZOFFSETFROM:+0100
TZOFFSETTO:+0200
TZNAME:CEST
DTSTART:20260329T010000
END:DAYLIGHT
BEGIN:STANDARD
TZOFFSETFROM:+0200
TZOFFSETTO:+0100
TZNAME:CET
DTSTART:20261025T010000
END:STANDARD
BEGIN:DAYLIGHT
TZOFFSETFROM:+0100
TZOFFSETTO:+0200
TZNAME:CEST
DTSTART:20270328T010000
END:DAYLIGHT
BEGIN:STANDARD
TZOFFSETFROM:+0200
TZOFFSETTO:+0100
TZNAME:CET
DTSTART:20271031T010000
END:STANDARD
END:VTIMEZONE
BEGIN:VEVENT
DTSTART;TZID=Europe/Berlin:20260509T090000
DTEND;TZID=Europe/Berlin:20260509T180000
DTSTAMP:20260423T192318
CREATED:20250911T124242Z
LAST-MODIFIED:20250911T124342Z
UID:10006211-1778317200-1778349600@www.evforum-bonn.de
SUMMARY:Modul 8/10 Spezielle Klienten (uA Kinder\, Muslime\, Menschen mit Beeinträchtigung)
DESCRIPTION:Interne Kursveranstaltung. Dieses Modul ist Teil der Ausbildung Notfallseelsorge Bonn/Rhein-Sieg (10 Ganztagsmodule\, 09:00–18:00 Uhr).\nDie Teilnahme ist nur nach Zulassung möglich. 👉 Dieser Termin dient der Übersicht für eingeschriebene Teilnehmende. \nHinweise zur Anmeldung:\nDie Anmeldung erfolgt zweistufig (Vormerkung & telefonisches Vorgespräch – danach schriftliche Anmeldung).\nAlle Infos zum Verfahren: evforum-bonn.de/ausbildungskurs-zum-zur-notfallseelsorger-in \nOrganisatorisches (fix für alle Module): \n\nUhrzeit: 09:00–18:00 Uhr\nOrt: Collegium Josephinum Bonn (sofern nicht anders angegeben)\n\nGeplante Termine (jeden 1. Samstag im Monat\, außer in Ferien NRW & an Feiertagen):
URL:https://www.evforum-bonn.de/veranstaltung/ausbildung-notfallseelsorge_modul-8-von-10-2026/
LOCATION:Collegium Josephinum Bonn\, Kölnstraße 413\, Bonn\, NRW\, 53117\, Germany
CATEGORIES:Lehrgang | Kurs,Notfallseelsorge - Ausbildungskurs,Veranstaltungen von Institutionen und Verbänden,Veranstaltungsreihen
ATTACH;FMTTYPE=image/png:https://www.evforum-bonn.de/wp-content/uploads/2025/08/notfallseelsorge_logo_kursiv-1.png
ORGANIZER;CN="Notfallseelsorge Bonn Rhein-Sieg":MAILTO:info@nfs-bn-rsk.de
END:VEVENT
BEGIN:VEVENT
DTSTART;TZID=Europe/Berlin:20260509T100000
DTEND;TZID=Europe/Berlin:20260509T160000
DTSTAMP:20260423T192318
CREATED:20260317T121901Z
LAST-MODIFIED:20260317T123455Z
UID:10007000-1778320800-1778342400@www.evforum-bonn.de
SUMMARY:Hörspiel-Workshop für Senioren
DESCRIPTION:Ein eigenes Hörspiel produzieren – das ist hier möglich! \nFür eine gelungene und lebendige Geschichte braucht es gute Ideen und eine schlüssige Kurzgeschichte. Dabei ist es egal\, ob es sich um einen Krimi\, eine Romanze oder eine Fantasiegeschichte handelt. Die einzelnen Elemente des Hörspiels wie Geräusche\, Musik und Texte werden mit Aufnahmegerät und Mikrofon aufgenommen und anschließend digital zusammengestellt und bearbeitet. So entsteht gemeinsam ein fertiges Produkt\, das mit nach Hause genommen werden kann! \n\n📆 Fr. 08.05.2026 – So. 10.05.2026 | 3x | 10.00 – 16.00 Uhr | 24 Unterrichtsstunden\n\n\n🎙️ Referent/in – Said Suma\n\n\n📍 Raum 1.3\, Lennéstraße 5\, 53113 Bonn\n\n\n\n🎟️ Gebühr – 50\,00 €\n\n\nInfos und Anmeldung: https://www.bildungswerk-ev.de/bildungsforum-bonn/einsamkeit
URL:https://www.evforum-bonn.de/veranstaltung/gemeinsam-gegen-einsam-26-05-08bis10/2026-05-09/
LOCATION:Katholische Familienbildungsstätte Bonn\, Lennéstraße 5 \, Bonn\, 53113\, Deutschland
CATEGORIES:Existenzielle Fragestellungen,Exkursion - Ausflug - Tour,Theologie / Philosophie,Veranstaltungen von Gemeinden,Veranstaltungsreihen
ATTACH;FMTTYPE=image/png:https://www.evforum-bonn.de/wp-content/uploads/2026/02/Einsamkeit-k_ein_Tabu.png
ORGANIZER;CN="Katholisches Bildungsforum Bonn":MAILTO:fbs@bildungsforum-bonn.de
END:VEVENT
END:VCALENDAR