BEGIN:VCALENDAR
VERSION:2.0
PRODID:-//Evangelisches Forum Bonn - ECPv6.15.20//NONSGML v1.0//EN
CALSCALE:GREGORIAN
METHOD:PUBLISH
X-WR-CALNAME:Evangelisches Forum Bonn
X-ORIGINAL-URL:https://www.evforum-bonn.de
X-WR-CALDESC:Veranstaltungen für Evangelisches Forum Bonn
REFRESH-INTERVAL;VALUE=DURATION:PT1H
X-Robots-Tag:noindex
X-PUBLISHED-TTL:PT1H
BEGIN:VTIMEZONE
TZID:Europe/Berlin
BEGIN:DAYLIGHT
TZOFFSETFROM:+0100
TZOFFSETTO:+0200
TZNAME:CEST
DTSTART:20250330T010000
END:DAYLIGHT
BEGIN:STANDARD
TZOFFSETFROM:+0200
TZOFFSETTO:+0100
TZNAME:CET
DTSTART:20251026T010000
END:STANDARD
BEGIN:DAYLIGHT
TZOFFSETFROM:+0100
TZOFFSETTO:+0200
TZNAME:CEST
DTSTART:20260329T010000
END:DAYLIGHT
BEGIN:STANDARD
TZOFFSETFROM:+0200
TZOFFSETTO:+0100
TZNAME:CET
DTSTART:20261025T010000
END:STANDARD
BEGIN:DAYLIGHT
TZOFFSETFROM:+0100
TZOFFSETTO:+0200
TZNAME:CEST
DTSTART:20270328T010000
END:DAYLIGHT
BEGIN:STANDARD
TZOFFSETFROM:+0200
TZOFFSETTO:+0100
TZNAME:CET
DTSTART:20271031T010000
END:STANDARD
END:VTIMEZONE
BEGIN:VEVENT
DTSTART;TZID=Europe/Berlin:20260510T100000
DTEND;TZID=Europe/Berlin:20260510T160000
DTSTAMP:20260423T192940
CREATED:20260317T121901Z
LAST-MODIFIED:20260317T123455Z
UID:10007001-1778407200-1778428800@www.evforum-bonn.de
SUMMARY:Hörspiel-Workshop für Senioren
DESCRIPTION:Ein eigenes Hörspiel produzieren – das ist hier möglich! \nFür eine gelungene und lebendige Geschichte braucht es gute Ideen und eine schlüssige Kurzgeschichte. Dabei ist es egal\, ob es sich um einen Krimi\, eine Romanze oder eine Fantasiegeschichte handelt. Die einzelnen Elemente des Hörspiels wie Geräusche\, Musik und Texte werden mit Aufnahmegerät und Mikrofon aufgenommen und anschließend digital zusammengestellt und bearbeitet. So entsteht gemeinsam ein fertiges Produkt\, das mit nach Hause genommen werden kann! \n\n📆 Fr. 08.05.2026 – So. 10.05.2026 | 3x | 10.00 – 16.00 Uhr | 24 Unterrichtsstunden\n\n\n🎙️ Referent/in – Said Suma\n\n\n📍 Raum 1.3\, Lennéstraße 5\, 53113 Bonn\n\n\n\n🎟️ Gebühr – 50\,00 €\n\n\nInfos und Anmeldung: https://www.bildungswerk-ev.de/bildungsforum-bonn/einsamkeit
URL:https://www.evforum-bonn.de/veranstaltung/gemeinsam-gegen-einsam-26-05-08bis10/2026-05-10/
LOCATION:Katholische Familienbildungsstätte Bonn\, Lennéstraße 5 \, Bonn\, 53113\, Deutschland
CATEGORIES:Existenzielle Fragestellungen,Exkursion - Ausflug - Tour,Theologie / Philosophie,Veranstaltungen von Gemeinden,Veranstaltungsreihen
ATTACH;FMTTYPE=image/png:https://www.evforum-bonn.de/wp-content/uploads/2026/02/Einsamkeit-k_ein_Tabu.png
ORGANIZER;CN="Katholisches Bildungsforum Bonn":MAILTO:fbs@bildungsforum-bonn.de
END:VEVENT
BEGIN:VEVENT
DTSTART;TZID=Europe/Berlin:20260510T180000
DTEND;TZID=Europe/Berlin:20260510T193000
DTSTAMP:20260423T192940
CREATED:20260205T122732Z
LAST-MODIFIED:20260205T122732Z
UID:10006876-1778436000-1778441400@www.evforum-bonn.de
SUMMARY:Christlicher Yoga-Gottesdienst
DESCRIPTION:Beim Yoga-Gottesdienst erlebst Du eine tiefe Verbindung zu Dir und zu Gott durch Körpergebet\, leichte Bewegungen\, Musik\, Meditation und  Du erhältst neue Impulse für Deine Spiritualität.\nBring eine Matte und ein Sitzkissen mit\, Stühle sind vorhanden. \nDie leichten Übungen können alle Menschen vom Stuhl oder der  Matte  aus \, im Stehen oder Sitzen mitmachen. \nMit ▶️ Bärbel Bressler (Pfarrerin i.R.) • Diemut Barth (Sela-Yogalehrerin) • Cleveland Kersh (Kantor)
URL:https://www.evforum-bonn.de/veranstaltung/christlicher-yoga-gottesdienst/
LOCATION:Gemeindehaus der Apostelkirche\, Lievelingsweg 162\, Bonn\, NRW\, 53119\, Germany
CATEGORIES:Gesundheit - Krankheit - Medizin,Gottesdienst und Bildung,Tanz - Bewegung - Gesundheit,Veranstaltungen von Gemeinden,Veranstaltungsreihen
ATTACH;FMTTYPE=image/jpeg:https://www.evforum-bonn.de/wp-content/uploads/2025/09/10.05.2026-Yoga-Gottesdienst-Apostel-1.jpg
END:VEVENT
BEGIN:VEVENT
DTSTART;TZID=Europe/Berlin:20260510T180000
DTEND;TZID=Europe/Berlin:20260510T200000
DTSTAMP:20260423T192940
CREATED:20260407T104010Z
LAST-MODIFIED:20260407T104415Z
UID:10007394-1778436000-1778443200@www.evforum-bonn.de
SUMMARY:Nepal. Menschen\, Kultur und Landschaften im Schatten der Achttausender.
DESCRIPTION:Sonntag\, 10.5.2026 18.00 Uhr\, Christuskirche Bad Godesberg \nNepal. Menschen\, Kultur und Landschaften im Schatten der Achttausender. \nLive-Reportage von Fred Eversmann. \nNepalhilfe Bonn e.V. präsentiert ihre Förderprojekte. \nEintritt frei – Spenden erwünscht \nNepal. Menschen\, Kultur und Landschaften im Schatten der Achttausender. – Ev. Thomas-Kirchengemeinde Bad Godesberg
URL:https://www.evforum-bonn.de/veranstaltung/nepal-thomaskirche-2026/
LOCATION:Christuskirche Bad Godesberg\, Wurzerstr. 31\, Bonn - Bad Godesberg\, NRW\, 53175\, Germany
CATEGORIES:Ev. Thomas-Kirchengemeinde,Film - Medien - Dialog,Lesung - Vortrag,Migration - Kultur - Kultureller Austausch,Veranstaltungen von Gemeinden,Weiterbildung allgemein
ATTACH;FMTTYPE=image/jpeg:https://www.evforum-bonn.de/wp-content/uploads/2026/04/Nepal_Pixabay-Free-von-Azael-Pitti.jpg
END:VEVENT
END:VCALENDAR