BEGIN:VCALENDAR
VERSION:2.0
PRODID:-//Evangelisches Forum Bonn - ECPv6.15.20//NONSGML v1.0//EN
CALSCALE:GREGORIAN
METHOD:PUBLISH
X-WR-CALNAME:Evangelisches Forum Bonn
X-ORIGINAL-URL:https://www.evforum-bonn.de
X-WR-CALDESC:Veranstaltungen für Evangelisches Forum Bonn
REFRESH-INTERVAL;VALUE=DURATION:PT1H
X-Robots-Tag:noindex
X-PUBLISHED-TTL:PT1H
BEGIN:VTIMEZONE
TZID:Europe/Berlin
BEGIN:DAYLIGHT
TZOFFSETFROM:+0100
TZOFFSETTO:+0200
TZNAME:CEST
DTSTART:20250330T010000
END:DAYLIGHT
BEGIN:STANDARD
TZOFFSETFROM:+0200
TZOFFSETTO:+0100
TZNAME:CET
DTSTART:20251026T010000
END:STANDARD
BEGIN:DAYLIGHT
TZOFFSETFROM:+0100
TZOFFSETTO:+0200
TZNAME:CEST
DTSTART:20260329T010000
END:DAYLIGHT
BEGIN:STANDARD
TZOFFSETFROM:+0200
TZOFFSETTO:+0100
TZNAME:CET
DTSTART:20261025T010000
END:STANDARD
BEGIN:DAYLIGHT
TZOFFSETFROM:+0100
TZOFFSETTO:+0200
TZNAME:CEST
DTSTART:20270328T010000
END:DAYLIGHT
BEGIN:STANDARD
TZOFFSETFROM:+0200
TZOFFSETTO:+0100
TZNAME:CET
DTSTART:20271031T010000
END:STANDARD
END:VTIMEZONE
BEGIN:VEVENT
DTSTART;TZID=Europe/Berlin:20260521T100000
DTEND;TZID=Europe/Berlin:20260521T160000
DTSTAMP:20260423T192143
CREATED:20260408T100143Z
LAST-MODIFIED:20260408T100143Z
UID:10007397-1779357600-1779379200@www.evforum-bonn.de
SUMMARY:Toxische Gemeinschaften – Geistlichen Missbrauch erkennen und verstehen
DESCRIPTION:Was genau ist unter geistlichem Missbrauch zu verstehen? Wie geraten Menschen in missbräuchliche religiöse Strukturen – und warum fällt es ihnen oft so schwer\, diese wieder zu verlassen? \nDer Studientag widmet sich diesen Fragen aus wissenschaftlicher und praktischer Perspektive. Im Mittelpunkt stehen die Erfahrungen von Betroffenen sowie aktuelle Erkenntnisse aus Forschung und Beratung. \nAm Vormittag stellt die systemische Therapeutin und Beraterin Stephanie Butenkemper Ergebnisse ihrer qualitativen Studie vor. Auf dieser Grundlage werden Dynamiken geistlichen Missbrauchs sowie dessen Auswirkungen auf das Leben der Betroffenen beleuchtet. Neben dem fachlichen Input gibt es Raum für Austausch und Diskussion. \nAm Nachmittag berichten zwei Betroffene aus unterschiedlichen Kontexten von ihren persönlichen Erfahrungen mit geistlichem und emotionalem Missbrauch. Sie geben Einblicke in ihre Lebensgeschichten\, ihre Wege des Ausstiegs und die langfristigen Auswirkungen auf Beziehungen\, Glauben und Spiritualität. \nDiese Tagung in ihren beiden Hauptteilen ist eine offene Tagung\, zu der nicht nur Synodalbeauftragte für Weltanschauungsfragen unserer Landeskirche eingeladen sind\, sondern sie steht allen Interessierten in der EKiR offen. \n👤 Referentin: Stephanie Butenkemper\, Systemische Therapeutin (M.A. Counseling)👥 Mitwirkende: Betroffene aus unterschiedlichen religiösen Kontexten \n\n📍 Donnerstag\, 21. Mai 2026\, 10:00–16:00 Uhr📌 Haus der Evangelischen Kirche (HdK)\, Adenauerallee 37\, 53113 Bonn \n\n🕘 Ablauf (Auszug):• 10:00 Uhr Ankunft und internes Dienstgespräch• 11:00 Uhr Vortrag und Diskussion „Toxische Gemeinschaften – Geistlichen Missbrauch erkennen und verstehen“; Stephanie Butenkemper• 13:00 Uhr Mittagsimbiss• 14:00 Uhr Erfahrungsberichte und Gespräch Frau S. – WERA Forum\, Herr F. – Jehovas Zeugen• ca. 16:00 Uhr Ende \n💶 Teilnahmebeitrag: 20 € (bar vor Ort) *bei Nichterscheinen\, ohne Abmeldung wird der Teilnahmebeitrag trotzdem fällig \n📧 Anmeldung bis 13.05.2026: sektenfragen@ekir.de \nEine Veranstaltung des Ev. Landespfarramt für Weltanschauungsfragen
URL:https://www.evforum-bonn.de/veranstaltung/toxische-gemeinschaften-geistlichen-missbrauch-erkennen-und-verstehen/
LOCATION:Haus der Ev. Kirche Bonn\, Adenauerallee 37\, Bonn\, NRW\, 53113\, Germany
CATEGORIES:Haus der Ev. Kirche Bonn,Politik - Geschichte - Soziologie,Theologie / Philosophie,Veranstaltungen von Gemeinden,Veranstaltungen von Institutionen und Verbänden
ATTACH;FMTTYPE=image/jpeg:https://www.evforum-bonn.de/wp-content/uploads/2026/04/Missbrauch_Pixabay-Free_Alexas-Fotos.jpg
ORGANIZER;CN="Landespfarramt f%C3%BCr Weltanschauungsfragen":MAILTO:info@sektenfragen.de
END:VEVENT
BEGIN:VEVENT
DTSTART;TZID=Europe/Berlin:20260521T163000
DTEND;TZID=Europe/Berlin:20260521T180000
DTSTAMP:20260423T192143
CREATED:20260114T125448Z
LAST-MODIFIED:20260114T130404Z
UID:10006432-1779381000-1779386400@www.evforum-bonn.de
SUMMARY:Klupp ’91: Ökumenischer Seniorenkreis
DESCRIPTION:Paul Gerhardt – mit dem beliebtesten protestantischen Liederdichter über dem Lebenschaos wandeln. \nMit göttlicher Resilienz wanderte Paul Gerhardt dichtend über meerestiefe Abgründe menschlicher Existenz und ermutigte unzählige Menschen\, an der Hand Jesu Christi\, bei Sturm und Wellen über ihre Untiefen hinwegzukommen. Der ehemalige Bonner Kreuzkirchenpfarrer und Gymnasiallehrer Rüdiger Petrat nimmt uns mit auf eine Abenteuerreise durch die Welt der lutherisch geprägten Poesie. \nÖkum. Seniorenkreis Klupp.91_1. HJ 26 • off. Flyer \nDer Kreis lebensfroher unternehmungslustiger passionierter Pensionäre ist ein ökumenischer Seniorenkreis für Aktive und Junggebliebene. Er bietet Themennachmittage aus Kirche und Gesellschaft sowie Referate\, Gespräche\, Kultur und Exkursionen. \nDer Klupp 91 trifft sich in der Regel einmal monatlich\, donnerstags von 16.30 bis 18.00 Uhr im 📍 Evangelisches Gemeindezentrum Auerberg\, Helsinkistraße 4\, 53117 Bonn (oder anderen Orten siehe Ausschreibung) \nAnsprechpartner: Dr. Joachim Rott – Tel. 0157 82296972 – jn.rott@web.de | Werner Freesen – Tel 0228 676605 – WFreesen@web.de 
URL:https://www.evforum-bonn.de/veranstaltung/oekumenischer-seniorenkreis-26-05/
LOCATION:Ev. Gemeindeforum Auerberg\, Helsinkistraße 4\, Bonn\, 53117\, Deutschland
CATEGORIES:Altern und Alter,Angebote für Senioren,Existenzielle Fragestellungen,Philosophisch-psychologische Kaffeehausgespräche,Politik - Geschichte - Soziologie,Seniorenbildung,Seniorenkreis -nachmittag,Theologie / Philosophie,Veranstaltungen von Gemeinden,Veranstaltungsreihen
ATTACH;FMTTYPE=image/jpeg:https://www.evforum-bonn.de/wp-content/uploads/2025/01/klupp91_logo.jpg
ORGANIZER;CN="%C3%96kum. Seniorenkreis Klupp %C2%B491 der Ev. Mirjam-Kirchengemeinde Bonn":MAILTO:jn.rott@web.de
END:VEVENT
BEGIN:VEVENT
DTSTART;TZID=Europe/Berlin:20260521T190000
DTEND;TZID=Europe/Berlin:20260521T210000
DTSTAMP:20260423T192143
CREATED:20260324T122912Z
LAST-MODIFIED:20260324T123419Z
UID:10007328-1779390000-1779397200@www.evforum-bonn.de
SUMMARY:Bestattung und Bestattungsriten – vom Tod bis zum Grab
DESCRIPTION:Bestattung und Bestattungsriten – vom Tod bis zum Grab\nMuslimische Perspektive\nKaan M. Orhon\, Grüner Vogel\nTotenwaschung\, rituelle Vorbereitung\, Ausrichtung des Grabes nach Mekka\, Beisetzung ohne Sarg\, Bedeutung frischer Erde\, muslimische Grabfelder auf Bonner Friedhöfen und die traditionelle Totenbekleidung. \nChristliche Perspektive\nWerner und Eva Kentrup\, Bestattungsunternehmen Hebenstreit & Kentrup\, Bonn\nSarg oder Urne\, Friedhofspflicht\, veränderte Bestattungsriten\, Ruhezeiten und gesetzliche Rahmenbedingungen. Einblick in aktuelle Entwicklungen der christlichen Bestattungskultur. \nModeration: Pfr. Michael Schäfer \n\nZweiteilige interreligiöse Bildungsreihe am 07. und 21. Mai 2026 \nVorschau am 21. Mai: „Bestattung und Bestattungsriten – vom Tod bis zum Grab“ \nVeranstalter: Evangelisches Forum Bonn und MuChri – Muslime und Christen im Bonner Norden\n📍 Ort: DiTiB-Moschee an der Viktoriabrücke\, Bonn – jeweils 19 – 21 Uhr\n🎟️ Die Veranstaltungen sind öffentlich und kostenfrei. \nWie gehen Christentum und Islam mit Trauer\, Abschied und Bestattung um?\nWelche religiösen Traditionen tragen Menschen in Zeiten des Verlusts?\nUnd wie unterscheiden sich die Riten – vom ersten Moment der Trauer bis zur Beisetzung? \nIn dieser zweiteiligen Bildungsreihe kommen Fachpersonen aus muslimischer\, evangelischer und katholischer Perspektive miteinander und mit dem Publikum ins Gespräch. Kurze Impulsvorträge (10–15 Minuten) eröffnen jeweils den Abend\, anschließend bleibt rund eine Stunde Raum für Fragen und Diskussion.
URL:https://www.evforum-bonn.de/veranstaltung/bestattung-und-bestattungsriten-vom-tod-bis-zum-grab/
LOCATION:DiTiB – Zentralmoschee Bonn\, Hochstadenring 43\, Bonn\, NRW\, 53119\, Germany
CATEGORIES:Aktuelles,Ev. Forum Bonn,Islam - Muslime und Christen,Migration - Kultur - Kultureller Austausch,Veranstaltungen von Gemeinden,Veranstaltungen von Institutionen und Verbänden,Veranstaltungsreihen,Zentralprogramm
ATTACH;FMTTYPE=image/jpeg:https://www.evforum-bonn.de/wp-content/uploads/2025/08/07._21.05.26-MuChri_Christentum-Islam-1.jpg
END:VEVENT
END:VCALENDAR