BEGIN:VCALENDAR
VERSION:2.0
PRODID:-//Evangelisches Forum Bonn - ECPv6.15.20//NONSGML v1.0//EN
CALSCALE:GREGORIAN
METHOD:PUBLISH
X-ORIGINAL-URL:https://www.evforum-bonn.de
X-WR-CALDESC:Veranstaltungen für Evangelisches Forum Bonn
REFRESH-INTERVAL;VALUE=DURATION:PT1H
X-Robots-Tag:noindex
X-PUBLISHED-TTL:PT1H
BEGIN:VTIMEZONE
TZID:Europe/Berlin
BEGIN:DAYLIGHT
TZOFFSETFROM:+0100
TZOFFSETTO:+0200
TZNAME:CEST
DTSTART:20250330T010000
END:DAYLIGHT
BEGIN:STANDARD
TZOFFSETFROM:+0200
TZOFFSETTO:+0100
TZNAME:CET
DTSTART:20251026T010000
END:STANDARD
BEGIN:DAYLIGHT
TZOFFSETFROM:+0100
TZOFFSETTO:+0200
TZNAME:CEST
DTSTART:20260329T010000
END:DAYLIGHT
BEGIN:STANDARD
TZOFFSETFROM:+0200
TZOFFSETTO:+0100
TZNAME:CET
DTSTART:20261025T010000
END:STANDARD
BEGIN:DAYLIGHT
TZOFFSETFROM:+0100
TZOFFSETTO:+0200
TZNAME:CEST
DTSTART:20270328T010000
END:DAYLIGHT
BEGIN:STANDARD
TZOFFSETFROM:+0200
TZOFFSETTO:+0100
TZNAME:CET
DTSTART:20271031T010000
END:STANDARD
END:VTIMEZONE
BEGIN:VEVENT
DTSTART;TZID=Europe/Berlin:20260524T100000
DTEND;TZID=Europe/Berlin:20260524T110000
DTSTAMP:20260423T192512
CREATED:20260415T144827Z
LAST-MODIFIED:20260416T065518Z
UID:10007409-1779616800-1779620400@www.evforum-bonn.de
SUMMARY:„Neue Kraft zum Leben“
DESCRIPTION:Pfingstsonntag\, 24. Mai 2026\, 10.00 Uhr:\nARD-Fernsehgotttesdienst\nlive aus der Lutherkirche Bonn\nmit Eckart von Hirschhausen und Pfarrer Joachim Gerhardt \nFeiern Sie mit uns einen ganz besonderen Gottesdienst in der Lutherkirche in der Bonner Südstadt. Die ARD überträgt live und es erwarten Sie neben PFARRER JOACHIM GERHARDT und ECKART VON HIRSCHHAUSEN mit eigenen\, ganz persönlichen Impulsen ein ausgesuchtes und vielfältiges Musikprogramm: die Sopranistin ANNA HERBST – ihre Engagements führten sie u.a. in die Elbphilharmonie Hamburg und die Kölner Philharmonie – und die aus Nigeria stammende Gospel-Sängerin CHIOMA IGWE\, die Sie mit ihrem Soul bewegen wird. Der ECHO Klassik-Preisträger GÁBOR HEGYI ist ein Virtuose an der Barocktrompete und hat weltweite Engagements. \nUnterstützt wird das Musikprogramm vom Projektchor der EV. STUDIERENDENGEMEINDE BONN (ESG) und dem Kammerorchester der Lutherkirche u.a. mit herausragenden Musikerinnen und Musikern aus dem Beethoven Orchester Bonn\, alles unter Leitung von Kantor MARC JAQUET. \n📍 Ort: Lutherkirche Bonn\, Reuterstr. 11. \n🎟️ Der Einlass ist wie bei allen Gottesdiensten natürlich kostenlos. Es gibt keine Platzreservierung\, die Kirche ist ab 08:30 Uhr geöffnet \nwww.lutherkirche-bonn.de
URL:https://www.evforum-bonn.de/veranstaltung/neue-kraft-zum-leben/
LOCATION:Ev. Lutherkirche\, Reuterstr. 11\, Bonn\, 53113
CATEGORIES:Aktuelles,Ev. Lutherkirchengemeinde,Veranstaltungen von Gemeinden
ATTACH;FMTTYPE=image/jpeg:https://www.evforum-bonn.de/wp-content/uploads/2026/04/24.05.26-ARD-Fernsehgottesdienst-Luther.jpeg
ORGANIZER;CN="Evangelische Lutherkirchengemeinde Bonn":MAILTO:buero@lutherkirche-bonn.de
END:VEVENT
BEGIN:VEVENT
DTSTART;TZID=Europe/Berlin:20260524T110000
DTEND;TZID=Europe/Berlin:20260524T133000
DTSTAMP:20260423T192512
CREATED:20260218T155227Z
LAST-MODIFIED:20260218T155227Z
UID:10006900-1779620400-1779629400@www.evforum-bonn.de
SUMMARY:Kulturcafé & Kunstworkshop „Schön Zuhause“
DESCRIPTION:Der Workshop „Schön Zuhause“ ist Teil einer kreativen Trilogie\, die mit „Schenk mir einen Satz“ und „Schenk mir deine Farbe“ begann. Hier bekommen Ihre Ideen und Farben ein Zuhause voller Freude\, Kreativität und gemeinschaftlichem Austausch. \nTermine (sonntags\, jeweils 11–13:30 Uhr):\n• 24.5.2026\n• 28.6.2026\n• 26.7.2026 \nFür wen? Für alle – unabhängig von internationaler Geschichte sowie für Menschen mit und ohne Behinderungen. \nKosten & Anmeldung: Kostenfrei.\nAnmeldung per E-Mail an projektanderssehen@ekir.de  Bitte melden Sie sich vorab\, wenn Sie Unterstützung benötigen.   \nAusstellung: Präsentation der entstandenen Werke vom 23.8.2026 bis 30.8.2026. \nKonzeption & Leitung: Dr. Sibel Akkulak-Dosch\nUnterstützt von Yuriko Lenz \nIn Kooperation mit: „Mittendrin. Gemeinsam gegen Hass und Antisemitismus im Bonner Norden“
URL:https://www.evforum-bonn.de/veranstaltung/kulturcafe-kunstworkshop-schoen-zuhause/2026-05-24/
LOCATION:Migrapolis- Haus der Vielfalt\, Brüdergasse 16–18\, Bonn\, 53111\, Deutschland
CATEGORIES:Kunst - Musik - Literatur,Migration - Kultur - Kultureller Austausch,Veranstaltungen von Gemeinden,Veranstaltungen von Institutionen und Verbänden,Veranstaltungsreihen
ATTACH;FMTTYPE=image/png:https://www.evforum-bonn.de/wp-content/uploads/2025/09/Zuhause_Kultuercafe_Mai_Juli_2026.png
END:VEVENT
END:VCALENDAR