BEGIN:VCALENDAR
VERSION:2.0
PRODID:-//Evangelisches Forum Bonn - ECPv6.15.20//NONSGML v1.0//EN
CALSCALE:GREGORIAN
METHOD:PUBLISH
X-WR-CALNAME:Evangelisches Forum Bonn
X-ORIGINAL-URL:https://www.evforum-bonn.de
X-WR-CALDESC:Veranstaltungen für Evangelisches Forum Bonn
REFRESH-INTERVAL;VALUE=DURATION:PT1H
X-Robots-Tag:noindex
X-PUBLISHED-TTL:PT1H
BEGIN:VTIMEZONE
TZID:Europe/Berlin
BEGIN:DAYLIGHT
TZOFFSETFROM:+0100
TZOFFSETTO:+0200
TZNAME:CEST
DTSTART:20250330T010000
END:DAYLIGHT
BEGIN:STANDARD
TZOFFSETFROM:+0200
TZOFFSETTO:+0100
TZNAME:CET
DTSTART:20251026T010000
END:STANDARD
BEGIN:DAYLIGHT
TZOFFSETFROM:+0100
TZOFFSETTO:+0200
TZNAME:CEST
DTSTART:20260329T010000
END:DAYLIGHT
BEGIN:STANDARD
TZOFFSETFROM:+0200
TZOFFSETTO:+0100
TZNAME:CET
DTSTART:20261025T010000
END:STANDARD
BEGIN:DAYLIGHT
TZOFFSETFROM:+0100
TZOFFSETTO:+0200
TZNAME:CEST
DTSTART:20270328T010000
END:DAYLIGHT
BEGIN:STANDARD
TZOFFSETFROM:+0200
TZOFFSETTO:+0100
TZNAME:CET
DTSTART:20271031T010000
END:STANDARD
END:VTIMEZONE
BEGIN:VEVENT
DTSTART;TZID=Europe/Berlin:20260529T150000
DTEND;TZID=Europe/Berlin:20260529T180000
DTSTAMP:20260423T204908
CREATED:20260317T122940Z
LAST-MODIFIED:20260317T123254Z
UID:10007003-1780066800-1780077600@www.evforum-bonn.de
SUMMARY:Zusammen geht was: Ein Fest für alle!
DESCRIPTION:Kontakte\, Spaß und Gelegenheit zum Austausch – ein Nachmittag zum Wohlfühlen\, Kennenlernen\nund einfach gemeinsam Feiern. \n📍 Haus Mondial \nohne Anmeldung
URL:https://www.evforum-bonn.de/veranstaltung/einsam-26-05-29/
LOCATION:Haus Mondial\, Fritz-Tillmann-Str. 9\, Bonn\, NRW\, 53113\, Germany
CATEGORIES:Ev. Forum Bonn,Existenzielle Fragestellungen,Theologie / Philosophie,Veranstaltungen von Gemeinden,Veranstaltungsreihen
ATTACH;FMTTYPE=image/png:https://www.evforum-bonn.de/wp-content/uploads/2026/02/Einsamkeit-k_ein_Tabu.png
ORGANIZER;CN="Haus Mondial%2C Caritasverband Bonn e.V.":MAILTO:mondial@caritas-bonn.de
END:VEVENT
BEGIN:VEVENT
DTSTART;TZID=Europe/Berlin:20260529T160000
DTEND;TZID=Europe/Berlin:20260529T173000
DTSTAMP:20260423T204908
CREATED:20260318T162856Z
LAST-MODIFIED:20260318T163104Z
UID:10007040-1780070400-1780075800@www.evforum-bonn.de
SUMMARY:Quer und Kreuz
DESCRIPTION:Die evangelischen Kirchengemeinden Meckenheim und Rheinbach laden zusammen Kinder von 4 bis 10 Jahren zu zwei kreativen Nachmittagen ein. Unter dem Titel „Quer und Kreuz“ entdecken die Kinder biblische Geschichten spielerisch\, kreativ und in Bewegung. \nAm Freitag\, 20. März\, findet „Quer“ im Gemeindezentrum Rheinbach statt. Es geht um Daniel\, welcher sich vielleicht nicht ganz so typisch in einer Löwengrube verhalten hat. Am Freitag\, 29. Mai\, folgt „Kreuz“ im Gemeindezentrum Meckenheim. Hier bleibt das Thema noch ein Geheimnis. Kreative Stationen\, Spiele\, gemeinsames Singen und eine Segensaktion runden die Nachmittage ab. \nBeide Veranstaltungen dauern jeweils von 16:00 bis 17:30 Uhr.\nEine Anmeldung erleichtert die Planung. Bei jüngeren Kindern freuen wir uns über eine Begleitung von Erwachsenen. \nTermine und Orte:\n• 20. März – Gemeindezentrum Rheinbach\, Ramershovener Straße 6\n• 29. Mai – Gemeindezentrum Meckenheim\, Markeeweg 7 \n🎟️ Anmeldung HIER \n❗ Eine Veranstaltung der Ev. Kirchengemeinde Rheinbach und Meckenheim\n \nWillkommen – Evangelische Kirchengemeinde Meckenheim     https://ev-kircherheinbach.de/
URL:https://www.evforum-bonn.de/veranstaltung/quer-und-kreuz-2026_1/
LOCATION:Gemeindezentrum Meckenheim\, Markeeweg 7\, Meckenheim\, NRW\, 53340\, Germany
CATEGORIES:Kirche für Kinder,Veranstaltungen von Gemeinden
ATTACH;FMTTYPE=image/png:https://www.evforum-bonn.de/wp-content/uploads/2026/03/20.03._29.05.26-Quer-und-Kreuz-Rheinbach_Meckenheim.png
END:VEVENT
BEGIN:VEVENT
DTSTART;TZID=Europe/Berlin:20260529T190000
DTEND;TZID=Europe/Berlin:20260529T203000
DTSTAMP:20260423T204908
CREATED:20260128T132310Z
LAST-MODIFIED:20260318T173751Z
UID:10007127-1780081200-1780086600@www.evforum-bonn.de
SUMMARY:Fotogruppe Hardtberg
DESCRIPTION:14 tägig Freitags um 19 Uhr\n\n\nDie Fotogruppe trifft sich regelmäßig um dem gemeinsamen Hobby der Fotografie nachzugehen. Wir probieren zusammen unterschiedliche Motive und Lichtverhältnisse aus\, erlernen Fotografiertechniken und erleben eine schöne gemeinsame Zeit. Manche der Fotos auf unserer Website stammen von der Fotogruppe.\n\n\nKontakt: Dr. Klaus Vedder\, Tel. 0171 7441471\nDr. Urs von Deimling\, Tel. 0172 6328220
URL:https://www.evforum-bonn.de/veranstaltung/fotogruppe-hardtberg-2026/2026-05-29/
LOCATION:Gemeindezentrum Matthäikirche\, Gutenbergstraße 10\, Bonn\, 53123\, Deutschland
CATEGORIES:Kunst - Musik - Literatur,Veranstaltungen von Gemeinden,Veranstaltungsreihen
ATTACH;FMTTYPE=image/jpeg:https://www.evforum-bonn.de/wp-content/uploads/2025/05/Kamera_Pixabay-Free_PublicDomainArchive-e1748429758644.jpg
ORGANIZER;CN="Ev. Kirchengemeinde im Bonner Westen (Hardtberg)":MAILTO:hardtberg@ekir.de
END:VEVENT
END:VCALENDAR