BEGIN:VCALENDAR
VERSION:2.0
PRODID:-//Evangelisches Forum Bonn - ECPv6.15.20//NONSGML v1.0//EN
CALSCALE:GREGORIAN
METHOD:PUBLISH
X-ORIGINAL-URL:https://www.evforum-bonn.de
X-WR-CALDESC:Veranstaltungen für Evangelisches Forum Bonn
REFRESH-INTERVAL;VALUE=DURATION:PT1H
X-Robots-Tag:noindex
X-PUBLISHED-TTL:PT1H
BEGIN:VTIMEZONE
TZID:Europe/Berlin
BEGIN:DAYLIGHT
TZOFFSETFROM:+0100
TZOFFSETTO:+0200
TZNAME:CEST
DTSTART:20250330T010000
END:DAYLIGHT
BEGIN:STANDARD
TZOFFSETFROM:+0200
TZOFFSETTO:+0100
TZNAME:CET
DTSTART:20251026T010000
END:STANDARD
BEGIN:DAYLIGHT
TZOFFSETFROM:+0100
TZOFFSETTO:+0200
TZNAME:CEST
DTSTART:20260329T010000
END:DAYLIGHT
BEGIN:STANDARD
TZOFFSETFROM:+0200
TZOFFSETTO:+0100
TZNAME:CET
DTSTART:20261025T010000
END:STANDARD
BEGIN:DAYLIGHT
TZOFFSETFROM:+0100
TZOFFSETTO:+0200
TZNAME:CEST
DTSTART:20270328T010000
END:DAYLIGHT
BEGIN:STANDARD
TZOFFSETFROM:+0200
TZOFFSETTO:+0100
TZNAME:CET
DTSTART:20271031T010000
END:STANDARD
END:VTIMEZONE
BEGIN:VEVENT
DTSTART;TZID=Europe/Berlin:20260611T100000
DTEND;TZID=Europe/Berlin:20260611T120000
DTSTAMP:20260423T180646
CREATED:20260128T131129Z
LAST-MODIFIED:20260128T131325Z
UID:10006708-1781172000-1781179200@www.evforum-bonn.de
SUMMARY:Gesprächskreis Lyrik II 2026
DESCRIPTION:An jedem 2. Donnerstag im Monat treffen sich Lyrik-Interessierte zum Austausch und Vortrag von ausgewählten Texten. \nDie Gruppe entscheidet welche Lyriker oder welche Themen behandelt werden sollen. \nLeitung: Antje Wille\, Tel. 64 48 13
URL:https://www.evforum-bonn.de/veranstaltung/gesprchskreis-lyrik-ii-2026/2026-06-11/
LOCATION:Die WOHNUNG\, Stresemannstr. 28\, Bonn\, 53123
CATEGORIES:Kunst - Musik - Literatur,Veranstaltungen von Gemeinden
ATTACH;FMTTYPE=image/jpeg:https://www.evforum-bonn.de/wp-content/uploads/2025/01/Literaturkreis.jpg
ORGANIZER;CN="Ev. Kirchengemeinde im Bonner Westen (Hardtberg)":MAILTO:hardtberg@ekir.de
END:VEVENT
BEGIN:VEVENT
DTSTART;TZID=Europe/Berlin:20260611T173000
DTEND;TZID=Europe/Berlin:20260611T190000
DTSTAMP:20260423T180646
CREATED:20260317T124041Z
LAST-MODIFIED:20260317T124622Z
UID:10007006-1781199000-1781204400@www.evforum-bonn.de
SUMMARY:Gemeinsam stark durch soziale Verbundenheit
DESCRIPTION:Gerade in Veränderungsphasen spüren wir\, wie wichtig soziale Verbundenheit für uns ist. Der Übergang in den Ruhestand\, der Verlust eines wichtigen Menschen oder  eine gesundheitliche Herausforderung – all das lässt sich mit Unterstützung anderer Menschen leichter bestehen. Verbindungen zu knüpfen und zu pflegen\, bedeutet  Lebensqualität und beugt Einsamkeitsgefühlen vor. Mit humorvoller Experimentierfreude können die Teilnehmenden in diesem Seminar kleine Tipps und  Werkzeuge ausprobieren\, die es erleichtern\, mit Menschen in Kontakt zu kommen und verbunden zu bleiben. Schwerpunkte der drei praxisorientierten Abende sind Small Talk\, aktives Zuhören und das Wahrnehmen von Bedürfnissen und Emotionen im zwischenmenschlichen Miteinander. Für Getränke und Knabbereien ist gesorgt! \n📆 Do. 11.06.2026 – Do. 25.06.2026 | 3 Termine | 17.30 – 19.00 Uhr | 6 Unterrichtsstunden\n\n\n🎙️ Referent/in: Dr. Christina Pfestroff\n\n\n📍 Kita St. Peter\, Am Ehrenmal 1\, 53127 Bonn\n\n\n\n🎟️ Gebühr auf Anfrage\n\n\n\n\nAnmeldung bei Johanna Gerken per E-Mail oder per Telefon\n\n\n\nEinzeltermine\n\n\n\n\n\n\nDatum\nZeitraum\nOrt/Raum\n\n\n\n\nDo.\, 11.06.2026\n17:30 – 19:00 Uhr\n\n\n\nDo.\, 18.06.2026\n17:30 – 19:00 Uhr\n\n\n\nDo.\, 25.06.2026\n17:30 – 19:00 Uhr\n\n\n\n\n\n\n\n\nInformationen über: https://www.bildungswerk-ev.de/bildungsforum-bonn/einsamkeit
URL:https://www.evforum-bonn.de/veranstaltung/einsamkeit-26-06-11bis25/2026-06-11/
LOCATION:Kita St. Peter\, Am Ehrenmal 1\, Bonn\, NRW\, 53127\, Germany
CATEGORIES:Existenzielle Fragestellungen,Theologie / Philosophie,Veranstaltungen von Gemeinden,Veranstaltungsreihen
ATTACH;FMTTYPE=image/png:https://www.evforum-bonn.de/wp-content/uploads/2026/02/Einsamkeit-k_ein_Tabu.png
ORGANIZER;CN="Katholisches Bildungsforum Bonn":MAILTO:fbs@bildungsforum-bonn.de
END:VEVENT
BEGIN:VEVENT
DTSTART;TZID=Europe/Berlin:20260611T190000
DTEND;TZID=Europe/Berlin:20260611T210000
DTSTAMP:20260423T180646
CREATED:20260220T112833Z
LAST-MODIFIED:20260317T111515Z
UID:10006960-1781204400-1781211600@www.evforum-bonn.de
SUMMARY:„Gemeinsam gegen einsam“
DESCRIPTION:Einmal im Monat öffnet der Kirchenpavillon für einem besonderen Stammtisch abends seine Türen: Der „Gemeinsam gegen Einsam“-Stammtisch ist eine Aktion des Kirchenpavillon und der Peer-Beratung in der KoKoBe Bonn Rhein-Sieg\, in Kooperation mit der Lebenshilfe Bonn. Eingeladen sind ab 19 Uhr alle\, die Lust haben neue Menschen kennenzulernen\, egal ob mit oder ohne Behinderung. In großer Runde kann gemeinsam geplant und überlegt werden\, was Bonn bietet\, was wir vermissen und was wir neu planen wollen. \nKontakt & Anmeldung: Dr. Anna Miebach-Berkes\, miebach-berkes@kokobe-bonn-rheinsieg.de \nTermine 1/2026: 19.3. | 9.4. | 7.5. | 11.6. | 9.7 | immer donnerstags\, 19-21 Uhr \n📍 Kirchenpavillon\, Kaiserplatz 1a\, 53113 Bonn\nhttps://kirchenpavillon.ekir.de/ \nEine Kooperation des Evangelischen Kirchenpavillons mit der Lebenshilfe Bonn/ Peer-Beratung in der KoKoBe Bonn Rhein-Sieg
URL:https://www.evforum-bonn.de/veranstaltung/gemeinsam-gegen-einsam/2026-06-11/
LOCATION:Ev. Kirchenpavillon Bonn\, Kaiserplatz 1a\, Bonn\, NRW\, 53113\, Germany
CATEGORIES:Aktuelles,Ev. Forum Bonn,Existenzielle Fragestellungen,Kirchenpavillon,Theologie / Philosophie,Veranstaltungen von Gemeinden,Veranstaltungsreihen,Zentralprogramm
ATTACH;FMTTYPE=image/png:https://www.evforum-bonn.de/wp-content/uploads/2026/02/Einsamkeit-k_ein_Tabu.png
ORGANIZER;CN="Ev. Kirchenpavillon Bonn":MAILTO:kirchenpavillon@bonn-evangelisch.de
END:VEVENT
END:VCALENDAR