BEGIN:VCALENDAR
VERSION:2.0
PRODID:-//Evangelisches Forum Bonn - ECPv6.15.20//NONSGML v1.0//EN
CALSCALE:GREGORIAN
METHOD:PUBLISH
X-WR-CALNAME:Evangelisches Forum Bonn
X-ORIGINAL-URL:https://www.evforum-bonn.de
X-WR-CALDESC:Veranstaltungen für Evangelisches Forum Bonn
REFRESH-INTERVAL;VALUE=DURATION:PT1H
X-Robots-Tag:noindex
X-PUBLISHED-TTL:PT1H
BEGIN:VTIMEZONE
TZID:Europe/Berlin
BEGIN:DAYLIGHT
TZOFFSETFROM:+0100
TZOFFSETTO:+0200
TZNAME:CEST
DTSTART:20250330T010000
END:DAYLIGHT
BEGIN:STANDARD
TZOFFSETFROM:+0200
TZOFFSETTO:+0100
TZNAME:CET
DTSTART:20251026T010000
END:STANDARD
BEGIN:DAYLIGHT
TZOFFSETFROM:+0100
TZOFFSETTO:+0200
TZNAME:CEST
DTSTART:20260329T010000
END:DAYLIGHT
BEGIN:STANDARD
TZOFFSETFROM:+0200
TZOFFSETTO:+0100
TZNAME:CET
DTSTART:20261025T010000
END:STANDARD
BEGIN:DAYLIGHT
TZOFFSETFROM:+0100
TZOFFSETTO:+0200
TZNAME:CEST
DTSTART:20270328T010000
END:DAYLIGHT
BEGIN:STANDARD
TZOFFSETFROM:+0200
TZOFFSETTO:+0100
TZNAME:CET
DTSTART:20271031T010000
END:STANDARD
END:VTIMEZONE
BEGIN:VEVENT
DTSTART;TZID=Europe/Berlin:20260617T150000
DTEND;TZID=Europe/Berlin:20260617T170000
DTSTAMP:20260423T180325
CREATED:20251107T091119Z
LAST-MODIFIED:20251107T091224Z
UID:10006359-1781708400-1781715600@www.evforum-bonn.de
SUMMARY:Offener Nachmittag für Senioren - Ev. Kreuzkirche
DESCRIPTION:Das Leben von Paul Gerhardt mit Hans-Georg Bachmann \nDie Evangelische Kreuzkirchengemeinde Bonn lädt herzlich zum Offenen Nachmittag ein. \nIn gemütlicher Atmosphäre erwarten Sie Vorträge\, Musik\, Gespräche und besondere Themen\, die Glauben\, Kultur und Leben miteinander verbinden.Neben geistlichen Impulsen bleibt auch Zeit für Begegnung und Gespräch bei Kaffee und Kuchen. \n📅 Mittwochs\, 15 bis 17 Uhr📍 Gemeindezentrum der Kreuzkirche\, An der Ev. Kirche 6\, Bonn
URL:https://www.evforum-bonn.de/veranstaltung/offener-nachmittag-fuer-senioren-26-06-17/
LOCATION:Gemeindehaus/ -zentrum der Ev. Kreuzkirche\, An der Evangelischen Kirche 6\, Bonn\, NRW\, 53113
CATEGORIES:Angebote für Senioren,Seniorenbildung,Seniorenkreis -nachmittag,Veranstaltungen von Gemeinden,Veranstaltungsreihen
ATTACH;FMTTYPE=image/jpeg:https://www.evforum-bonn.de/wp-content/uploads/2022/12/Senior-e1751876645808.jpg
END:VEVENT
BEGIN:VEVENT
DTSTART;TZID=Europe/Berlin:20260617T150000
DTEND;TZID=Europe/Berlin:20260617T180000
DTSTAMP:20260423T180325
CREATED:20260128T131735Z
LAST-MODIFIED:20260318T173125Z
UID:10006738-1781708400-1781719200@www.evforum-bonn.de
SUMMARY:Treffpunkt IT
DESCRIPTION: Der Treffpunkt IT in den Räumen der Emmaus-Kirche auf dem Brüser Berg ist seit über zehn Jahren eine im ganzen Kirchenkreis bekannte Veranstaltung. Parallel zur Hilfe bei Computerproblemen hat nun auch die Smartphoneberatung Einzug gehalten.\nJeden Mittwoch ab 15.00 Uhr (außerhalb der Schulferien) \nZusätzlich werden Workshops für Apps und technische Spielereien angeboten oder auch Vorträge und Schulungen zu besonderen Themen. Weitere Informationen dazu finden Sie aktuell auch immer auf der Internet-Seite der Gemeinde : https://hardtberggemeinde.de/ \nAnsprechpartner und Kontakt:\nKarsten Bosse\, Tel. 0152 32 79 53 78  – um Anmeldung möglichst per WhatsApp wird gebeten! –\nhardtberg@ekir.de \nParkmöglichkeit: Parkplatz Fahrenheitstraße (vom Brüser Damm kommend) \nggf. NICHT in den Ferien
URL:https://www.evforum-bonn.de/veranstaltung/treffpunkt-it-2026/2026-06-17/
LOCATION:Gemeindezentrum Emmaus-Kirche\, Borsigallee 23\, Bonn\, 53125\, Deutschland
CATEGORIES:Veranstaltungen von Gemeinden,Veranstaltungsreihen,Weiterbildung allgemein
ATTACH;FMTTYPE=image/jpeg:https://www.evforum-bonn.de/wp-content/uploads/2025/05/hands-820272_640-e1746615511644.jpg
ORGANIZER;CN="Ev. Kirchengemeinde im Bonner Westen (Hardtberg)":MAILTO:hardtberg@ekir.de
END:VEVENT
BEGIN:VEVENT
DTSTART;TZID=Europe/Berlin:20260617T190000
DTEND;TZID=Europe/Berlin:20260617T203000
DTSTAMP:20260423T180325
CREATED:20260318T172836Z
LAST-MODIFIED:20260318T172903Z
UID:10007050-1781722800-1781728200@www.evforum-bonn.de
SUMMARY:Literaturkreis 2026 - Boris Friedewald „Maria Sibylla Merians Reise zu den Schmetterlingen“
DESCRIPTION:📖 Heute: Boris Friedewald „Maria Sibylla Merians Reise zu den Schmetterlingen“  \nBeginn ist 19.00 Uhr\, der Eintritt ist wie immer frei. Eine Anmeldung ist nicht nötig. \nDas Buch kann in der Bücherei ausgeliehen werden. \n\nAuch in diesem Jahr laden wir Sie herzlich zu unserem Literaturkreis ein! In der Regel treffen wir uns jeden 3. Mittwoch im Monat von 19.00 bis 20.30 Uhr  in der Bücherei der Matthäikirche\, um gemeinsam spannende\, bewegende und inspirierende Bücher zu entdecken und zu besprechen. \nFreuen Sie sich auf eine abwechslungsreiche Auswahl an Titeln und Autor*innen\, interessante Diskussionen und den Austausch mit anderen Literaturbegeisterten. \nDer Eintritt ist frei\, und eine Anmeldung nicht nötig.\nDas Bücherei-Team der Matthäikirche freut sich auf Sie! \nKontakt: Susanne Nitsche\, Tel. 0228 613280
URL:https://www.evforum-bonn.de/veranstaltung/literaturkreis-2026-26-06/
LOCATION:Ev. Öffentliche Bücherei an der Matthäikirche\, Gutenbergstraße 10\, Bonn\, NRW\, 53123\, Germany
CATEGORIES:Grips & Geist,Kunst - Musik - Literatur,Veranstaltungen von Gemeinden,Veranstaltungsreihen
ATTACH;FMTTYPE=image/jpeg:https://www.evforum-bonn.de/wp-content/uploads/2025/01/Literaturkreis.jpg
ORGANIZER;CN="Ev. Kirchengemeinde im Bonner Westen (Hardtberg)":MAILTO:hardtberg@ekir.de
END:VEVENT
END:VCALENDAR