BEGIN:VCALENDAR
VERSION:2.0
PRODID:-//Evangelisches Forum Bonn - ECPv6.15.20//NONSGML v1.0//EN
CALSCALE:GREGORIAN
METHOD:PUBLISH
X-WR-CALNAME:Evangelisches Forum Bonn
X-ORIGINAL-URL:https://www.evforum-bonn.de
X-WR-CALDESC:Veranstaltungen für Evangelisches Forum Bonn
REFRESH-INTERVAL;VALUE=DURATION:PT1H
X-Robots-Tag:noindex
X-PUBLISHED-TTL:PT1H
BEGIN:VTIMEZONE
TZID:Europe/Berlin
BEGIN:DAYLIGHT
TZOFFSETFROM:+0100
TZOFFSETTO:+0200
TZNAME:CEST
DTSTART:20250330T010000
END:DAYLIGHT
BEGIN:STANDARD
TZOFFSETFROM:+0200
TZOFFSETTO:+0100
TZNAME:CET
DTSTART:20251026T010000
END:STANDARD
BEGIN:DAYLIGHT
TZOFFSETFROM:+0100
TZOFFSETTO:+0200
TZNAME:CEST
DTSTART:20260329T010000
END:DAYLIGHT
BEGIN:STANDARD
TZOFFSETFROM:+0200
TZOFFSETTO:+0100
TZNAME:CET
DTSTART:20261025T010000
END:STANDARD
BEGIN:DAYLIGHT
TZOFFSETFROM:+0100
TZOFFSETTO:+0200
TZNAME:CEST
DTSTART:20270328T010000
END:DAYLIGHT
BEGIN:STANDARD
TZOFFSETFROM:+0200
TZOFFSETTO:+0100
TZNAME:CET
DTSTART:20271031T010000
END:STANDARD
END:VTIMEZONE
BEGIN:VEVENT
DTSTART;TZID=Europe/Berlin:20260620T100000
DTEND;TZID=Europe/Berlin:20260620T160000
DTSTAMP:20260423T180331
CREATED:20251028T121314Z
LAST-MODIFIED:20251028T123933Z
UID:10006318-1781949600-1781971200@www.evforum-bonn.de
SUMMARY:Präventionsschulung Intensiv/ Leitungsschulung • Präsenz • Teil 1+2
DESCRIPTION:Intensiv-/Leitungsschulung (Schulungseinheit mind. 270 Minuten) – Pflicht für: \n\n\nMitarbeitende mit regelmäßigem oder intensivem Kontakt zur Schutzgruppe\, auch ohne Führungsverantwortung \n\n\nLeitungspersonen (haupt- und ehrenamtlich) \n\n\n\n🚩 Ablauf\nSamstag\, 20. Juni 2026 • ganzer Tag in Präsenz von 10 – 16 Uhr \nBitte beachten Sie\, die Tiefgarage im Haus der Ev. Kirche Bonn steht an Wochenenden nur Mitarbeitenden mit Zugang (Chip) zur Verfügung! Wir empfehlen die Anreise mit dem ÖPNV \nFür Ihre verbindliche Anmeldung füllen Sie bitte das Formular aus.❗ Zwingend: Rechnungsadresse angeben! \nSie erhalten eine automatische Anmeldebestätigung und ca. 7 Tage vor dem Termin eine Kursbestätigung mit offiziellen Informationen. \nNach erfolgreicher Durchführung der Schulung und Rückmeldung der Anwesenheit durch die Referent:innen erhalten Sie per Mail Ihre Teilnahmebescheinigung sowie die Rechnung. \n\n\n\n  \n\n\n\n\n\n\n\n\n\n\n\n\n  \n    Anrede *---FrauHerrDiversKeine Angabe\n  \n  \n    Titel\n  \n  \n    Vorname *\n  \n  \n    Nachname *\n  \n\n\n\n\n\n  \n    Straße\, Nr. *\n  \n  \n    PLZ *\n  \n  \n    Ort *\n  \n\n\n\n\n\n  \n    Telefon\n  \n  \n    E-Mail *\n  \n\n\n\n\n\n\n  \n    Weitere Person anmelden?\n    NeinJa\n  \n\n\n\n  \n    \n      \n    \n  \n\n\n\n\nGgf. abweichende Rechnungsadresse:\nFalls die Rechnungsadresse von der oben angegebenen Adresse abweicht\, tragen Sie bitte hier die Daten ein: \n\nFür Präventionsschulungen* zwingend ausfüllen: \n\n\n  \n    \n      Rechnungsempfänger\n    \n    \n      Straße\, Nr.\n    \n    \n      PLZ\n    \n    \n      Ort\n    \n  \n\n\n\n  *Achtung – Präventionsschulungen:\n  nach erfolgreich durchgeführter Schulung mit Anwesenheitsbestätigung durch unsere Referent*innen\n  erhalten Sie die Teilnahmebescheinigung und Rechnung als PDF automatisiert per Mail. Die Adressangabe\n  des Trägers ist zwingend erforderlich\, sonst wird die Rechnung mit der oben angegebenen Privatanschrift\n  ausgestellt und kann u. U. nicht eingereicht werden.\n \n\n\n\nIch habe die Datenschutzbestimmungen gelesen und akzeptiert.\n\n\nDieses Formular ist durch reCAPTCHA geschützt. Es gelten die\nDatenschutzbestimmungen\nund\nNutzungsbedingungen\nvon Google.
URL:https://www.evforum-bonn.de/veranstaltung/praeventionsschulung-intensiv-leitungsschulung-20-06-26/
LOCATION:Haus der Ev. Kirche Bonn\, Adenauerallee 37\, Bonn\, NRW\, 53113\, Germany
CATEGORIES:Aktuelles,Fort- und Weiterbildung,Haus der Ev. Kirche Bonn,Lehrgang | Kurs,Präventionsschulung,Veranstaltungsreihen
ATTACH;FMTTYPE=image/png:https://www.evforum-bonn.de/wp-content/uploads/2025/09/Slider-Praeventionsschulung-scaled-e1773317881965.png
ORGANIZER;CN="Evangelisches Forum Bonn":MAILTO:info@evforum-bonn.de
END:VEVENT
END:VCALENDAR