BEGIN:VCALENDAR
VERSION:2.0
PRODID:-//Evangelisches Forum Bonn - ECPv6.15.20//NONSGML v1.0//EN
CALSCALE:GREGORIAN
METHOD:PUBLISH
X-ORIGINAL-URL:https://www.evforum-bonn.de
X-WR-CALDESC:Veranstaltungen für Evangelisches Forum Bonn
REFRESH-INTERVAL;VALUE=DURATION:PT1H
X-Robots-Tag:noindex
X-PUBLISHED-TTL:PT1H
BEGIN:VTIMEZONE
TZID:Europe/Berlin
BEGIN:DAYLIGHT
TZOFFSETFROM:+0100
TZOFFSETTO:+0200
TZNAME:CEST
DTSTART:20250330T010000
END:DAYLIGHT
BEGIN:STANDARD
TZOFFSETFROM:+0200
TZOFFSETTO:+0100
TZNAME:CET
DTSTART:20251026T010000
END:STANDARD
BEGIN:DAYLIGHT
TZOFFSETFROM:+0100
TZOFFSETTO:+0200
TZNAME:CEST
DTSTART:20260329T010000
END:DAYLIGHT
BEGIN:STANDARD
TZOFFSETFROM:+0200
TZOFFSETTO:+0100
TZNAME:CET
DTSTART:20261025T010000
END:STANDARD
BEGIN:DAYLIGHT
TZOFFSETFROM:+0100
TZOFFSETTO:+0200
TZNAME:CEST
DTSTART:20270328T010000
END:DAYLIGHT
BEGIN:STANDARD
TZOFFSETFROM:+0200
TZOFFSETTO:+0100
TZNAME:CET
DTSTART:20271031T010000
END:STANDARD
END:VTIMEZONE
BEGIN:VEVENT
DTSTART;TZID=Europe/Berlin:20260625T173000
DTEND;TZID=Europe/Berlin:20260625T190000
DTSTAMP:20260423T180647
CREATED:20260317T124041Z
LAST-MODIFIED:20260317T124622Z
UID:10007008-1782408600-1782414000@www.evforum-bonn.de
SUMMARY:Gemeinsam stark durch soziale Verbundenheit
DESCRIPTION:Gerade in Veränderungsphasen spüren wir\, wie wichtig soziale Verbundenheit für uns ist. Der Übergang in den Ruhestand\, der Verlust eines wichtigen Menschen oder  eine gesundheitliche Herausforderung – all das lässt sich mit Unterstützung anderer Menschen leichter bestehen. Verbindungen zu knüpfen und zu pflegen\, bedeutet  Lebensqualität und beugt Einsamkeitsgefühlen vor. Mit humorvoller Experimentierfreude können die Teilnehmenden in diesem Seminar kleine Tipps und  Werkzeuge ausprobieren\, die es erleichtern\, mit Menschen in Kontakt zu kommen und verbunden zu bleiben. Schwerpunkte der drei praxisorientierten Abende sind Small Talk\, aktives Zuhören und das Wahrnehmen von Bedürfnissen und Emotionen im zwischenmenschlichen Miteinander. Für Getränke und Knabbereien ist gesorgt! \n📆 Do. 11.06.2026 – Do. 25.06.2026 | 3 Termine | 17.30 – 19.00 Uhr | 6 Unterrichtsstunden\n\n\n🎙️ Referent/in: Dr. Christina Pfestroff\n\n\n📍 Kita St. Peter\, Am Ehrenmal 1\, 53127 Bonn\n\n\n\n🎟️ Gebühr auf Anfrage\n\n\n\n\nAnmeldung bei Johanna Gerken per E-Mail oder per Telefon\n\n\n\nEinzeltermine\n\n\n\n\n\n\nDatum\nZeitraum\nOrt/Raum\n\n\n\n\nDo.\, 11.06.2026\n17:30 – 19:00 Uhr\n\n\n\nDo.\, 18.06.2026\n17:30 – 19:00 Uhr\n\n\n\nDo.\, 25.06.2026\n17:30 – 19:00 Uhr\n\n\n\n\n\n\n\n\nInformationen über: https://www.bildungswerk-ev.de/bildungsforum-bonn/einsamkeit
URL:https://www.evforum-bonn.de/veranstaltung/einsamkeit-26-06-11bis25/2026-06-25/
LOCATION:Kita St. Peter\, Am Ehrenmal 1\, Bonn\, NRW\, 53127\, Germany
CATEGORIES:Existenzielle Fragestellungen,Theologie / Philosophie,Veranstaltungen von Gemeinden,Veranstaltungsreihen
ATTACH;FMTTYPE=image/png:https://www.evforum-bonn.de/wp-content/uploads/2026/02/Einsamkeit-k_ein_Tabu.png
ORGANIZER;CN="Katholisches Bildungsforum Bonn":MAILTO:fbs@bildungsforum-bonn.de
END:VEVENT
END:VCALENDAR