BEGIN:VCALENDAR
VERSION:2.0
PRODID:-//Evangelisches Forum Bonn - ECPv6.15.20//NONSGML v1.0//EN
CALSCALE:GREGORIAN
METHOD:PUBLISH
X-WR-CALNAME:Evangelisches Forum Bonn
X-ORIGINAL-URL:https://www.evforum-bonn.de
X-WR-CALDESC:Veranstaltungen für Evangelisches Forum Bonn
REFRESH-INTERVAL;VALUE=DURATION:PT1H
X-Robots-Tag:noindex
X-PUBLISHED-TTL:PT1H
BEGIN:VTIMEZONE
TZID:Europe/Berlin
BEGIN:DAYLIGHT
TZOFFSETFROM:+0100
TZOFFSETTO:+0200
TZNAME:CEST
DTSTART:20250330T010000
END:DAYLIGHT
BEGIN:STANDARD
TZOFFSETFROM:+0200
TZOFFSETTO:+0100
TZNAME:CET
DTSTART:20251026T010000
END:STANDARD
BEGIN:DAYLIGHT
TZOFFSETFROM:+0100
TZOFFSETTO:+0200
TZNAME:CEST
DTSTART:20260329T010000
END:DAYLIGHT
BEGIN:STANDARD
TZOFFSETFROM:+0200
TZOFFSETTO:+0100
TZNAME:CET
DTSTART:20261025T010000
END:STANDARD
BEGIN:DAYLIGHT
TZOFFSETFROM:+0100
TZOFFSETTO:+0200
TZNAME:CEST
DTSTART:20270328T010000
END:DAYLIGHT
BEGIN:STANDARD
TZOFFSETFROM:+0200
TZOFFSETTO:+0100
TZNAME:CET
DTSTART:20271031T010000
END:STANDARD
END:VTIMEZONE
BEGIN:VEVENT
DTSTART;TZID=Europe/Berlin:20260630T190000
DTEND;TZID=Europe/Berlin:20260630T210000
DTSTAMP:20260423T163652
CREATED:20260401T082425Z
LAST-MODIFIED:20260401T082425Z
UID:10007363-1782846000-1782853200@www.evforum-bonn.de
SUMMARY:Konfliktdynamiken im Nahen und Mittleren Osten
DESCRIPTION:Die jüngsten kriegerischen Auseinandersetzungen zwischen den USA\, Israel und dem Iran haben eine gefährliche Ausweitung des Konfliktgeschehens in der gesamten Region des Nahen und Mittleren Ostens ausgelöst. In mehreren Ländern – darunter Irak\, Jemen und Libanon – bekämpfen pro-iranische Milizen amerikanische und israelische Kräfte sowie deren Verbündete in den Golfstaaten. Die Sorge wächst\, dass der Konflikt weiter eskalieren und möglicherweise auch global neue Gewalt- und Terrorwellen auslösen könnte. Besonders kritisch wäre eine Entwicklung hin zu einem radikal-religiösen Kulturkampf. \nJörgen Klußmann\, Studienleiter der Evangelischen Akademie im Rheinland\, ist seit über 25 Jahren in der internationalen Konfliktarbeit tätig. Er wird in seinem Vortrag und einer anschließenden Konfliktaufstellung beleuchten: \n– wie sich die derzeitige Lage entwickelt\,\n– welche Akteure welche Dynamiken prägen\,\n– welche möglichen Eskalations- oder Deeskalationspfade bestehen\n– und welche Handlungsspielräume für eine Entschärfung des Konflikts denkbar sind. \nDie Methode der Konfliktaufstellung ermöglicht einen besonderen Blick auf die Beziehungen\, Interessen und Konfliktlinien zwischen den beteiligten Akteuren. Durch die räumliche Darstellung komplexer politischer Situationen können Entwicklungen sichtbar gemacht und alternative Perspektiven eröffnet werden. \nJörgen Klussmann\, Studienleiter\nThemenbereich: Politik des Dialogs und der Vielfalt\nhttps://www.fremd-vertraut.de/ \n\n🎟️ Teilnahme kostenfrei – Anmeldung bitte über unser Formular: \n\n\n  \n\n\n\n\n\n\n\n\n\n\n\n\n\n  Anmeldeformular\n\n  \n    \n      FrauHerrDiversKeine Angabe\n    \n    \n      \n    \n    \n      \n    \n    \n      \n    \n  \n\n  \n    \n      \n    \n  \n\n  \n\n  \n    \n      Weitere Person anmelden?\n      NeinJa\n    \n  \n\n  \n  \n    \n      \n    \n  \n  \n\n  \n\n  Ich habe die Datenschutzbestimmungen gelesen und akzeptiert.\n\n  \n    Dieses Formular ist durch reCAPTCHA geschützt. Es gelten die\n    Datenschutzbestimmungen\n    und\n    Nutzungsbedingungen\n    von Google.
URL:https://www.evforum-bonn.de/veranstaltung/konfliktdynamiken-im-nahen-und-mittleren-osten/
LOCATION:Haus der Ev. Kirche Bonn\, Adenauerallee 37\, Bonn\, NRW\, 53113\, Germany
CATEGORIES:Aktuelles,Demokratie-Krieg,Ev. Forum Bonn,Haus der Ev. Kirche Bonn,Politik - Geschichte - Soziologie,Theologie / Philosophie,Zentralprogramm
ATTACH;FMTTYPE=image/jpeg:https://www.evforum-bonn.de/wp-content/uploads/2026/04/Konflikt-Nahost_Bild-Pixabay-Free-by-geralt.jpg
ORGANIZER;CN="Evangelisches Forum Bonn":MAILTO:info@evforum-bonn.de
END:VEVENT
BEGIN:VEVENT
DTSTART;TZID=Europe/Berlin:20260630T193000
DTEND;TZID=Europe/Berlin:20260630T203000
DTSTAMP:20260423T163652
CREATED:20260220T085434Z
LAST-MODIFIED:20260220T090009Z
UID:10006928-1782847800-1782851400@www.evforum-bonn.de
SUMMARY:Lindy Hop | Offener Tanzunterricht
DESCRIPTION:Lindy Hop ist ein beschwingter Swing-Tanzstil mit Wurzeln in der afroamerikanischen Kultur der 1930er Jahre. In diesem offenen Tanzunterricht steht nicht nur die Freude an Bewegung im Mittelpunkt\, sondern auch das gemeinschaftliche Lernen: Vom ersten Grundschritt bis zur Improvisation können alle – mit oder ohne Vorkenntnisse – neue Schritte erlernen\, Koordination und Rhythmusgefühl schulen und dabei die Geschichte eines kulturell bedeutenden Tanzstils kennenlernen. \nDie Abende bieten Raum für Begegnung\, körperliche Aktivität und kulturelle Bildung – immer in respektvoller Atmosphäre und mit viel Spaß. Kommen Sie vorbei\, tanzen Sie mit! \n📍 Ort: Melanchthonhaus der Kreuzkirche📩 Anmeldung & Infos: lindyhop@justmail.de🕒 Wöchentlich dienstags um 19:30 Uhr (außer ggf. in den Ferien und an Feiertagen) \n❗ diese Veranstaltungsreihe wird uU als fortlaufender Termin auch in den Ferien angezeigt – bitte erkundigen Sie sich beim Veranstalter.
URL:https://www.evforum-bonn.de/veranstaltung/lindy-hop-2026/2026-06-30/
LOCATION:Melanchthon Haus der Kreuzkirche\, An der Evangelischen Kirche 6\, Bonn\, NRW\, 53113\, Germany
CATEGORIES:Gesundheit - Krankheit - Medizin,Lindy Hop,Tanz - Bewegung - Gesundheit,Veranstaltungen von Gemeinden,Veranstaltungsreihen
ATTACH;FMTTYPE=image/jpeg:https://www.evforum-bonn.de/wp-content/uploads/2025/07/Lindy-Hop_Foto-by-Lindy-Hop-e1753443452177.jpg
END:VEVENT
END:VCALENDAR