BEGIN:VCALENDAR
VERSION:2.0
PRODID:-//Evangelisches Forum Bonn - ECPv6.15.20//NONSGML v1.0//EN
CALSCALE:GREGORIAN
METHOD:PUBLISH
X-ORIGINAL-URL:https://www.evforum-bonn.de
X-WR-CALDESC:Veranstaltungen für Evangelisches Forum Bonn
REFRESH-INTERVAL;VALUE=DURATION:PT1H
X-Robots-Tag:noindex
X-PUBLISHED-TTL:PT1H
BEGIN:VTIMEZONE
TZID:Europe/Berlin
BEGIN:DAYLIGHT
TZOFFSETFROM:+0100
TZOFFSETTO:+0200
TZNAME:CEST
DTSTART:20250330T010000
END:DAYLIGHT
BEGIN:STANDARD
TZOFFSETFROM:+0200
TZOFFSETTO:+0100
TZNAME:CET
DTSTART:20251026T010000
END:STANDARD
BEGIN:DAYLIGHT
TZOFFSETFROM:+0100
TZOFFSETTO:+0200
TZNAME:CEST
DTSTART:20260329T010000
END:DAYLIGHT
BEGIN:STANDARD
TZOFFSETFROM:+0200
TZOFFSETTO:+0100
TZNAME:CET
DTSTART:20261025T010000
END:STANDARD
BEGIN:DAYLIGHT
TZOFFSETFROM:+0100
TZOFFSETTO:+0200
TZNAME:CEST
DTSTART:20270328T010000
END:DAYLIGHT
BEGIN:STANDARD
TZOFFSETFROM:+0200
TZOFFSETTO:+0100
TZNAME:CET
DTSTART:20271031T010000
END:STANDARD
END:VTIMEZONE
BEGIN:VEVENT
DTSTART;TZID=Europe/Berlin:20260701T150000
DTEND;TZID=Europe/Berlin:20260701T180000
DTSTAMP:20260423T163849
CREATED:20260128T131735Z
LAST-MODIFIED:20260318T173125Z
UID:10006740-1782918000-1782928800@www.evforum-bonn.de
SUMMARY:Treffpunkt IT
DESCRIPTION: Der Treffpunkt IT in den Räumen der Emmaus-Kirche auf dem Brüser Berg ist seit über zehn Jahren eine im ganzen Kirchenkreis bekannte Veranstaltung. Parallel zur Hilfe bei Computerproblemen hat nun auch die Smartphoneberatung Einzug gehalten.\nJeden Mittwoch ab 15.00 Uhr (außerhalb der Schulferien) \nZusätzlich werden Workshops für Apps und technische Spielereien angeboten oder auch Vorträge und Schulungen zu besonderen Themen. Weitere Informationen dazu finden Sie aktuell auch immer auf der Internet-Seite der Gemeinde : https://hardtberggemeinde.de/ \nAnsprechpartner und Kontakt:\nKarsten Bosse\, Tel. 0152 32 79 53 78  – um Anmeldung möglichst per WhatsApp wird gebeten! –\nhardtberg@ekir.de \nParkmöglichkeit: Parkplatz Fahrenheitstraße (vom Brüser Damm kommend) \nggf. NICHT in den Ferien
URL:https://www.evforum-bonn.de/veranstaltung/treffpunkt-it-2026/2026-07-01/
LOCATION:Gemeindezentrum Emmaus-Kirche\, Borsigallee 23\, Bonn\, 53125\, Deutschland
CATEGORIES:Veranstaltungen von Gemeinden,Veranstaltungsreihen,Weiterbildung allgemein
ATTACH;FMTTYPE=image/jpeg:https://www.evforum-bonn.de/wp-content/uploads/2025/05/hands-820272_640-e1746615511644.jpg
ORGANIZER;CN="Ev. Kirchengemeinde im Bonner Westen (Hardtberg)":MAILTO:hardtberg@ekir.de
END:VEVENT
BEGIN:VEVENT
DTSTART;TZID=Europe/Berlin:20260701T193000
DTEND;TZID=Europe/Berlin:20260701T213000
DTSTAMP:20260423T163849
CREATED:20260330T105044Z
LAST-MODIFIED:20260330T105253Z
UID:10007339-1782934200-1782941400@www.evforum-bonn.de
SUMMARY:Lesung mit Notfallseelsorger Albi Röbke
DESCRIPTION:Was tun\, wenn das Leben plötzlich aus den Fugen gerät? In solchen Momenten steht Albi Roebke an unserer Seite. Als erfahrener Notfallseelsorger ist er da\, wenn Verkehrsunfälle\, Naturkatastrophen\, Anschläge oder Amokläufe Menschen in eine Ausnahmesituation versetzen. \nSeit 25 Jahren bietet der evangelische Pfarrer aus Bonn seelische Soforthilfe und festen Halt\, wenn nichts mehr so ist\, wie es war. Albi Roebke spricht aus Erfahrung – im Jahr 2015 traf ihn ein schwerer Verlust\, als er seine Eltern und seinen Bruder bei einem Autounfall verlor. Fesselnd erzählt er bewegende Geschichten und von schicksalshaften Begegnungen aus seinen Einsätzen von der Ahr bis ins Hurrikan-Gebiet der USA und zeigt\, wie auch wir den Herausforderungen des Alltags und den individuellen Krisen mit Stärke und Resilienz begegnen können. \n🎟️ Tickets für diese Lesung gibt es bei der Buchhandlung Jost oder im Gemeindebüro für 15 €\, die komplett an die Notfallseelsorge gespendet werden. \n\nBereits im letzten Jahr haben wir beim „Sommergarten“ unsere Kirchen- und Gartentüren für alle geöffnet\, die ein schattiges Plätzchen gesucht haben: ob im kühlen Kirchraum oder unter einem Baum im Garten. Zudem wollen wir den Kirchgarten der Friedenskirche von April bis September mit Veranstaltungen beleben. \nSoweit nicht anders angegeben\, finden alle Veranstaltungen im Garten der Friedenskirche (Franz-Bücheler-Str. 10\, 53129 Bonn-Kessenich) statt. Bei Regen ziehen wir spontan nach drinnen um. \nSie möchten selbst etwas initiieren? Sprechen Sie uns – Johanna Nolte (johanna.nolte@ekir.de) und Merle Niederwemmer (merle.niederwemmer@ekir.de) – an\, wir unterstützen Sie gerne bei der Planung. \nSommergarten – Evangelische Friedenskirchengemeinde Bonn
URL:https://www.evforum-bonn.de/veranstaltung/sommergarten-26-06/
LOCATION:Saal an der Friedenskirche\, Franz-Bücheler-Straße 10\, Bonn\, NRW\, 53129\, Germany
CATEGORIES:Ev. Friedenskirchengemeinde,Lesung - Vortrag,Theologie / Philosophie,Veranstaltungen von Gemeinden
ATTACH;FMTTYPE=image/jpeg:https://www.evforum-bonn.de/wp-content/uploads/2025/07/Buchcover-Fischer-Verlag_Albi-Roebke-e1753695431778.jpg
END:VEVENT
END:VCALENDAR