BEGIN:VCALENDAR
VERSION:2.0
PRODID:-//Evangelisches Forum Bonn - ECPv6.15.20//NONSGML v1.0//EN
CALSCALE:GREGORIAN
METHOD:PUBLISH
X-ORIGINAL-URL:https://www.evforum-bonn.de
X-WR-CALDESC:Veranstaltungen für Evangelisches Forum Bonn
REFRESH-INTERVAL;VALUE=DURATION:PT1H
X-Robots-Tag:noindex
X-PUBLISHED-TTL:PT1H
BEGIN:VTIMEZONE
TZID:Europe/Berlin
BEGIN:DAYLIGHT
TZOFFSETFROM:+0100
TZOFFSETTO:+0200
TZNAME:CEST
DTSTART:20250330T010000
END:DAYLIGHT
BEGIN:STANDARD
TZOFFSETFROM:+0200
TZOFFSETTO:+0100
TZNAME:CET
DTSTART:20251026T010000
END:STANDARD
BEGIN:DAYLIGHT
TZOFFSETFROM:+0100
TZOFFSETTO:+0200
TZNAME:CEST
DTSTART:20260329T010000
END:DAYLIGHT
BEGIN:STANDARD
TZOFFSETFROM:+0200
TZOFFSETTO:+0100
TZNAME:CET
DTSTART:20261025T010000
END:STANDARD
BEGIN:DAYLIGHT
TZOFFSETFROM:+0100
TZOFFSETTO:+0200
TZNAME:CEST
DTSTART:20270328T010000
END:DAYLIGHT
BEGIN:STANDARD
TZOFFSETFROM:+0200
TZOFFSETTO:+0100
TZNAME:CET
DTSTART:20271031T010000
END:STANDARD
END:VTIMEZONE
BEGIN:VEVENT
DTSTART;TZID=Europe/Berlin:20260704T090000
DTEND;TZID=Europe/Berlin:20260704T180000
DTSTAMP:20260423T163853
CREATED:20250911T124605Z
LAST-MODIFIED:20250911T124710Z
UID:10006213-1783155600-1783188000@www.evforum-bonn.de
SUMMARY:Modul 10/10 Liturgisches • Trauerreaktionen • Abschluss
DESCRIPTION:Interne Kursveranstaltung. Dieses Modul ist Teil der Ausbildung Notfallseelsorge Bonn/Rhein-Sieg (10 Ganztagsmodule\, 09:00–18:00 Uhr).\nDie Teilnahme ist nur nach Zulassung möglich. 👉 Dieser Termin dient der Übersicht für eingeschriebene Teilnehmende. \nHinweise zur Anmeldung:\nDie Anmeldung erfolgt zweistufig (Vormerkung & telefonisches Vorgespräch – danach schriftliche Anmeldung).\nAlle Infos zum Verfahren: evforum-bonn.de/ausbildungskurs-zum-zur-notfallseelsorger-in \nOrganisatorisches (fix für alle Module): \n\nUhrzeit: 09:00–18:00 Uhr\nOrt: Collegium Josephinum Bonn (sofern nicht anders angegeben)\n\nGeplante Termine (jeden 1. Samstag im Monat\, außer in Ferien NRW & an Feiertagen):
URL:https://www.evforum-bonn.de/veranstaltung/ausbildung-notfallseelsorge_modul-10-von-10_2026/
LOCATION:Collegium Josephinum Bonn\, Kölnstraße 413\, Bonn\, NRW\, 53117\, Germany
CATEGORIES:Lehrgang | Kurs,Notfallseelsorge - Ausbildungskurs,Veranstaltungen von Institutionen und Verbänden,Veranstaltungsreihen
ATTACH;FMTTYPE=image/png:https://www.evforum-bonn.de/wp-content/uploads/2025/08/notfallseelsorge_logo_kursiv-1.png
ORGANIZER;CN="Notfallseelsorge Bonn Rhein-Sieg":MAILTO:info@nfs-bn-rsk.de
END:VEVENT
BEGIN:VEVENT
DTSTART;TZID=Europe/Berlin:20260704T100000
DTEND;TZID=Europe/Berlin:20260704T140000
DTSTAMP:20260423T163853
CREATED:20260202T113244Z
LAST-MODIFIED:20260202T113528Z
UID:10006810-1783159200-1783173600@www.evforum-bonn.de
SUMMARY:Repair Café
DESCRIPTION:Jeden 1. Samstag (außer in den Ferien und an Feiertagen) im Monat von 10 – 14 Uhr im Gemeindehaus der Auferstehungskirchengemeinde | Haager Weg 40\n\nAus Alt mach Neu – gemeinsam reparieren statt wegwerfen!Beim Repair-Café im Gemeindehaus stehen Nachhaltigkeit und Gemeinschaft im Mittelpunkt: Bringen Sie defekte Haushaltsgeräte\, Fahrräder oder tragbare Alltagsgegenstände mit – unser ehrenamtliches Team hilft Ihnen dabei\, sie wieder flott zu machen. \nReparieren spart Geld\, schont Ressourcen und setzt ein Zeichen gegen die Wegwerfgesellschaft. Ob kleiner Schaden oder große Hoffnung – wir freuen uns auf Ihren Besuch und viele spannende Reparaturprojekte!
URL:https://www.evforum-bonn.de/veranstaltung/repair-cafe-auferstehung-2026/2026-07-04/
LOCATION:Gemeindehaus der Ev. Auferstehungskirche\, Haager Weg 40\, Bonn\, NRW\, 53127\, Germany
CATEGORIES:Repair Café,Ressourcen - Umwelt - Klima,Veranstaltungen von Gemeinden,Veranstaltungsreihen
ATTACH;FMTTYPE=image/jpeg:https://www.evforum-bonn.de/wp-content/uploads/2025/05/repaircafe-Auferstehungskirchengemeinde-Auerberg-e1746780233931.jpg
ORGANIZER;CN="Ev. Kirchengemeinde im Bonner Westen (Auferstehung)":MAILTO:carla.hornberger@ekir.de
END:VEVENT
BEGIN:VEVENT
DTSTART;TZID=Europe/Berlin:20260704T140000
DTEND;TZID=Europe/Berlin:20260704T170000
DTSTAMP:20260423T163853
CREATED:20260407T085549Z
LAST-MODIFIED:20260407T090220Z
UID:10007390-1783173600-1783184400@www.evforum-bonn.de
SUMMARY:Schnitzeljagd durch Kessenich
DESCRIPTION:Lernen im Stadtraum: Orientierung\, Teamarbeit und lokale Zusammenhänge erleben \n\n\nhttps://friedenskirche-bonn.ekir.de/inhalt/sommergarten/\n\n\n\n\nAnsprechpartner: Johanna Nolte johanna.nolte@ekir.de\n\n\n\n\n\nWeitere Informationen\n\n\nBei unserer Rallye können Kinder\, Familien und auch Erwachsene in Teams spannende Fragen beantworten und abwechslungsreiche Aufgaben lösen. Gemeinsam erkundet ihr den Stadtteil und entdeckt dabei vielleicht auch das ein oder andere unbekannte Detail. \nZum Abschluss treffen sich alle Teams zur Siegerehrung im Garten und wir lassen den Tag beim gemeinsamen Grillen ausklingen. Bitte bringt dafür einfach etwas fürs Buffet oder den Grill mit. Wir freuen uns auf viele motivierte Teams und einen tollen gemeinsamen Tag! 🎟️ Anmeldung unter: https://eveeno.com/schnitzeljagd \n\n\n\nBereits im letzten Jahr haben wir beim „Sommergarten“ unsere Kirchen- und Gartentüren für alle geöffnet\, die ein schattiges Plätzchen gesucht haben: ob im kühlen Kirchraum oder unter einem Baum im Garten. Zudem wollen wir den Kirchgarten der Friedenskirche von April bis September mit Veranstaltungen beleben. \nSoweit nicht anders angegeben\, finden alle Veranstaltungen im Garten der Friedenskirche (Franz-Bücheler-Str. 10\, 53129 Bonn-Kessenich) statt. Bei Regen ziehen wir spontan nach drinnen um. \nSie möchten selbst etwas initiieren? Sprechen Sie uns – Johanna Nolte (johanna.nolte@ekir.de) und Merle Niederwemmer (merle.niederwemmer@ekir.de) – an\, wir unterstützen Sie gerne bei der Planung. \nSommergarten – Evangelische Friedenskirchengemeinde Bonn
URL:https://www.evforum-bonn.de/veranstaltung/sommergarten-26-07-04/
LOCATION:Kirchplatz | Kirchwiese an der Friedenskirche\, Bonn\, NRW\, 53129\, Germany
CATEGORIES:Ev. Friedenskirchengemeinde,Lesung - Vortrag,Theologie / Philosophie,Veranstaltungen von Gemeinden,Veranstaltungsreihen
ATTACH;FMTTYPE=image/jpeg:https://www.evforum-bonn.de/wp-content/uploads/2026/03/Sommergarten_Foto-Merle-Niederwemmer.jpg
END:VEVENT
END:VCALENDAR