BEGIN:VCALENDAR
VERSION:2.0
PRODID:-//Evangelisches Forum Bonn - ECPv6.15.20//NONSGML v1.0//EN
CALSCALE:GREGORIAN
METHOD:PUBLISH
X-ORIGINAL-URL:https://www.evforum-bonn.de
X-WR-CALDESC:Veranstaltungen für Evangelisches Forum Bonn
REFRESH-INTERVAL;VALUE=DURATION:PT1H
X-Robots-Tag:noindex
X-PUBLISHED-TTL:PT1H
BEGIN:VTIMEZONE
TZID:Europe/Berlin
BEGIN:DAYLIGHT
TZOFFSETFROM:+0100
TZOFFSETTO:+0200
TZNAME:CEST
DTSTART:20250330T010000
END:DAYLIGHT
BEGIN:STANDARD
TZOFFSETFROM:+0200
TZOFFSETTO:+0100
TZNAME:CET
DTSTART:20251026T010000
END:STANDARD
BEGIN:DAYLIGHT
TZOFFSETFROM:+0100
TZOFFSETTO:+0200
TZNAME:CEST
DTSTART:20260329T010000
END:DAYLIGHT
BEGIN:STANDARD
TZOFFSETFROM:+0200
TZOFFSETTO:+0100
TZNAME:CET
DTSTART:20261025T010000
END:STANDARD
BEGIN:DAYLIGHT
TZOFFSETFROM:+0100
TZOFFSETTO:+0200
TZNAME:CEST
DTSTART:20270328T010000
END:DAYLIGHT
BEGIN:STANDARD
TZOFFSETFROM:+0200
TZOFFSETTO:+0100
TZNAME:CET
DTSTART:20271031T010000
END:STANDARD
END:VTIMEZONE
BEGIN:VEVENT
DTSTART;TZID=Europe/Berlin:20260711T140000
DTEND;TZID=Europe/Berlin:20260711T153000
DTSTAMP:20260423T163958
CREATED:20260204T133153Z
LAST-MODIFIED:20260204T135012Z
UID:10006870-1783778400-1783783800@www.evforum-bonn.de
SUMMARY:Gruppenführung - Oberkassel (nicht buchbar)
DESCRIPTION:Aus der Reihe „Evangelische Stadtführungen – Geistreich\, Informativ\, Sprirituell“ 📍 Oberkassel – exklusive Gruppenführung mit Petra Clemens\n❗ Hierbei handelt es sich um eine exklusive Gruppenbuchung \nGern buchen Sie Ihre eigene Stadtführung über info@evforum-bonn.de zum Pauschalpreis von 120\,– € zum Wunschtermin am Wunschort\nWeitere Informationen \n  \nKirschblüte Bonn_Foto herbert2515 by Pixabay Free
URL:https://www.evforum-bonn.de/veranstaltung/gruppenfhrung-oberkassel-11-07-26/
LOCATION:Offener Treffpunkt
CATEGORIES:Aktuelles,Evangelische Stadtführungen,Exkursion - Ausflug - Tour,Veranstaltungsreihen
ATTACH;FMTTYPE=image/jpeg:https://www.evforum-bonn.de/wp-content/uploads/2025/03/IMG_1934a-Kopie-edited-scaled-e1741596149227.jpg
ORGANIZER;CN="Evangelisches Forum Bonn":MAILTO:info@evforum-bonn.de
END:VEVENT
END:VCALENDAR