BEGIN:VCALENDAR
VERSION:2.0
PRODID:-//Evangelisches Forum Bonn - ECPv6.15.20//NONSGML v1.0//EN
CALSCALE:GREGORIAN
METHOD:PUBLISH
X-WR-CALNAME:Evangelisches Forum Bonn
X-ORIGINAL-URL:https://www.evforum-bonn.de
X-WR-CALDESC:Veranstaltungen für Evangelisches Forum Bonn
REFRESH-INTERVAL;VALUE=DURATION:PT1H
X-Robots-Tag:noindex
X-PUBLISHED-TTL:PT1H
BEGIN:VTIMEZONE
TZID:Europe/Berlin
BEGIN:DAYLIGHT
TZOFFSETFROM:+0100
TZOFFSETTO:+0200
TZNAME:CEST
DTSTART:20250330T010000
END:DAYLIGHT
BEGIN:STANDARD
TZOFFSETFROM:+0200
TZOFFSETTO:+0100
TZNAME:CET
DTSTART:20251026T010000
END:STANDARD
BEGIN:DAYLIGHT
TZOFFSETFROM:+0100
TZOFFSETTO:+0200
TZNAME:CEST
DTSTART:20260329T010000
END:DAYLIGHT
BEGIN:STANDARD
TZOFFSETFROM:+0200
TZOFFSETTO:+0100
TZNAME:CET
DTSTART:20261025T010000
END:STANDARD
BEGIN:DAYLIGHT
TZOFFSETFROM:+0100
TZOFFSETTO:+0200
TZNAME:CEST
DTSTART:20270328T010000
END:DAYLIGHT
BEGIN:STANDARD
TZOFFSETFROM:+0200
TZOFFSETTO:+0100
TZNAME:CET
DTSTART:20271031T010000
END:STANDARD
END:VTIMEZONE
BEGIN:VEVENT
DTSTART;TZID=Europe/Berlin:20260730T150000
DTEND;TZID=Europe/Berlin:20260730T180000
DTSTAMP:20260423T152254
CREATED:20260407T091106Z
LAST-MODIFIED:20260407T091833Z
UID:10007392-1785423600-1785434400@www.evforum-bonn.de
SUMMARY:Jeans-Upcycling-Workshop für Teenies
DESCRIPTION:Deine alte Jeans ist zu schade zum Wegwerfen? Dann mach was Cooles draus! In diesem 3-stündigen Sommerferien-Workshop gestalten Jugendliche aus alten Jeans neue Lieblingsstücke\, z. B. Taschen oder stylische Accessoires. \nDabei werden Schritt für Schritt grundlegende Techniken des Nähens und Gestaltens vermittelt. Ganz nebenbei lernen die Teilnehmenden\, wie durch Upcycling Ressourcen geschont und Kleidung nachhaltig weiterverwendet werden kann. \nDer Workshop verbindet kreatives Arbeiten mit praktischer Bildung im Bereich Nachhaltigkeit und Konsumverhalten und stärkt handwerkliche Fähigkeiten sowie eigenständiges Gestalten. Vorkenntnisse sind nicht erforderlich. \n🧵 Bitte eine alte Jeans mitbringen💶 Kosten: 25 € \n\n📍 Donnerstag\, 30. Juli 2026\, 15:00–18:00 Uhr📌 Gemeindezentrum\, Franz-Bücheler-Str. 10\, 53129 Bonn \n👤 Ansprechpartner*in: Johanna Nolte📧 johanna.nolte@ekir.de
URL:https://www.evforum-bonn.de/veranstaltung/friedenskirche-26-07-30j/
LOCATION:Gemeindehaus der Friedenskirchengemeinde\, Franz-Bücheler-Straße 10\, Bonn\, NRW\, 53129\, Germany
CATEGORIES:Ev. Friedenskirchengemeinde,Ressourcen - Umwelt - Klima,Veranstaltungen von Gemeinden
ATTACH;FMTTYPE=image/jpeg:https://www.evforum-bonn.de/wp-content/uploads/2026/04/jeans_Pixabay-free-by-Linda-Lioe.jpg
END:VEVENT
END:VCALENDAR