BEGIN:VCALENDAR
VERSION:2.0
PRODID:-//Evangelisches Forum Bonn - ECPv6.15.20//NONSGML v1.0//EN
CALSCALE:GREGORIAN
METHOD:PUBLISH
X-WR-CALNAME:Evangelisches Forum Bonn
X-ORIGINAL-URL:https://www.evforum-bonn.de
X-WR-CALDESC:Veranstaltungen für Evangelisches Forum Bonn
REFRESH-INTERVAL;VALUE=DURATION:PT1H
X-Robots-Tag:noindex
X-PUBLISHED-TTL:PT1H
BEGIN:VTIMEZONE
TZID:Europe/Berlin
BEGIN:DAYLIGHT
TZOFFSETFROM:+0100
TZOFFSETTO:+0200
TZNAME:CEST
DTSTART:20250330T010000
END:DAYLIGHT
BEGIN:STANDARD
TZOFFSETFROM:+0200
TZOFFSETTO:+0100
TZNAME:CET
DTSTART:20251026T010000
END:STANDARD
BEGIN:DAYLIGHT
TZOFFSETFROM:+0100
TZOFFSETTO:+0200
TZNAME:CEST
DTSTART:20260329T010000
END:DAYLIGHT
BEGIN:STANDARD
TZOFFSETFROM:+0200
TZOFFSETTO:+0100
TZNAME:CET
DTSTART:20261025T010000
END:STANDARD
BEGIN:DAYLIGHT
TZOFFSETFROM:+0100
TZOFFSETTO:+0200
TZNAME:CEST
DTSTART:20270328T010000
END:DAYLIGHT
BEGIN:STANDARD
TZOFFSETFROM:+0200
TZOFFSETTO:+0100
TZNAME:CET
DTSTART:20271031T010000
END:STANDARD
END:VTIMEZONE
BEGIN:VEVENT
DTSTART;TZID=Europe/Berlin:20260922T090000
DTEND;TZID=Europe/Berlin:20260922T170000
DTSTAMP:20260423T164332
CREATED:20260313T104359Z
LAST-MODIFIED:20260313T104510Z
UID:10006993-1790067600-1790096400@www.evforum-bonn.de
SUMMARY:Gesprächsführungsseminar Teil 3
DESCRIPTION:❗Achtung: Dieses Seminar ist ein weiterführendes Modul für entsendete Notfallseelsorger:innen und vermittelt praxisnah Grundlagen der Gesprächsführung in Krisensituationen. \nDie vollständige Teilnahme an allen drei Teilen\, also an allen 8 Tagen ist Pflicht.\nDie Seminartage gehen jeweils von 9:00 – 17:00 Uhr. Darin enthalten sind eine Mittagspause von 1\,5 h sowie zwei Kaffeepausen. Es werden lediglich Getränke bereit gestellt. Für die Verpflegung muss jede/jeder selbst sorgen. \nFür die Teilnahme an der GF-Ausbildung ist ein Eigenanteil von 100\,00 € zu entrichten. Näheres wird im Kurs bekannt gegeben. \nTrainerin: Anne Bonn\, Kommunikationstrainerin AiP-Rheinland🔗 www.aip-im-rheinland.de🔗 www.anne-bonn.de \n\n📅 22. + 23. September 2026📍 Gemeindehaus Ev. Kirchengemeinde Seelscheid \n\nIn Ausnahmefällen können auch Teilnehmende des laufendenden Kurses der Notfallseelsorge teilnehmen. Für Rückfragen bitte bei langer@nfs-bn-rsk.de melden.
URL:https://www.evforum-bonn.de/veranstaltung/gesprchsfhrungsseminar-teil-3-2026/2026-09-22/
LOCATION:Gemeindehaus der Ev. Kirchengemeinde Seelscheid\, Pfarrer-Julius-Smend-Platz 3\, Neunkirchen-Seelscheid\, NRW\, 53819\, Germany
CATEGORIES:Lehrgang | Kurs,Notfallseelsorge - Ausbildungskurs,Veranstaltungen von Institutionen und Verbänden,Veranstaltungsreihen
ATTACH;FMTTYPE=image/png:https://www.evforum-bonn.de/wp-content/uploads/2025/08/notfallseelsorge_logo_kursiv-1.png
ORGANIZER;CN="Notfallseelsorge Bonn Rhein-Sieg":MAILTO:info@nfs-bn-rsk.de
END:VEVENT
BEGIN:VEVENT
DTSTART;TZID=Europe/Berlin:20260922T170000
DTEND;TZID=Europe/Berlin:20260922T183000
DTSTAMP:20260423T164332
CREATED:20260202T114124Z
LAST-MODIFIED:20260202T114343Z
UID:10006824-1790096400-1790101800@www.evforum-bonn.de
SUMMARY:"Mystik entdecken" Theologiekreis der Auferstehungskirche
DESCRIPTION:📅 4. Dienstag im Monat (außer in den Ferien)📍Gemeindehaus der Ev. Auferstehungskirchengemeinde \nSeit vielen Jahren trifft sich ein Kreis theologisch und spirituell interessierter Menschen\, um sich mit der Geschichte christlicher Mystik und der Vielfalt spiritueller Wege vertraut zu machen. Von den Wüstenvätern und -müttern des 4. Jahrhunderts über die Tradition der Klöster bis in die Gegenwart suchen Christinnen und Christen nach einem inneren Zugang zu Gott. \nIm Gespräch gehen wir Zeugnissen und Texten der Mystik nach\, lassen uns von deren Erfahrungen inspirieren und tauschen uns über die Bedeutung für unser eigenes Glaubensleben aus. \nDie Reihe lebt von gemeinsamer Neugier\, Erfahrung und Offenheit – neue Interessierte sind herzlich willkommen. \n📧 Ansprechpartner: Pfarrer Christian Knoche-Hager – christian.knoche-hager@ekir.de
URL:https://www.evforum-bonn.de/veranstaltung/mystik-entdecken-theologiekreis-der-auferstehungskirche-26/2026-09-22/
LOCATION:Gemeindehaus der Ev. Auferstehungskirche\, Haager Weg 40\, Bonn\, NRW\, 53127\, Germany
CATEGORIES:Bibel - Bibelgespräch,Bibel und Buch,Theologie / Philosophie,Veranstaltungen von Gemeinden,Veranstaltungsreihen
ATTACH;FMTTYPE=image/jpeg:https://www.evforum-bonn.de/wp-content/uploads/2025/07/Mystik-entdecken_Bildquelle-Ev.-Auferstehungskirche-Bonn.jpg
ORGANIZER;CN="Ev. Kirchengemeinde im Bonner Westen (Auferstehung)":MAILTO:carla.hornberger@ekir.de
END:VEVENT
BEGIN:VEVENT
DTSTART;TZID=Europe/Berlin:20260922T193000
DTEND;TZID=Europe/Berlin:20260922T203000
DTSTAMP:20260423T164332
CREATED:20260220T085434Z
LAST-MODIFIED:20260220T090009Z
UID:10006940-1790105400-1790109000@www.evforum-bonn.de
SUMMARY:Lindy Hop | Offener Tanzunterricht
DESCRIPTION:Lindy Hop ist ein beschwingter Swing-Tanzstil mit Wurzeln in der afroamerikanischen Kultur der 1930er Jahre. In diesem offenen Tanzunterricht steht nicht nur die Freude an Bewegung im Mittelpunkt\, sondern auch das gemeinschaftliche Lernen: Vom ersten Grundschritt bis zur Improvisation können alle – mit oder ohne Vorkenntnisse – neue Schritte erlernen\, Koordination und Rhythmusgefühl schulen und dabei die Geschichte eines kulturell bedeutenden Tanzstils kennenlernen. \nDie Abende bieten Raum für Begegnung\, körperliche Aktivität und kulturelle Bildung – immer in respektvoller Atmosphäre und mit viel Spaß. Kommen Sie vorbei\, tanzen Sie mit! \n📍 Ort: Melanchthonhaus der Kreuzkirche📩 Anmeldung & Infos: lindyhop@justmail.de🕒 Wöchentlich dienstags um 19:30 Uhr (außer ggf. in den Ferien und an Feiertagen) \n❗ diese Veranstaltungsreihe wird uU als fortlaufender Termin auch in den Ferien angezeigt – bitte erkundigen Sie sich beim Veranstalter.
URL:https://www.evforum-bonn.de/veranstaltung/lindy-hop-2026/2026-09-22/
LOCATION:Melanchthon Haus der Kreuzkirche\, An der Evangelischen Kirche 6\, Bonn\, NRW\, 53113\, Germany
CATEGORIES:Gesundheit - Krankheit - Medizin,Lindy Hop,Tanz - Bewegung - Gesundheit,Veranstaltungen von Gemeinden,Veranstaltungsreihen
ATTACH;FMTTYPE=image/jpeg:https://www.evforum-bonn.de/wp-content/uploads/2025/07/Lindy-Hop_Foto-by-Lindy-Hop-e1753443452177.jpg
END:VEVENT
END:VCALENDAR