BEGIN:VCALENDAR
VERSION:2.0
PRODID:-//Evangelisches Forum Bonn - ECPv6.15.20//NONSGML v1.0//EN
CALSCALE:GREGORIAN
METHOD:PUBLISH
X-ORIGINAL-URL:https://www.evforum-bonn.de
X-WR-CALDESC:Veranstaltungen für Evangelisches Forum Bonn
REFRESH-INTERVAL;VALUE=DURATION:PT1H
X-Robots-Tag:noindex
X-PUBLISHED-TTL:PT1H
BEGIN:VTIMEZONE
TZID:Europe/Berlin
BEGIN:DAYLIGHT
TZOFFSETFROM:+0100
TZOFFSETTO:+0200
TZNAME:CEST
DTSTART:20250330T010000
END:DAYLIGHT
BEGIN:STANDARD
TZOFFSETFROM:+0200
TZOFFSETTO:+0100
TZNAME:CET
DTSTART:20251026T010000
END:STANDARD
BEGIN:DAYLIGHT
TZOFFSETFROM:+0100
TZOFFSETTO:+0200
TZNAME:CEST
DTSTART:20260329T010000
END:DAYLIGHT
BEGIN:STANDARD
TZOFFSETFROM:+0200
TZOFFSETTO:+0100
TZNAME:CET
DTSTART:20261025T010000
END:STANDARD
BEGIN:DAYLIGHT
TZOFFSETFROM:+0100
TZOFFSETTO:+0200
TZNAME:CEST
DTSTART:20270328T010000
END:DAYLIGHT
BEGIN:STANDARD
TZOFFSETFROM:+0200
TZOFFSETTO:+0100
TZNAME:CET
DTSTART:20271031T010000
END:STANDARD
END:VTIMEZONE
BEGIN:VEVENT
DTSTART;TZID=Europe/Berlin:20260924T190000
DTEND;TZID=Europe/Berlin:20260924T210000
DTSTAMP:20260423T164018
CREATED:20251211T093715Z
LAST-MODIFIED:20260311T082330Z
UID:10006413-1790276400-1790283600@www.evforum-bonn.de
SUMMARY:Vortrag – „Das Christentum & die extreme Rechte“
DESCRIPTION:📍 Haus der Evangelischen Kirche👤 mit Dr. H.-U. Probst – Uni Tübingen  weitere Informationen folgen \nWir freuen uns über Ihre Anmeldung – bitte nutzen Sie das ua. Formular 👇 \n\nDie Kirche ist als gesellschaftliche Akteurin in besonderer Weise gefragt\, Räume für Demokratie\, Vielfalt und Klimagerechtigkeit zu gestalten. \nMit der Veranstaltungsreihe „Haltung zeigen!“ macht ein breites Bündnis aus katholischen und evangelischen Akteurinnen auch in 2026 Angebote zur Orientierung und zur Stärkung von Beteiligung\, Inklusion und nachhaltigem Handeln im Sinne christlicher Verantwortung. \nEine Kooperation von: Evangelische Migrations- und Flüchtlingsarbeit Bonn EMFA • Haus Mondial (Caritas) • Frauenbeauftragte des Ev. Kirchenkreises Bad Godesberg-Voreifel • Kath. Stadtdekanat Bonn und Aktion Neue Nachbarn • Evangelisches Forum Bonn • Diakonisches Werk Bonn und Region • Katholisches Bildungsforum Bonn • Evangelische Akademie im Rheinland • Ev. Kirchenkreis Bonn \n\n\n  \n\n\n\n\n\n\n\n\n\n\n\n\n\n  Anmeldeformular\n\n  \n    \n      FrauHerrDiversKeine Angabe\n    \n    \n      \n    \n    \n      \n    \n    \n      \n    \n  \n\n  \n    \n      \n    \n  \n\n  \n\n  \n    \n      Weitere Person anmelden?\n      NeinJa\n    \n  \n\n  \n  \n    \n      \n    \n  \n  \n\n  \n\n  Ich habe die Datenschutzbestimmungen gelesen und akzeptiert.\n\n  \n    Dieses Formular ist durch reCAPTCHA geschützt. Es gelten die\n    Datenschutzbestimmungen\n    und\n    Nutzungsbedingungen\n    von Google.
URL:https://www.evforum-bonn.de/veranstaltung/haltung-zeigen-26-09-24/
LOCATION:Haus der Ev. Kirche Bonn\, Adenauerallee 37\, Bonn\, NRW\, 53113\, Germany
CATEGORIES:Aktuelles,Ev. Forum Bonn,Haltung zeigen!,Haus der Ev. Kirche Bonn,Veranstaltungen von Gemeinden,Veranstaltungen von Institutionen und Verbänden,Zentralprogramm
ATTACH;FMTTYPE=image/jpeg:https://www.evforum-bonn.de/wp-content/uploads/2025/12/Haltung-zeigen-2026_Deckblatt.jpg
ORGANIZER;CN="Evangelisches Forum Bonn":MAILTO:info@evforum-bonn.de
END:VEVENT
END:VCALENDAR