BEGIN:VCALENDAR
VERSION:2.0
PRODID:-//Evangelisches Forum Bonn - ECPv6.15.20//NONSGML v1.0//EN
CALSCALE:GREGORIAN
METHOD:PUBLISH
X-ORIGINAL-URL:https://www.evforum-bonn.de
X-WR-CALDESC:Veranstaltungen für Evangelisches Forum Bonn
REFRESH-INTERVAL;VALUE=DURATION:PT1H
X-Robots-Tag:noindex
X-PUBLISHED-TTL:PT1H
BEGIN:VTIMEZONE
TZID:Europe/Berlin
BEGIN:DAYLIGHT
TZOFFSETFROM:+0100
TZOFFSETTO:+0200
TZNAME:CEST
DTSTART:20250330T010000
END:DAYLIGHT
BEGIN:STANDARD
TZOFFSETFROM:+0200
TZOFFSETTO:+0100
TZNAME:CET
DTSTART:20251026T010000
END:STANDARD
BEGIN:DAYLIGHT
TZOFFSETFROM:+0100
TZOFFSETTO:+0200
TZNAME:CEST
DTSTART:20260329T010000
END:DAYLIGHT
BEGIN:STANDARD
TZOFFSETFROM:+0200
TZOFFSETTO:+0100
TZNAME:CET
DTSTART:20261025T010000
END:STANDARD
BEGIN:DAYLIGHT
TZOFFSETFROM:+0100
TZOFFSETTO:+0200
TZNAME:CEST
DTSTART:20270328T010000
END:DAYLIGHT
BEGIN:STANDARD
TZOFFSETFROM:+0200
TZOFFSETTO:+0100
TZNAME:CET
DTSTART:20271031T010000
END:STANDARD
END:VTIMEZONE
BEGIN:VEVENT
DTSTART;TZID=Europe/Berlin:20261003T100000
DTEND;TZID=Europe/Berlin:20261003T140000
DTSTAMP:20260423T151828
CREATED:20260202T113244Z
LAST-MODIFIED:20260202T113528Z
UID:10006812-1791021600-1791036000@www.evforum-bonn.de
SUMMARY:Repair Café
DESCRIPTION:Jeden 1. Samstag (außer in den Ferien und an Feiertagen) im Monat von 10 – 14 Uhr im Gemeindehaus der Auferstehungskirchengemeinde | Haager Weg 40\n\nAus Alt mach Neu – gemeinsam reparieren statt wegwerfen!Beim Repair-Café im Gemeindehaus stehen Nachhaltigkeit und Gemeinschaft im Mittelpunkt: Bringen Sie defekte Haushaltsgeräte\, Fahrräder oder tragbare Alltagsgegenstände mit – unser ehrenamtliches Team hilft Ihnen dabei\, sie wieder flott zu machen. \nReparieren spart Geld\, schont Ressourcen und setzt ein Zeichen gegen die Wegwerfgesellschaft. Ob kleiner Schaden oder große Hoffnung – wir freuen uns auf Ihren Besuch und viele spannende Reparaturprojekte!
URL:https://www.evforum-bonn.de/veranstaltung/repair-cafe-auferstehung-2026/2026-10-03/
LOCATION:Gemeindehaus der Ev. Auferstehungskirche\, Haager Weg 40\, Bonn\, NRW\, 53127\, Germany
CATEGORIES:Repair Café,Ressourcen - Umwelt - Klima,Veranstaltungen von Gemeinden,Veranstaltungsreihen
ATTACH;FMTTYPE=image/jpeg:https://www.evforum-bonn.de/wp-content/uploads/2025/05/repaircafe-Auferstehungskirchengemeinde-Auerberg-e1746780233931.jpg
ORGANIZER;CN="Ev. Kirchengemeinde im Bonner Westen (Auferstehung)":MAILTO:carla.hornberger@ekir.de
END:VEVENT
BEGIN:VEVENT
DTSTART;TZID=Europe/Berlin:20261003T143000
DTEND;TZID=Europe/Berlin:20261003T163000
DTSTAMP:20260423T151828
CREATED:20251211T093857Z
LAST-MODIFIED:20260311T082726Z
UID:10006414-1791037800-1791045000@www.evforum-bonn.de
SUMMARY:Tafel der Demokratie auf dem Münsterplatz
DESCRIPTION:⏰ 14:30 bis 16:30 Uhr\n📍 Münsterplatz Bonn👤 weitere Informationen folgen \nAnmeldung bitten über unser Formular 👇🏼 \n\nDie Kirche ist als gesellschaftliche Akteurin in besonderer Weise gefragt\, Räume für Demokratie\, Vielfalt und Klimagerechtigkeit zu gestalten. \nMit der Veranstaltungsreihe „Haltung zeigen!“ macht ein breites Bündnis aus katholischen und evangelischen Akteurinnen auch in 2026 Angebote zur Orientierung und zur Stärkung von Beteiligung\, Inklusion und nachhaltigem Handeln im Sinne christlicher Verantwortung. \nEine Kooperation von: Evangelische Migrations- und Flüchtlingsarbeit Bonn EMFA • Haus Mondial (Caritas) • Frauenbeauftragte des Ev. Kirchenkreises Bad Godesberg-Voreifel • Kath. Stadtdekanat Bonn und Aktion Neue Nachbarn • Evangelisches Forum Bonn • Diakonisches Werk Bonn und Region • Katholisches Bildungsforum Bonn • Evangelische Akademie im Rheinland • Ev. Kirchenkreis Bonn \n\n\n  \n\n\n\n\n\n\n\n\n\n\n\n\n\n  Anmeldeformular\n\n  \n    \n      FrauHerrDiversKeine Angabe\n    \n    \n      \n    \n    \n      \n    \n    \n      \n    \n  \n\n  \n    \n      \n    \n  \n\n  \n\n  \n    \n      Weitere Person anmelden?\n      NeinJa\n    \n  \n\n  \n  \n    \n      \n    \n  \n  \n\n  \n\n  Ich habe die Datenschutzbestimmungen gelesen und akzeptiert.\n\n  \n    Dieses Formular ist durch reCAPTCHA geschützt. Es gelten die\n    Datenschutzbestimmungen\n    und\n    Nutzungsbedingungen\n    von Google.
URL:https://www.evforum-bonn.de/veranstaltung/haltung-zeigen-26-10-03/
LOCATION:Münsterplatz Bonn\, Münsterplatz\, Bonn\, NRW\, 53111\, Germany
CATEGORIES:Aktuelles,Ev. Forum Bonn,Haltung zeigen!,Veranstaltungen von Gemeinden,Veranstaltungen von Institutionen und Verbänden,Zentralprogramm
ATTACH;FMTTYPE=image/jpeg:https://www.evforum-bonn.de/wp-content/uploads/2025/12/Haltung-zeigen-2026_Deckblatt.jpg
ORGANIZER;CN="Evangelisches Forum Bonn":MAILTO:info@evforum-bonn.de
END:VEVENT
END:VCALENDAR