BEGIN:VCALENDAR
VERSION:2.0
PRODID:-//Evangelisches Forum Bonn - ECPv6.15.20//NONSGML v1.0//EN
CALSCALE:GREGORIAN
METHOD:PUBLISH
X-ORIGINAL-URL:https://www.evforum-bonn.de
X-WR-CALDESC:Veranstaltungen für Evangelisches Forum Bonn
REFRESH-INTERVAL;VALUE=DURATION:PT1H
X-Robots-Tag:noindex
X-PUBLISHED-TTL:PT1H
BEGIN:VTIMEZONE
TZID:Europe/Berlin
BEGIN:DAYLIGHT
TZOFFSETFROM:+0100
TZOFFSETTO:+0200
TZNAME:CEST
DTSTART:20250330T010000
END:DAYLIGHT
BEGIN:STANDARD
TZOFFSETFROM:+0200
TZOFFSETTO:+0100
TZNAME:CET
DTSTART:20251026T010000
END:STANDARD
BEGIN:DAYLIGHT
TZOFFSETFROM:+0100
TZOFFSETTO:+0200
TZNAME:CEST
DTSTART:20260329T010000
END:DAYLIGHT
BEGIN:STANDARD
TZOFFSETFROM:+0200
TZOFFSETTO:+0100
TZNAME:CET
DTSTART:20261025T010000
END:STANDARD
BEGIN:DAYLIGHT
TZOFFSETFROM:+0100
TZOFFSETTO:+0200
TZNAME:CEST
DTSTART:20270328T010000
END:DAYLIGHT
BEGIN:STANDARD
TZOFFSETFROM:+0200
TZOFFSETTO:+0100
TZNAME:CET
DTSTART:20271031T010000
END:STANDARD
END:VTIMEZONE
BEGIN:VEVENT
DTSTART;TZID=Europe/Berlin:20261008T100000
DTEND;TZID=Europe/Berlin:20261008T120000
DTSTAMP:20260423T152543
CREATED:20260128T131129Z
LAST-MODIFIED:20260128T131325Z
UID:10006712-1791453600-1791460800@www.evforum-bonn.de
SUMMARY:Gesprächskreis Lyrik II 2026
DESCRIPTION:An jedem 2. Donnerstag im Monat treffen sich Lyrik-Interessierte zum Austausch und Vortrag von ausgewählten Texten. \nDie Gruppe entscheidet welche Lyriker oder welche Themen behandelt werden sollen. \nLeitung: Antje Wille\, Tel. 64 48 13
URL:https://www.evforum-bonn.de/veranstaltung/gesprchskreis-lyrik-ii-2026/2026-10-08/
LOCATION:Die WOHNUNG\, Stresemannstr. 28\, Bonn\, 53123
CATEGORIES:Kunst - Musik - Literatur,Veranstaltungen von Gemeinden
ATTACH;FMTTYPE=image/jpeg:https://www.evforum-bonn.de/wp-content/uploads/2025/01/Literaturkreis.jpg
ORGANIZER;CN="Ev. Kirchengemeinde im Bonner Westen (Hardtberg)":MAILTO:hardtberg@ekir.de
END:VEVENT
BEGIN:VEVENT
DTSTART;TZID=Europe/Berlin:20261008T150000
DTEND;TZID=Europe/Berlin:20261008T180000
DTSTAMP:20260423T152543
CREATED:20260422T082827Z
LAST-MODIFIED:20260422T083831Z
UID:10007414-1791471600-1791482400@www.evforum-bonn.de
SUMMARY:Evangelisches Seniorennetzwerk-RWL
DESCRIPTION:Einsamkeit im Alter ist eine der großen gesellschaftlichen Herausforderungen unserer Zeit. Die Tagung widmet sich den Ursachen\, Auswirkungen und möglichen Lösungsansätzen im Umgang mit Einsamkeit im Alter. \nIm Mittelpunkt stehen fachliche Impulse sowie praxisorientierte Ansätze aus der kirchlichen und sozialen Arbeit. Neben einem einführenden Vortrag bietet die Veranstaltung Raum für Austausch\, Vernetzung und die Entwicklung neuer Perspektiven für mehr Verbundenheit im Alltag älterer Menschen. \nDie Teilnehmenden erhalten Anregungen für die eigene Praxis und lernen unterschiedliche Projekte und Initiativen kennen\, die Wege aus der Einsamkeit aufzeigen. \n\n👥 Moderation: Dr. Anne Kathrin Quaas • 👥 Grußwort: Dr. Almut Heuner (Ev. Seniorennetzwerk-RWL)🙏 Andacht: Pfarrerin i. R. Susanne Back-Bauer🎤 Impulsvortrag: Silke Leicht \n📍 Donnerstag\, 08. Oktober 2026\, 15:00–18:00 Uhr📌 Haus der Evangelischen Kirche\, Adenauerallee 37\, 53113 Bonn \n\nProgramm\n15:00 UhrGrußwort und Andacht \n15:20 UhrImpulsvortrag:Einsamkeit im Alter: Ursachen\, Herausforderungen und Ideen für mehr Verbundenheit \n16:00 UhrKaffeepause \n16:30 UhrAnregungen für die Praxis – Blick über die Gemeindegrenzen: \n\nGemeinsam besser als einsam – Mittagstisch für Alleinstehende (Dr. Andreas von Below)\nDie Menschen zu Hause aufsuchen – Wiederentdeckung der Gemeindeschwester auf neue Weise (NN)\n„Café Paradies“ – Friedhof als Begegnungsort für Hinterbliebene (Jens Schramm)\n\n17:15 UhrAustausch im Plenum \n17:45 UhrAbschluss \n\nEine Kooperationsveranstaltung des Ev. Seniorennetzwerks-RWL und des Evangelischen Forums Bonn – Gefördert durch Kollektenmittel „Hilfe für alte Menschen und Hospizarbeit“ \n🎟️ Teilnahme kostenfrei • Anmeldung bitte über unser Formular (unten)
URL:https://www.evforum-bonn.de/veranstaltung/evangelisches-seniorennetzwerk-rwl-26/
LOCATION:Haus der Ev. Kirche Bonn\, Adenauerallee 37\, Bonn\, NRW\, 53113\, Germany
CATEGORIES:Aktuelles,Altern und Alter,Existenzielle Fragestellungen,Gesundheit - Krankheit - Medizin,Haus der Ev. Kirche Bonn,Lehrgang | Kurs,Lesung - Vortrag,Philosophisch-psychologische Kaffeehausgespräche,Seniorenbildung,Theologie / Philosophie,Veranstaltungen von Gemeinden,Veranstaltungen von Institutionen und Verbänden,Weiterbildung allgemein,Zentralprogramm
ATTACH;FMTTYPE=image/jpeg:https://www.evforum-bonn.de/wp-content/uploads/2026/02/alma-EtMBNWoavoA-unsplash-scaled-e1773226245711.jpg
END:VEVENT
END:VCALENDAR