BEGIN:VCALENDAR
VERSION:2.0
PRODID:-//Evangelisches Forum Bonn - ECPv6.15.20//NONSGML v1.0//EN
CALSCALE:GREGORIAN
METHOD:PUBLISH
X-WR-CALNAME:Evangelisches Forum Bonn
X-ORIGINAL-URL:https://www.evforum-bonn.de
X-WR-CALDESC:Veranstaltungen für Evangelisches Forum Bonn
REFRESH-INTERVAL;VALUE=DURATION:PT1H
X-Robots-Tag:noindex
X-PUBLISHED-TTL:PT1H
BEGIN:VTIMEZONE
TZID:Europe/Berlin
BEGIN:DAYLIGHT
TZOFFSETFROM:+0100
TZOFFSETTO:+0200
TZNAME:CEST
DTSTART:20250330T010000
END:DAYLIGHT
BEGIN:STANDARD
TZOFFSETFROM:+0200
TZOFFSETTO:+0100
TZNAME:CET
DTSTART:20251026T010000
END:STANDARD
BEGIN:DAYLIGHT
TZOFFSETFROM:+0100
TZOFFSETTO:+0200
TZNAME:CEST
DTSTART:20260329T010000
END:DAYLIGHT
BEGIN:STANDARD
TZOFFSETFROM:+0200
TZOFFSETTO:+0100
TZNAME:CET
DTSTART:20261025T010000
END:STANDARD
BEGIN:DAYLIGHT
TZOFFSETFROM:+0100
TZOFFSETTO:+0200
TZNAME:CEST
DTSTART:20270328T010000
END:DAYLIGHT
BEGIN:STANDARD
TZOFFSETFROM:+0200
TZOFFSETTO:+0100
TZNAME:CET
DTSTART:20271031T010000
END:STANDARD
END:VTIMEZONE
BEGIN:VEVENT
DTSTART;TZID=Europe/Berlin:20261016T190000
DTEND;TZID=Europe/Berlin:20261016T203000
DTSTAMP:20260423T134631
CREATED:20260128T132310Z
LAST-MODIFIED:20260318T173751Z
UID:10007137-1792177200-1792182600@www.evforum-bonn.de
SUMMARY:Fotogruppe Hardtberg
DESCRIPTION:14 tägig Freitags um 19 Uhr\n\n\nDie Fotogruppe trifft sich regelmäßig um dem gemeinsamen Hobby der Fotografie nachzugehen. Wir probieren zusammen unterschiedliche Motive und Lichtverhältnisse aus\, erlernen Fotografiertechniken und erleben eine schöne gemeinsame Zeit. Manche der Fotos auf unserer Website stammen von der Fotogruppe.\n\n\nKontakt: Dr. Klaus Vedder\, Tel. 0171 7441471\nDr. Urs von Deimling\, Tel. 0172 6328220
URL:https://www.evforum-bonn.de/veranstaltung/fotogruppe-hardtberg-2026/2026-10-16/
LOCATION:Gemeindezentrum Matthäikirche\, Gutenbergstraße 10\, Bonn\, 53123\, Deutschland
CATEGORIES:Kunst - Musik - Literatur,Veranstaltungen von Gemeinden,Veranstaltungsreihen
ATTACH;FMTTYPE=image/jpeg:https://www.evforum-bonn.de/wp-content/uploads/2025/05/Kamera_Pixabay-Free_PublicDomainArchive-e1748429758644.jpg
ORGANIZER;CN="Ev. Kirchengemeinde im Bonner Westen (Hardtberg)":MAILTO:hardtberg@ekir.de
END:VEVENT
END:VCALENDAR