BEGIN:VCALENDAR
VERSION:2.0
PRODID:-//Evangelisches Forum Bonn - ECPv6.15.20//NONSGML v1.0//EN
CALSCALE:GREGORIAN
METHOD:PUBLISH
X-ORIGINAL-URL:https://www.evforum-bonn.de
X-WR-CALDESC:Veranstaltungen für Evangelisches Forum Bonn
REFRESH-INTERVAL;VALUE=DURATION:PT1H
X-Robots-Tag:noindex
X-PUBLISHED-TTL:PT1H
BEGIN:VTIMEZONE
TZID:Europe/Berlin
BEGIN:DAYLIGHT
TZOFFSETFROM:+0100
TZOFFSETTO:+0200
TZNAME:CEST
DTSTART:20250330T010000
END:DAYLIGHT
BEGIN:STANDARD
TZOFFSETFROM:+0200
TZOFFSETTO:+0100
TZNAME:CET
DTSTART:20251026T010000
END:STANDARD
BEGIN:DAYLIGHT
TZOFFSETFROM:+0100
TZOFFSETTO:+0200
TZNAME:CEST
DTSTART:20260329T010000
END:DAYLIGHT
BEGIN:STANDARD
TZOFFSETFROM:+0200
TZOFFSETTO:+0100
TZNAME:CET
DTSTART:20261025T010000
END:STANDARD
BEGIN:DAYLIGHT
TZOFFSETFROM:+0100
TZOFFSETTO:+0200
TZNAME:CEST
DTSTART:20270328T010000
END:DAYLIGHT
BEGIN:STANDARD
TZOFFSETFROM:+0200
TZOFFSETTO:+0100
TZNAME:CET
DTSTART:20271031T010000
END:STANDARD
END:VTIMEZONE
BEGIN:VEVENT
DTSTART;TZID=Europe/Berlin:20261110T150000
DTEND;TZID=Europe/Berlin:20261110T170000
DTSTAMP:20260423T151831
CREATED:20260128T124343Z
LAST-MODIFIED:20260128T125405Z
UID:10006591-1794322800-1794330000@www.evforum-bonn.de
SUMMARY:Ökumenischer Seniorenkreis in Emmaus
DESCRIPTION:Der Seniorenkreis an der Emmaus-Kirche lädt alle Interessierten herzlich ein zu einem Nachmittag in guter Gemeinschaft. Neben Vorträgen zu wechselnden Themen gibt es Raum für persönliche Begegnung\, Austausch und Nachdenken über Glaube\, Leben und Gesellschaft. \nEin wechselndes Programm mit kulturellen\, spirituellen oder auch unterhaltsamen Beiträgen sorgt für Abwechslung und Gesprächsanregung. Selbstverständlich ist auch für das leibliche Wohl gesorgt. \n📅 Jeden 1. und 3. Dienstag im Monat | 15:00–17:00 Uhr📍 Emmaus-Kirche\, Borsigallee 23\, Bonn-Brüser Berg(Eingang über Fußgängerzone · Parken: Fahrenheitstraße\, vom Brüser Damm kommend) \nKontakt:Pfarrer Dr. Georg Schwikart📧 georg.schwikart@ekir.de · ☎ 01523 6915109 \nDie Themen entnehmen Sie gern dem Terminkalender der Ev. Kirchengemeinde im Bonner Westen (Hardtberg)
URL:https://www.evforum-bonn.de/veranstaltung/okumenischer-seniorenkreis-in-emmaus/2026-11-10/
LOCATION:Gemeindezentrum Emmaus-Kirche\, Borsigallee 23\, Bonn\, 53125\, Deutschland
CATEGORIES:Altern und Alter,Bibel - Bibelgespräch,Existenzielle Fragestellungen,Philosophisch-psychologische Kaffeehausgespräche,Seniorenbildung,Seniorenkreis -nachmittag,Thematische Schwerpunkte,Theologie / Philosophie,Veranstaltungen von Gemeinden,Veranstaltungsreihen
ATTACH;FMTTYPE=image/jpeg:https://www.evforum-bonn.de/wp-content/uploads/2022/12/Senior-e1751876645808.jpg
ORGANIZER;CN="Ev. Kirchengemeinde im Bonner Westen (Hardtberg)":MAILTO:hardtberg@ekir.de
END:VEVENT
BEGIN:VEVENT
DTSTART;TZID=Europe/Berlin:20261110T150000
DTEND;TZID=Europe/Berlin:20261110T180000
DTSTAMP:20260423T151831
CREATED:20251127T092403Z
LAST-MODIFIED:20251127T092537Z
UID:10006393-1794322800-1794333600@www.evforum-bonn.de
SUMMARY:Präventionsschulung Basis • Präsenz
DESCRIPTION:Basis-Schulung (Schulungseinheit mind. 180 Minuten) – Pflicht für: \n\nHaupt- und ehrenamtliche Mitarbeitende ohne Kontakt zur Schutzgruppe\nUnterstützende Rollen\, Verwaltung\, Organisation\, Technik etc.\n\n\n🚩 Ablauf\nDienstag\, 10. November 2026 • von 15 bis 18 Uhr in Präsenz \nFür Ihre verbindliche Anmeldung füllen Sie bitte das Formular aus.❗ Zwingend: Rechnungsadresse angeben! \nSie erhalten eine automatische Anmeldebestätigung und ca. 7 Tage vor dem Termin eine Kursbestätigung mit offiziellen Informationen. \nNach erfolgreicher Durchführung der Schulung und Rückmeldung der Anwesenheit durch die Referent:innen erhalten Sie per Mail Ihre Teilnahmebescheinigung sowie die Rechnung über 25 € Teilnahmegebühr pro Person \nBitte beachten Sie\, die Tiefgarage im Haus der Ev. Kirche Bonn steht an Wochenenden nur Mitarbeitenden mit Zugang (Chip) zur Verfügung! Wir empfehlen die Anreise mit dem ÖPNV \n\n\n\n  \n\n\n\n\n\n\n\n\n\n\n\n\n  \n    Anrede *---FrauHerrDiversKeine Angabe\n  \n  \n    Titel\n  \n  \n    Vorname *\n  \n  \n    Nachname *\n  \n\n\n\n\n\n  \n    Straße\, Nr. *\n  \n  \n    PLZ *\n  \n  \n    Ort *\n  \n\n\n\n\n\n  \n    Telefon\n  \n  \n    E-Mail *\n  \n\n\n\n\n\n\n  \n    Weitere Person anmelden?\n    NeinJa\n  \n\n\n\n  \n    \n      \n    \n  \n\n\n\n\nGgf. abweichende Rechnungsadresse:\nFalls die Rechnungsadresse von der oben angegebenen Adresse abweicht\, tragen Sie bitte hier die Daten ein: \n\nFür Präventionsschulungen* zwingend ausfüllen: \n\n\n  \n    \n      Rechnungsempfänger\n    \n    \n      Straße\, Nr.\n    \n    \n      PLZ\n    \n    \n      Ort\n    \n  \n\n\n\n  *Achtung – Präventionsschulungen:\n  nach erfolgreich durchgeführter Schulung mit Anwesenheitsbestätigung durch unsere Referent*innen\n  erhalten Sie die Teilnahmebescheinigung und Rechnung als PDF automatisiert per Mail. Die Adressangabe\n  des Trägers ist zwingend erforderlich\, sonst wird die Rechnung mit der oben angegebenen Privatanschrift\n  ausgestellt und kann u. U. nicht eingereicht werden.\n \n\n\n\nIch habe die Datenschutzbestimmungen gelesen und akzeptiert.\n\n\nDieses Formular ist durch reCAPTCHA geschützt. Es gelten die\nDatenschutzbestimmungen\nund\nNutzungsbedingungen\nvon Google.
URL:https://www.evforum-bonn.de/veranstaltung/praeventionsschulung-basis-26-11-10/
LOCATION:Haus der Ev. Kirche Bonn\, Adenauerallee 37\, Bonn\, NRW\, 53113\, Germany
CATEGORIES:Aktuelles,Fort- und Weiterbildung,Haus der Ev. Kirche Bonn,Lehrgang | Kurs,Präventionsschulung,Veranstaltungsreihen
ATTACH;FMTTYPE=image/png:https://www.evforum-bonn.de/wp-content/uploads/2025/09/Slider-Praeventionsschulung-scaled-e1773317881965.png
ORGANIZER;CN="Evangelisches Forum Bonn":MAILTO:info@evforum-bonn.de
END:VEVENT
BEGIN:VEVENT
DTSTART;TZID=Europe/Berlin:20261110T173000
DTEND;TZID=Europe/Berlin:20261110T213000
DTSTAMP:20260423T151831
CREATED:20260312T161312Z
LAST-MODIFIED:20260312T164712Z
UID:10006982-1794331800-1794346200@www.evforum-bonn.de
SUMMARY:Täuschend echt. Wie Desinformation wirkt und wie wir uns wehren können • Online
DESCRIPTION:Online-Seminar in der Reihe „Haltung zeigen“ \nDesinformation verbreitet sich heute schneller und wirkungsvoller als je zuvor – besonders über soziale Medien. Täuschend echte Bilder\, manipulierte Inhalte oder gezielte Falschinformationen können Meinungen beeinflussen\, Unsicherheit erzeugen und gesellschaftliche Debatten verzerren. \nIn diesem Online-Seminar erklärt Lisa Wassermann\, Fachstelle für politische Bildung und Entschwörung\, wie Desinformation funktioniert\, warum sie so wirksam ist und welche Strategien dahinterstehen. Gemeinsam schauen wir auf typische Muster und Mechanismen – und darauf\, wie man sie erkennen und ihnen im Alltag begegnen kann. \nDie Veranstaltung lädt dazu ein\, Hintergründe zu verstehen\, eigene Medienkompetenz zu stärken und Handlungsmöglichkeiten im Umgang mit Desinformation zu diskutieren. \n🎟️ Die Teilnahme ist kostenfrei – bitte melden Sie sich HIER an \n\nDie Kirche ist als gesellschaftliche Akteurin in besonderer Weise gefragt\, Räume für Demokratie\, Vielfalt und Klimagerechtigkeit zu gestalten. \nMit der Veranstaltungsreihe „Haltung zeigen!“ macht ein breites Bündnis aus katholischen und evangelischen Akteurinnen auch in 2026 Angebote zur Orientierung und zur Stärkung von Beteiligung\, Inklusion und nachhaltigem Handeln im Sinne christlicher Verantwortung. \nEine Kooperation von: Evangelische Migrations- und Flüchtlingsarbeit Bonn EMFA • Haus Mondial (Caritas) • Frauenbeauftragte des Ev. Kirchenkreises Bad Godesberg-Voreifel • Kath. Stadtdekanat Bonn und Aktion Neue Nachbarn • Evangelisches Forum Bonn • Diakonisches Werk Bonn und Region • Katholisches Bildungsforum Bonn • Evangelische Akademie im Rheinland • Ev. Kirchenkreis Bonn
URL:https://www.evforum-bonn.de/veranstaltung/haltung-zeigen-26-11-10-online/
LOCATION:ONLINE via Zoom\, externer Zoom Link\, Germany
CATEGORIES:Aktuelles,Ev. Forum Bonn,Haltung zeigen!,Veranstaltungen von Gemeinden,Veranstaltungen von Institutionen und Verbänden,Zentralprogramm
ATTACH;FMTTYPE=image/jpeg:https://www.evforum-bonn.de/wp-content/uploads/2025/12/Haltung-zeigen-2026_Deckblatt.jpg
ORGANIZER;CN="Evangelisches Forum Bonn":MAILTO:info@evforum-bonn.de
END:VEVENT
BEGIN:VEVENT
DTSTART;TZID=Europe/Berlin:20261110T193000
DTEND;TZID=Europe/Berlin:20261110T203000
DTSTAMP:20260423T151831
CREATED:20260220T085434Z
LAST-MODIFIED:20260220T090009Z
UID:10006947-1794339000-1794342600@www.evforum-bonn.de
SUMMARY:Lindy Hop | Offener Tanzunterricht
DESCRIPTION:Lindy Hop ist ein beschwingter Swing-Tanzstil mit Wurzeln in der afroamerikanischen Kultur der 1930er Jahre. In diesem offenen Tanzunterricht steht nicht nur die Freude an Bewegung im Mittelpunkt\, sondern auch das gemeinschaftliche Lernen: Vom ersten Grundschritt bis zur Improvisation können alle – mit oder ohne Vorkenntnisse – neue Schritte erlernen\, Koordination und Rhythmusgefühl schulen und dabei die Geschichte eines kulturell bedeutenden Tanzstils kennenlernen. \nDie Abende bieten Raum für Begegnung\, körperliche Aktivität und kulturelle Bildung – immer in respektvoller Atmosphäre und mit viel Spaß. Kommen Sie vorbei\, tanzen Sie mit! \n📍 Ort: Melanchthonhaus der Kreuzkirche📩 Anmeldung & Infos: lindyhop@justmail.de🕒 Wöchentlich dienstags um 19:30 Uhr (außer ggf. in den Ferien und an Feiertagen) \n❗ diese Veranstaltungsreihe wird uU als fortlaufender Termin auch in den Ferien angezeigt – bitte erkundigen Sie sich beim Veranstalter.
URL:https://www.evforum-bonn.de/veranstaltung/lindy-hop-2026/2026-11-10/
LOCATION:Melanchthon Haus der Kreuzkirche\, An der Evangelischen Kirche 6\, Bonn\, NRW\, 53113\, Germany
CATEGORIES:Gesundheit - Krankheit - Medizin,Lindy Hop,Tanz - Bewegung - Gesundheit,Veranstaltungen von Gemeinden,Veranstaltungsreihen
ATTACH;FMTTYPE=image/jpeg:https://www.evforum-bonn.de/wp-content/uploads/2025/07/Lindy-Hop_Foto-by-Lindy-Hop-e1753443452177.jpg
END:VEVENT
END:VCALENDAR