BEGIN:VCALENDAR
VERSION:2.0
PRODID:-//Evangelisches Forum Bonn - ECPv6.15.20//NONSGML v1.0//EN
CALSCALE:GREGORIAN
METHOD:PUBLISH
X-WR-CALNAME:Evangelisches Forum Bonn
X-ORIGINAL-URL:https://www.evforum-bonn.de
X-WR-CALDESC:Veranstaltungen für Evangelisches Forum Bonn
REFRESH-INTERVAL;VALUE=DURATION:PT1H
X-Robots-Tag:noindex
X-PUBLISHED-TTL:PT1H
BEGIN:VTIMEZONE
TZID:Europe/Berlin
BEGIN:DAYLIGHT
TZOFFSETFROM:+0100
TZOFFSETTO:+0200
TZNAME:CEST
DTSTART:20250330T010000
END:DAYLIGHT
BEGIN:STANDARD
TZOFFSETFROM:+0200
TZOFFSETTO:+0100
TZNAME:CET
DTSTART:20251026T010000
END:STANDARD
BEGIN:DAYLIGHT
TZOFFSETFROM:+0100
TZOFFSETTO:+0200
TZNAME:CEST
DTSTART:20260329T010000
END:DAYLIGHT
BEGIN:STANDARD
TZOFFSETFROM:+0200
TZOFFSETTO:+0100
TZNAME:CET
DTSTART:20261025T010000
END:STANDARD
BEGIN:DAYLIGHT
TZOFFSETFROM:+0100
TZOFFSETTO:+0200
TZNAME:CEST
DTSTART:20270328T010000
END:DAYLIGHT
BEGIN:STANDARD
TZOFFSETFROM:+0200
TZOFFSETTO:+0100
TZNAME:CET
DTSTART:20271031T010000
END:STANDARD
END:VTIMEZONE
BEGIN:VEVENT
DTSTART;TZID=Europe/Berlin:20261127T090000
DTEND;TZID=Europe/Berlin:20261127T120000
DTSTAMP:20260423T151551
CREATED:20251028T125405Z
LAST-MODIFIED:20260119T133049Z
UID:10006322-1795770000-1795780800@www.evforum-bonn.de
SUMMARY:Präventionsschulung Intensiv/ Leitungsschulung • Teil 2_Online
DESCRIPTION:Intensiv-/Leitungsschulung (Schulungseinheit mind. 270 Minuten) – Pflicht für: \n\n\nMitarbeitende mit regelmäßigem oder intensivem Kontakt zur Schutzgruppe\, auch ohne Führungsverantwortung \n\n\nLeitungspersonen (haupt- und ehrenamtlich) \n\n\n\n❗ Dieser Termin gehört zur zweitägigen Präventionsschulung Intensiv / Leitungsschulung. \nEr bildet den zweiten Schulungsteil (Online) Eine separate Anmeldung ist nicht möglich.Bitte melden Sie sich ausschließlich über den Haupttermin • Teil 1_Präsenz an.
URL:https://www.evforum-bonn.de/veranstaltung/praeventionsschulung-intensiv-leitungsschulung-26-27-11-26-teil-2/
LOCATION:ONLINE
CATEGORIES:Aktuelles,Fort- und Weiterbildung,Haus der Ev. Kirche Bonn,Lehrgang | Kurs,Präventionsschulung,Veranstaltungsreihen
ATTACH;FMTTYPE=image/png:https://www.evforum-bonn.de/wp-content/uploads/2025/09/Slider-Praeventionsschulung-scaled-e1773317881965.png
ORGANIZER;CN="Evangelisches Forum Bonn":MAILTO:info@evforum-bonn.de
END:VEVENT
BEGIN:VEVENT
DTSTART;TZID=Europe/Berlin:20261127T190000
DTEND;TZID=Europe/Berlin:20261127T203000
DTSTAMP:20260423T151551
CREATED:20260128T132310Z
LAST-MODIFIED:20260318T173751Z
UID:10007140-1795806000-1795811400@www.evforum-bonn.de
SUMMARY:Fotogruppe Hardtberg
DESCRIPTION:14 tägig Freitags um 19 Uhr\n\n\nDie Fotogruppe trifft sich regelmäßig um dem gemeinsamen Hobby der Fotografie nachzugehen. Wir probieren zusammen unterschiedliche Motive und Lichtverhältnisse aus\, erlernen Fotografiertechniken und erleben eine schöne gemeinsame Zeit. Manche der Fotos auf unserer Website stammen von der Fotogruppe.\n\n\nKontakt: Dr. Klaus Vedder\, Tel. 0171 7441471\nDr. Urs von Deimling\, Tel. 0172 6328220
URL:https://www.evforum-bonn.de/veranstaltung/fotogruppe-hardtberg-2026/2026-11-27/
LOCATION:Gemeindezentrum Matthäikirche\, Gutenbergstraße 10\, Bonn\, 53123\, Deutschland
CATEGORIES:Kunst - Musik - Literatur,Veranstaltungen von Gemeinden,Veranstaltungsreihen
ATTACH;FMTTYPE=image/jpeg:https://www.evforum-bonn.de/wp-content/uploads/2025/05/Kamera_Pixabay-Free_PublicDomainArchive-e1748429758644.jpg
ORGANIZER;CN="Ev. Kirchengemeinde im Bonner Westen (Hardtberg)":MAILTO:hardtberg@ekir.de
END:VEVENT
END:VCALENDAR