BEGIN:VCALENDAR
VERSION:2.0
PRODID:-//Evangelisches Forum Bonn - ECPv6.15.20//NONSGML v1.0//EN
CALSCALE:GREGORIAN
METHOD:PUBLISH
X-ORIGINAL-URL:https://www.evforum-bonn.de
X-WR-CALDESC:Veranstaltungen für Evangelisches Forum Bonn
REFRESH-INTERVAL;VALUE=DURATION:PT1H
X-Robots-Tag:noindex
X-PUBLISHED-TTL:PT1H
BEGIN:VTIMEZONE
TZID:Europe/Berlin
BEGIN:DAYLIGHT
TZOFFSETFROM:+0100
TZOFFSETTO:+0200
TZNAME:CEST
DTSTART:20250330T010000
END:DAYLIGHT
BEGIN:STANDARD
TZOFFSETFROM:+0200
TZOFFSETTO:+0100
TZNAME:CET
DTSTART:20251026T010000
END:STANDARD
BEGIN:DAYLIGHT
TZOFFSETFROM:+0100
TZOFFSETTO:+0200
TZNAME:CEST
DTSTART:20260329T010000
END:DAYLIGHT
BEGIN:STANDARD
TZOFFSETFROM:+0200
TZOFFSETTO:+0100
TZNAME:CET
DTSTART:20261025T010000
END:STANDARD
BEGIN:DAYLIGHT
TZOFFSETFROM:+0100
TZOFFSETTO:+0200
TZNAME:CEST
DTSTART:20270328T010000
END:DAYLIGHT
BEGIN:STANDARD
TZOFFSETFROM:+0200
TZOFFSETTO:+0100
TZNAME:CET
DTSTART:20271031T010000
END:STANDARD
END:VTIMEZONE
BEGIN:VEVENT
DTSTART;TZID=Europe/Berlin:20261130T100000
DTEND;TZID=Europe/Berlin:20261130T130000
DTSTAMP:20260423T134855
CREATED:20260318T173316Z
LAST-MODIFIED:20260318T173541Z
UID:10007114-1796032800-1796043600@www.evforum-bonn.de
SUMMARY:Mal- und Zeichenkurs Hardtberg
DESCRIPTION:Der fortlaufende Mal- und Zeichenkurs unter der Leitung von Gerhild Bergknecht bietet Raum für künstlerisches Gestalten\, experimentelles Arbeiten und den Austausch über Kunst und Bildsprache. Mit der Künstlerin Valentina Siggelow \nIn entspannter Atmosphäre erlernen und vertiefen die Teilnehmenden Techniken des Zeichnens und Malens – von Grundlagen wie Komposition\, Perspektive und Farbwirkung bis hin zu freien Ausdrucksformen. Der Kurs richtet sich an Interessierte mit und ohne Vorkenntnisse. \nDie eigene Kreativität steht im Mittelpunkt – verbunden mit der Möglichkeit\, unter fachkundiger Anleitung den eigenen Blick zu schärfen und neue Impulse aufzunehmen. \n📅 Jeden Montag (außer in den Ferien) | 10:00–13:00 Uhr📍 Matthäikirche\, Gutenbergstraße 10\, 53123 Bonn🖌️ Leitung: Gerhild Bergknecht
URL:https://www.evforum-bonn.de/veranstaltung/mal-und-zeichenkurs-hardtberg-2026/2026-11-30/
LOCATION:Matthäikirche\, Gutenbergstr. 10\, Bonn\, 53123\, Germany
CATEGORIES:Ausstellung - Kunst - Kultur,Kunst - Musik - Literatur,Lehrgang | Kurs,Veranstaltungen von Gemeinden,Veranstaltungsreihen
ATTACH;FMTTYPE=image/jpeg:https://www.evforum-bonn.de/wp-content/uploads/2025/02/schenk-mir-deine-farbe-e1739531762592.jpg
ORGANIZER;CN="Ev. Kirchengemeinde im Bonner Westen (Hardtberg)":MAILTO:hardtberg@ekir.de
END:VEVENT
BEGIN:VEVENT
DTSTART;TZID=Europe/Berlin:20261130T140000
DTEND;TZID=Europe/Berlin:20261130T163000
DTSTAMP:20260423T134855
CREATED:20260320T160701Z
LAST-MODIFIED:20260320T160701Z
UID:10007190-1796047200-1796056200@www.evforum-bonn.de
SUMMARY:Seniorenkreis Bornheim
DESCRIPTION:Der Seniorennachmittag bietet Raum für Begegnung\, Austausch und neue Impulse. In angenehmer Atmosphäre beschäftigen wir uns mit Themen aus Alltag\, Gesellschaft\, Kultur und Glauben. Kleine Inputs\, Gesprächsrunden\, gemeinsames Tun oder spielerische Elemente laden dazu ein\, Neues zu entdecken und miteinander ins Gespräch zu kommen.\nDie Treffen sind offen für alle Interessierten. Eine Anmeldung ist nicht erforderlich\, neue Teilnehmende sind jederzeit herzlich willkommen. \nMo 14:00 – 16:30 | Versöhnungskirche Bornheim\nLeitung: Heidi Leinweber\nTelefon: 02222 64248 \n❗ Das Angebot wird über die Ev. Emmaus-Kirchengemeinde an Rhein und Vorgebirge zur Verfügung gestellt. Bitte informieren Sie sich\, ob die Termine stattfinden\, ggf. finden diese in den Ferien\, an oder vor Feiertagen nicht statt. emmaus-evangelisch.de/angebote-in-unserer-gemeinde/senioren \n 
URL:https://www.evforum-bonn.de/veranstaltung/seniorenkreis-bornheim/2026-11-30/
LOCATION:Versöhnungskirche/ Alte Kirche Bornheim\, Königstraße 21\, Bornheim\, NRW\, 53332\, Germany
CATEGORIES:Angebote für Senioren,Seniorenkreis -nachmittag,Veranstaltungen von Gemeinden,Veranstaltungsreihen
ATTACH;FMTTYPE=image/jpeg:https://www.evforum-bonn.de/wp-content/uploads/2022/12/Senior-e1751876645808.jpg
END:VEVENT
BEGIN:VEVENT
DTSTART;TZID=Europe/Berlin:20261130T160000
DTEND;TZID=Europe/Berlin:20261130T173000
DTSTAMP:20260423T134855
CREATED:20260122T123912Z
LAST-MODIFIED:20260122T123912Z
UID:10006550-1796054400-1796059800@www.evforum-bonn.de
SUMMARY:Lerncafé Erlöser
DESCRIPTION:Das Lerncafé Erlöser ist ein offenes Unterstützungsangebot für geflüchtete Menschen. In wertschätzender Atmosphäre bieten Ehrenamtliche Hilfe bei Hausaufgaben\, unterstützen beim Deutschlernen und trainieren alltagsnahe Konversation. Ziel ist es\, Lernen zu erleichtern\, Selbstvertrauen zu stärken und Begegnung zu ermöglichen. \nDas Angebot richtet sich an Kinder\, Jugendliche und Erwachsene und wird individuell auf die jeweiligen Bedürfnisse abgestimmt. Die Teilnahme ist kostenfrei und erfolgt nach Absprache. \nWas? Hausaufgabenhilfe\, Konversationstraining\, individuelle UnterstützungWann? Montags von 16.00–17.30 Uhr (nach Absprache)Wo? Friedrichallee 20\, 53173 BonnKontakt: info@erloeser-kirchengemeinde.de(Bitte im Betreff „Anfrage Flüchtlingshilfe zum Lerncafé“ angeben)
URL:https://www.evforum-bonn.de/veranstaltung/lerncafe-erloeser/2026-11-30/
LOCATION:Lerncafé\, Friedrichallee 20\, Bonn\, NRW\, 53173\, Germany
CATEGORIES:Migration - Kultur - Kultureller Austausch,Pädagogische Bildung,Politik - Geschichte - Soziologie,Theologie / Philosophie,Veranstaltungen von Gemeinden,Veranstaltungsreihen
ATTACH;FMTTYPE=image/jpeg:https://www.evforum-bonn.de/wp-content/uploads/2026/01/people-2557396_640.jpg
ORGANIZER;CN="Ev. Erl%C3%B6ser-Kirchengemeinde Bad Godesberg":MAILTO:info@erloeser-kirchengemeinde.de
END:VEVENT
END:VCALENDAR