BEGIN:VCALENDAR
VERSION:2.0
PRODID:-//Evangelisches Forum Bonn - ECPv6.15.20//NONSGML v1.0//EN
CALSCALE:GREGORIAN
METHOD:PUBLISH
X-ORIGINAL-URL:https://www.evforum-bonn.de
X-WR-CALDESC:Veranstaltungen für Evangelisches Forum Bonn
REFRESH-INTERVAL;VALUE=DURATION:PT1H
X-Robots-Tag:noindex
X-PUBLISHED-TTL:PT1H
BEGIN:VTIMEZONE
TZID:Europe/Berlin
BEGIN:DAYLIGHT
TZOFFSETFROM:+0100
TZOFFSETTO:+0200
TZNAME:CEST
DTSTART:20250330T010000
END:DAYLIGHT
BEGIN:STANDARD
TZOFFSETFROM:+0200
TZOFFSETTO:+0100
TZNAME:CET
DTSTART:20251026T010000
END:STANDARD
BEGIN:DAYLIGHT
TZOFFSETFROM:+0100
TZOFFSETTO:+0200
TZNAME:CEST
DTSTART:20260329T010000
END:DAYLIGHT
BEGIN:STANDARD
TZOFFSETFROM:+0200
TZOFFSETTO:+0100
TZNAME:CET
DTSTART:20261025T010000
END:STANDARD
BEGIN:DAYLIGHT
TZOFFSETFROM:+0100
TZOFFSETTO:+0200
TZNAME:CEST
DTSTART:20270328T010000
END:DAYLIGHT
BEGIN:STANDARD
TZOFFSETFROM:+0200
TZOFFSETTO:+0100
TZNAME:CET
DTSTART:20271031T010000
END:STANDARD
END:VTIMEZONE
BEGIN:VEVENT
DTSTART;TZID=Europe/Berlin:20261207T000000
DTEND;TZID=Europe/Berlin:20261207T013000
DTSTAMP:20260423T134854
CREATED:20260414T072529Z
LAST-MODIFIED:20260414T072830Z
UID:10007405-1796601600-1796607000@www.evforum-bonn.de
SUMMARY:Jahreslosung 2027 – „Fürchte dich nicht\, denn ich bin mit dir“ (Jes 41\,10)
DESCRIPTION:Die Jahreslosung 2027 stellt das Vertrauen in Gottes Zusage in den Mittelpunkt: „Fürchte dich nicht\, denn ich bin mit dir.“ \nIn dieser Veranstaltung wird die biblische Jahreslosung gemeinsam erschlossen und in ihren theologischen sowie lebenspraktischen Bezügen reflektiert. Die Teilnehmenden sind eingeladen\, sich mit Fragen von Angst\, Vertrauen und Zuversicht auseinanderzusetzen und Impulse für den eigenen Alltag mitzunehmen. \n\n👤 Referentin: n. N. \n📍 Montag\, 7. Dezember 2026 • Uhrzeit offen bitte erfragen: Tel. 0228 442949 monika@lawrenz.biz📌 Haus der Ev. Kirche Bonn\, Clubraum \nEine Veranstaltung der Evangelische Frauen im Rheinland e.V. Kreisverband Bonn – Sieg/Rhein – Voreifel
URL:https://www.evforum-bonn.de/veranstaltung/jahreslosung-2027/
LOCATION:Haus der Ev. Kirche Bonn\, Adenauerallee 37\, Bonn\, NRW\, 53113\, Germany
CATEGORIES:Aktuelles,Ev. Frauen im Rheinland,Haus der Ev. Kirche Bonn,Politik - Geschichte - Soziologie,Veranstaltungen von Institutionen und Verbänden
ATTACH;FMTTYPE=image/jpeg:https://www.evforum-bonn.de/wp-content/uploads/2026/04/Ev.-Frauen-im-Rheinland.jpg
END:VEVENT
BEGIN:VEVENT
DTSTART;TZID=Europe/Berlin:20261207T100000
DTEND;TZID=Europe/Berlin:20261207T130000
DTSTAMP:20260423T134854
CREATED:20260318T173316Z
LAST-MODIFIED:20260318T173541Z
UID:10007115-1796637600-1796648400@www.evforum-bonn.de
SUMMARY:Mal- und Zeichenkurs Hardtberg
DESCRIPTION:Der fortlaufende Mal- und Zeichenkurs unter der Leitung von Gerhild Bergknecht bietet Raum für künstlerisches Gestalten\, experimentelles Arbeiten und den Austausch über Kunst und Bildsprache. Mit der Künstlerin Valentina Siggelow \nIn entspannter Atmosphäre erlernen und vertiefen die Teilnehmenden Techniken des Zeichnens und Malens – von Grundlagen wie Komposition\, Perspektive und Farbwirkung bis hin zu freien Ausdrucksformen. Der Kurs richtet sich an Interessierte mit und ohne Vorkenntnisse. \nDie eigene Kreativität steht im Mittelpunkt – verbunden mit der Möglichkeit\, unter fachkundiger Anleitung den eigenen Blick zu schärfen und neue Impulse aufzunehmen. \n📅 Jeden Montag (außer in den Ferien) | 10:00–13:00 Uhr📍 Matthäikirche\, Gutenbergstraße 10\, 53123 Bonn🖌️ Leitung: Gerhild Bergknecht
URL:https://www.evforum-bonn.de/veranstaltung/mal-und-zeichenkurs-hardtberg-2026/2026-12-07/
LOCATION:Matthäikirche\, Gutenbergstr. 10\, Bonn\, 53123\, Germany
CATEGORIES:Ausstellung - Kunst - Kultur,Kunst - Musik - Literatur,Lehrgang | Kurs,Veranstaltungen von Gemeinden,Veranstaltungsreihen
ATTACH;FMTTYPE=image/jpeg:https://www.evforum-bonn.de/wp-content/uploads/2025/02/schenk-mir-deine-farbe-e1739531762592.jpg
ORGANIZER;CN="Ev. Kirchengemeinde im Bonner Westen (Hardtberg)":MAILTO:hardtberg@ekir.de
END:VEVENT
BEGIN:VEVENT
DTSTART;TZID=Europe/Berlin:20261207T140000
DTEND;TZID=Europe/Berlin:20261207T163000
DTSTAMP:20260423T134854
CREATED:20260320T160701Z
LAST-MODIFIED:20260320T160701Z
UID:10007191-1796652000-1796661000@www.evforum-bonn.de
SUMMARY:Seniorenkreis Bornheim
DESCRIPTION:Der Seniorennachmittag bietet Raum für Begegnung\, Austausch und neue Impulse. In angenehmer Atmosphäre beschäftigen wir uns mit Themen aus Alltag\, Gesellschaft\, Kultur und Glauben. Kleine Inputs\, Gesprächsrunden\, gemeinsames Tun oder spielerische Elemente laden dazu ein\, Neues zu entdecken und miteinander ins Gespräch zu kommen.\nDie Treffen sind offen für alle Interessierten. Eine Anmeldung ist nicht erforderlich\, neue Teilnehmende sind jederzeit herzlich willkommen. \nMo 14:00 – 16:30 | Versöhnungskirche Bornheim\nLeitung: Heidi Leinweber\nTelefon: 02222 64248 \n❗ Das Angebot wird über die Ev. Emmaus-Kirchengemeinde an Rhein und Vorgebirge zur Verfügung gestellt. Bitte informieren Sie sich\, ob die Termine stattfinden\, ggf. finden diese in den Ferien\, an oder vor Feiertagen nicht statt. emmaus-evangelisch.de/angebote-in-unserer-gemeinde/senioren \n 
URL:https://www.evforum-bonn.de/veranstaltung/seniorenkreis-bornheim/2026-12-07/
LOCATION:Versöhnungskirche/ Alte Kirche Bornheim\, Königstraße 21\, Bornheim\, NRW\, 53332\, Germany
CATEGORIES:Angebote für Senioren,Seniorenkreis -nachmittag,Veranstaltungen von Gemeinden,Veranstaltungsreihen
ATTACH;FMTTYPE=image/jpeg:https://www.evforum-bonn.de/wp-content/uploads/2022/12/Senior-e1751876645808.jpg
END:VEVENT
BEGIN:VEVENT
DTSTART;TZID=Europe/Berlin:20261207T160000
DTEND;TZID=Europe/Berlin:20261207T173000
DTSTAMP:20260423T134854
CREATED:20260122T123912Z
LAST-MODIFIED:20260122T123912Z
UID:10006551-1796659200-1796664600@www.evforum-bonn.de
SUMMARY:Lerncafé Erlöser
DESCRIPTION:Das Lerncafé Erlöser ist ein offenes Unterstützungsangebot für geflüchtete Menschen. In wertschätzender Atmosphäre bieten Ehrenamtliche Hilfe bei Hausaufgaben\, unterstützen beim Deutschlernen und trainieren alltagsnahe Konversation. Ziel ist es\, Lernen zu erleichtern\, Selbstvertrauen zu stärken und Begegnung zu ermöglichen. \nDas Angebot richtet sich an Kinder\, Jugendliche und Erwachsene und wird individuell auf die jeweiligen Bedürfnisse abgestimmt. Die Teilnahme ist kostenfrei und erfolgt nach Absprache. \nWas? Hausaufgabenhilfe\, Konversationstraining\, individuelle UnterstützungWann? Montags von 16.00–17.30 Uhr (nach Absprache)Wo? Friedrichallee 20\, 53173 BonnKontakt: info@erloeser-kirchengemeinde.de(Bitte im Betreff „Anfrage Flüchtlingshilfe zum Lerncafé“ angeben)
URL:https://www.evforum-bonn.de/veranstaltung/lerncafe-erloeser/2026-12-07/
LOCATION:Lerncafé\, Friedrichallee 20\, Bonn\, NRW\, 53173\, Germany
CATEGORIES:Migration - Kultur - Kultureller Austausch,Pädagogische Bildung,Politik - Geschichte - Soziologie,Theologie / Philosophie,Veranstaltungen von Gemeinden,Veranstaltungsreihen
ATTACH;FMTTYPE=image/jpeg:https://www.evforum-bonn.de/wp-content/uploads/2026/01/people-2557396_640.jpg
ORGANIZER;CN="Ev. Erl%C3%B6ser-Kirchengemeinde Bad Godesberg":MAILTO:info@erloeser-kirchengemeinde.de
END:VEVENT
BEGIN:VEVENT
DTSTART;TZID=Europe/Berlin:20261207T200000
DTEND;TZID=Europe/Berlin:20261207T210000
DTSTAMP:20260423T134854
CREATED:20260202T121155Z
LAST-MODIFIED:20260202T121155Z
UID:10006856-1796673600-1796677200@www.evforum-bonn.de
SUMMARY:Bibel Gesprächskreis - Auferstehung
DESCRIPTION:Etwa 14-tägig treffen wir uns montagabends (20.00 – ca. 21.30 Uhr) mit Tee\, Knabbereien und Kerzenschein zum gemeinsamen Bibellesen im Gemeindehaus. \nAlleine in der Bibel zu lesen\, ist nicht immer so einfach. Gemeinsam geht es besser. In unserem Bibel-Gesprächskreis lesen wir gemeinsam einen Abschnitt aus der Bibel und reden darüber. Wir – das ist zurzeit eine kleine Gruppe von drei bis sechs Menschen ohne besondere theologische Vorkenntnisse. Ein Begleitbuch zum Bibeltext hilft uns bei Fragen und unser Pfarrer hilft auch gerne „im Hintergrund“\, Fragen zu beantworten. \nWir lesen zusammen den Text und lassen uns leiten von den Fragen: was wird da erzählt? Warum wird es erzählt? Kann ich damit etwas anfangen? Bedeutet es etwas für mein Leben? Kann ich etwas davon in meinen Alltag nehmen? \nDabei reden wir „über Gott und die Welt“\, manchmal über persönliche Erlebnisse\, die uns beschäftigen\, manchmal driften wir in politische Diskussionen ab und häufig können wir mit manchen Abschnitten auch gar nichts anfangen\, weil sie uns zu fremd vorkommen. Oft machen wir interessante Entdeckungen\, oft nehmen wir ungeklärte Fragen mit nach Hause und oft begleiten uns diese Fragen im Alltag noch weiter. Wir sind offen für alles und haben keine vorgefertigte theologische Meinung – wohl aber eine christliche Grundüberzeugung. \nDer Austausch ist sehr bereichernd\, weil es häufig verschiedene Sichtweisen gibt. Und vor allem: wir lernen die Bibel kennen! \nBis zu den Sommerferien 2025 haben wir das Markusevangelium gelesen\, im September starten wir mit der Apostelgeschichte. Jeder/jede ist herzlich eingeladen\, um unsere kleine Gruppe zu verstärken und zu bereichern! \nDie nächsten Termine sind hier zu finden. Einfach vorbeikommen\, man muss nichts mitbringen und eine Anmeldung ist auch nicht nötig! \nStefanie Lentz (für eventuelle Fragen die Kontaktdaten bitte übers Pfarrbüro erfragen) \n❗Ggf. finden die Termine NICHT in den Ferien oder an Feiertagen statt\, die hier aufgelisteten Termine sind automatisch als Kalenderreihe generiert!
URL:https://www.evforum-bonn.de/veranstaltung/bibel-gespraechskreis-auferstehung/2026-12-07/
LOCATION:Gemeindehaus der Ev. Auferstehungskirche\, Haager Weg 40\, Bonn\, NRW\, 53127\, Germany
CATEGORIES:Bibel - Bibelgespräch,Bibel und Buch,Veranstaltungen von Gemeinden,Veranstaltungsreihen
ATTACH;FMTTYPE=image/jpeg:https://www.evforum-bonn.de/wp-content/uploads/2026/02/aaron-burden-9zsHNt5OpqE-unsplash-scaled.jpg
ORGANIZER;CN="Ev. Kirchengemeinde im Bonner Westen (Auferstehung)":MAILTO:carla.hornberger@ekir.de
END:VEVENT
END:VCALENDAR