BEGIN:VCALENDAR
VERSION:2.0
PRODID:-//Evangelisches Forum Bonn - ECPv6.15.20//NONSGML v1.0//EN
CALSCALE:GREGORIAN
METHOD:PUBLISH
X-WR-CALNAME:Evangelisches Forum Bonn
X-ORIGINAL-URL:https://www.evforum-bonn.de
X-WR-CALDESC:Veranstaltungen für Evangelisches Forum Bonn
REFRESH-INTERVAL;VALUE=DURATION:PT1H
X-Robots-Tag:noindex
X-PUBLISHED-TTL:PT1H
BEGIN:VTIMEZONE
TZID:Europe/Berlin
BEGIN:DAYLIGHT
TZOFFSETFROM:+0100
TZOFFSETTO:+0200
TZNAME:CEST
DTSTART:20250330T010000
END:DAYLIGHT
BEGIN:STANDARD
TZOFFSETFROM:+0200
TZOFFSETTO:+0100
TZNAME:CET
DTSTART:20251026T010000
END:STANDARD
BEGIN:DAYLIGHT
TZOFFSETFROM:+0100
TZOFFSETTO:+0200
TZNAME:CEST
DTSTART:20260329T010000
END:DAYLIGHT
BEGIN:STANDARD
TZOFFSETFROM:+0200
TZOFFSETTO:+0100
TZNAME:CET
DTSTART:20261025T010000
END:STANDARD
BEGIN:DAYLIGHT
TZOFFSETFROM:+0100
TZOFFSETTO:+0200
TZNAME:CEST
DTSTART:20270328T010000
END:DAYLIGHT
BEGIN:STANDARD
TZOFFSETFROM:+0200
TZOFFSETTO:+0100
TZNAME:CET
DTSTART:20271031T010000
END:STANDARD
END:VTIMEZONE
BEGIN:VEVENT
DTSTART;TZID=Europe/Berlin:20261209T150000
DTEND;TZID=Europe/Berlin:20261209T163000
DTSTAMP:20260423T134654
CREATED:20260320T160759Z
LAST-MODIFIED:20260320T161050Z
UID:10007216-1796828400-1796833800@www.evforum-bonn.de
SUMMARY:Seniorentreff Oedekoven
DESCRIPTION:Wir sehen vielleicht wie Senioren aus\, fühlen uns aber nicht so. Jede und jeder hat noch Aufgaben in Familie\, Haus oder Garten\, die uns ausfüllen. Wir treffen uns einmal im Monat.Der Tisch ist immer nett gedeckt und mit Blumen geschmückt. Natürlich gibt es zum Kaffee auch köstliche\, meist selbstgebackene Kuchen. So sitzen wir im Kreis zusammen und haben Zeit\, uns gemütlich zu unterhalten. Es folgt dann ein Thema aus unserem abwechslungsreichen Programm\, z.B. \nBibelarbeit mit unserem Pfarrer\, Vorträge mit verschiedenen Themen\, Singen und Spielen\, Lichtbildervorträge\, Karnevalsfeiern.\nHöhepunkte sind die Ausflugsfahrten in die wunderschöne Umgebung und die Adventsfeier. \nWir hätten gerne noch mehr Teilnehmer\, auch jüngere sind herzlich willkommen. Besonders unser Helferteam würde sich über Verstärkung freuen. \nOedekoven:\nIn der Regel trifft sich dieser Kreis jeden zweiten Mittwoch im Monat um 15:00. Ehrenamtliche Helfer sind stets willkommen.\nBitte melden Sie sich bei unserer Gemeindehelferin Rosemarie Backhaus\, Tel.: 01577-4577824
URL:https://www.evforum-bonn.de/veranstaltung/seniorentreff-oedekoven-2026/2026-12-09/
LOCATION:Gemeindezentrum der Kirchengemeinde am Kottenforst\, Herzogsfreudenweg 42\, Bonn\, 53125\, Deutschland
CATEGORIES:Altern und Alter,Angebote für Senioren,Seniorenbildung,Seniorenkreis -nachmittag,Thematische Schwerpunkte,Veranstaltungen von Gemeinden,Veranstaltungsreihen
ATTACH;FMTTYPE=image/jpeg:https://www.evforum-bonn.de/wp-content/uploads/2022/12/Senior-e1751876645808.jpg
END:VEVENT
BEGIN:VEVENT
DTSTART;TZID=Europe/Berlin:20261209T150000
DTEND;TZID=Europe/Berlin:20261209T170000
DTSTAMP:20260423T134654
CREATED:20260128T125529Z
LAST-MODIFIED:20260128T125801Z
UID:10006623-1796828400-1796835600@www.evforum-bonn.de
SUMMARY:Seniorenkreis in Matthäi
DESCRIPTION:Der Seniorenkreis an der Matthäikirche lädt alle älteren Gemeindeglieder herzlich ein zu regelmäßigen Treffen mit wechselnden Themen\, Vorträgen und Gesprächsimpulsen. \nNeben spannenden Einblicken in Kultur\, Geschichte\, Glaube und Gesellschaft bietet der Nachmittag vor allem eines: Gelegenheit zum persönlichen Austausch in freundlicher Atmosphäre bei Kaffee und Gebäck. \n📅 Jeden 1. und 3. Mittwoch im Monat | 15:00–17:00 Uhr📍 Matthäikirche\, Gutenbergstraße 10\, 53123 Bonn \nNeue Gesichter sind jederzeit willkommen – kommen Sie gern vorbei! \nKontakt:Pfarrer Dr. Georg Schwikart📧 georg.schwikart@ekir.de · ☎ 01523 6915109 \n 
URL:https://www.evforum-bonn.de/veranstaltung/seniorenkreis-in-matthi/2026-12-09/
LOCATION:Matthäikirche\, Gutenbergstr. 10\, Bonn\, 53123\, Germany
CATEGORIES:Altern und Alter,Existenzielle Fragestellungen,Seniorenbildung,Seniorenkreis -nachmittag,Theologie / Philosophie,Veranstaltungen von Gemeinden
ATTACH;FMTTYPE=image/jpeg:https://www.evforum-bonn.de/wp-content/uploads/2022/12/Senior-e1751876645808.jpg
ORGANIZER;CN="Ev. Kirchengemeinde im Bonner Westen (Hardtberg)":MAILTO:hardtberg@ekir.de
END:VEVENT
BEGIN:VEVENT
DTSTART;TZID=Europe/Berlin:20261209T150000
DTEND;TZID=Europe/Berlin:20261209T180000
DTSTAMP:20260423T134654
CREATED:20260128T131735Z
LAST-MODIFIED:20260318T173125Z
UID:10006763-1796828400-1796839200@www.evforum-bonn.de
SUMMARY:Treffpunkt IT
DESCRIPTION: Der Treffpunkt IT in den Räumen der Emmaus-Kirche auf dem Brüser Berg ist seit über zehn Jahren eine im ganzen Kirchenkreis bekannte Veranstaltung. Parallel zur Hilfe bei Computerproblemen hat nun auch die Smartphoneberatung Einzug gehalten.\nJeden Mittwoch ab 15.00 Uhr (außerhalb der Schulferien) \nZusätzlich werden Workshops für Apps und technische Spielereien angeboten oder auch Vorträge und Schulungen zu besonderen Themen. Weitere Informationen dazu finden Sie aktuell auch immer auf der Internet-Seite der Gemeinde : https://hardtberggemeinde.de/ \nAnsprechpartner und Kontakt:\nKarsten Bosse\, Tel. 0152 32 79 53 78  – um Anmeldung möglichst per WhatsApp wird gebeten! –\nhardtberg@ekir.de \nParkmöglichkeit: Parkplatz Fahrenheitstraße (vom Brüser Damm kommend) \nggf. NICHT in den Ferien
URL:https://www.evforum-bonn.de/veranstaltung/treffpunkt-it-2026/2026-12-09/
LOCATION:Gemeindezentrum Emmaus-Kirche\, Borsigallee 23\, Bonn\, 53125\, Deutschland
CATEGORIES:Veranstaltungen von Gemeinden,Veranstaltungsreihen,Weiterbildung allgemein
ATTACH;FMTTYPE=image/jpeg:https://www.evforum-bonn.de/wp-content/uploads/2025/05/hands-820272_640-e1746615511644.jpg
ORGANIZER;CN="Ev. Kirchengemeinde im Bonner Westen (Hardtberg)":MAILTO:hardtberg@ekir.de
END:VEVENT
BEGIN:VEVENT
DTSTART;TZID=Europe/Berlin:20261209T193000
DTEND;TZID=Europe/Berlin:20261209T210000
DTSTAMP:20260423T134654
CREATED:20260128T130116Z
LAST-MODIFIED:20260128T130713Z
UID:10006640-1796844600-1796850000@www.evforum-bonn.de
SUMMARY:Matthäikreis
DESCRIPTION:Einmal im Monat treffen sich Interessierte im Matthäikreis\, um gemeinsam über ein ausgewähltes Thema zu sprechen. Ob Literatur\, Theologie\, Zeitfragen oder persönliche Lebenserfahrungen – im Zentrum stehen Impulse\, die zum Nachdenken und zum Gespräch einladen. \nIn offener und wertschätzender Atmosphäre ist Raum für eigene Gedanken\, Fragen und Perspektiven. Der Abend bietet Gelegenheit\, Neues kennenzulernen\, Standpunkte zu reflektieren und miteinander ins Gespräch zu kommen. \n📅 Jeden 2. Mittwoch im Monat | 19:30 Uhr📍 Matthäikirche\, Gutenbergstraße 10\, 53123 Bonn \n🗣️ Ansprechpartnerin: Hildegard Berndt · ☎ 0228 62 41 33 \n  \n  \n 
URL:https://www.evforum-bonn.de/veranstaltung/matthaeikreis-2026/2026-12-09/
LOCATION:Matthäikirche\, Gutenbergstr. 10\, Bonn\, 53123\, Germany
CATEGORIES:Altern und Alter,Angebote für Senioren,Bibel - Bibelgespräch,Existenzielle Fragestellungen,Kunst - Musik - Literatur,Lesung - Vortrag,Philosophisch-psychologische Kaffeehausgespräche,Politik - Geschichte - Soziologie,Seniorenbildung,Seniorenkreis -nachmittag,Thematische Schwerpunkte,Theologie / Philosophie,Veranstaltungen von Gemeinden,Veranstaltungsreihen
ATTACH;FMTTYPE=image/jpeg:https://www.evforum-bonn.de/wp-content/uploads/2025/01/gespraech-haende-tisch.jpg
ORGANIZER;CN="Ev. Kirchengemeinde im Bonner Westen (Hardtberg)":MAILTO:hardtberg@ekir.de
END:VEVENT
END:VCALENDAR