BEGIN:VCALENDAR
VERSION:2.0
PRODID:-//Evangelisches Forum Bonn - ECPv6.15.20//NONSGML v1.0//EN
CALSCALE:GREGORIAN
METHOD:PUBLISH
X-WR-CALNAME:Evangelisches Forum Bonn
X-ORIGINAL-URL:https://www.evforum-bonn.de
X-WR-CALDESC:Veranstaltungen für Evangelisches Forum Bonn
REFRESH-INTERVAL;VALUE=DURATION:PT1H
X-Robots-Tag:noindex
X-PUBLISHED-TTL:PT1H
BEGIN:VTIMEZONE
TZID:Europe/Berlin
BEGIN:DAYLIGHT
TZOFFSETFROM:+0100
TZOFFSETTO:+0200
TZNAME:CEST
DTSTART:20250330T010000
END:DAYLIGHT
BEGIN:STANDARD
TZOFFSETFROM:+0200
TZOFFSETTO:+0100
TZNAME:CET
DTSTART:20251026T010000
END:STANDARD
BEGIN:DAYLIGHT
TZOFFSETFROM:+0100
TZOFFSETTO:+0200
TZNAME:CEST
DTSTART:20260329T010000
END:DAYLIGHT
BEGIN:STANDARD
TZOFFSETFROM:+0200
TZOFFSETTO:+0100
TZNAME:CET
DTSTART:20261025T010000
END:STANDARD
BEGIN:DAYLIGHT
TZOFFSETFROM:+0100
TZOFFSETTO:+0200
TZNAME:CEST
DTSTART:20270328T010000
END:DAYLIGHT
BEGIN:STANDARD
TZOFFSETFROM:+0200
TZOFFSETTO:+0100
TZNAME:CET
DTSTART:20271031T010000
END:STANDARD
END:VTIMEZONE
BEGIN:VEVENT
DTSTART;TZID=Europe/Berlin:20261210T100000
DTEND;TZID=Europe/Berlin:20261210T120000
DTSTAMP:20260423T134630
CREATED:20260128T131129Z
LAST-MODIFIED:20260128T131325Z
UID:10006714-1796896800-1796904000@www.evforum-bonn.de
SUMMARY:Gesprächskreis Lyrik II 2026
DESCRIPTION:An jedem 2. Donnerstag im Monat treffen sich Lyrik-Interessierte zum Austausch und Vortrag von ausgewählten Texten. \nDie Gruppe entscheidet welche Lyriker oder welche Themen behandelt werden sollen. \nLeitung: Antje Wille\, Tel. 64 48 13
URL:https://www.evforum-bonn.de/veranstaltung/gesprchskreis-lyrik-ii-2026/2026-12-10/
LOCATION:Die WOHNUNG\, Stresemannstr. 28\, Bonn\, 53123
CATEGORIES:Kunst - Musik - Literatur,Veranstaltungen von Gemeinden
ATTACH;FMTTYPE=image/jpeg:https://www.evforum-bonn.de/wp-content/uploads/2025/01/Literaturkreis.jpg
ORGANIZER;CN="Ev. Kirchengemeinde im Bonner Westen (Hardtberg)":MAILTO:hardtberg@ekir.de
END:VEVENT
END:VCALENDAR