BEGIN:VCALENDAR
VERSION:2.0
PRODID:-//Evangelisches Forum Bonn - ECPv6.15.20//NONSGML v1.0//EN
CALSCALE:GREGORIAN
METHOD:PUBLISH
X-WR-CALNAME:Evangelisches Forum Bonn
X-ORIGINAL-URL:https://www.evforum-bonn.de
X-WR-CALDESC:Veranstaltungen für Evangelisches Forum Bonn
REFRESH-INTERVAL;VALUE=DURATION:PT1H
X-Robots-Tag:noindex
X-PUBLISHED-TTL:PT1H
BEGIN:VTIMEZONE
TZID:Europe/Berlin
BEGIN:DAYLIGHT
TZOFFSETFROM:+0100
TZOFFSETTO:+0200
TZNAME:CEST
DTSTART:20250330T010000
END:DAYLIGHT
BEGIN:STANDARD
TZOFFSETFROM:+0200
TZOFFSETTO:+0100
TZNAME:CET
DTSTART:20251026T010000
END:STANDARD
BEGIN:DAYLIGHT
TZOFFSETFROM:+0100
TZOFFSETTO:+0200
TZNAME:CEST
DTSTART:20260329T010000
END:DAYLIGHT
BEGIN:STANDARD
TZOFFSETFROM:+0200
TZOFFSETTO:+0100
TZNAME:CET
DTSTART:20261025T010000
END:STANDARD
BEGIN:DAYLIGHT
TZOFFSETFROM:+0100
TZOFFSETTO:+0200
TZNAME:CEST
DTSTART:20270328T010000
END:DAYLIGHT
BEGIN:STANDARD
TZOFFSETFROM:+0200
TZOFFSETTO:+0100
TZNAME:CET
DTSTART:20271031T010000
END:STANDARD
END:VTIMEZONE
BEGIN:VEVENT
DTSTART;TZID=Europe/Berlin:20261215T183000
DTEND;TZID=Europe/Berlin:20261215T200000
DTSTAMP:20260423T134655
CREATED:20260407T084458Z
LAST-MODIFIED:20260407T085111Z
UID:10007389-1797359400-1797364800@www.evforum-bonn.de
SUMMARY:Spieletreff * Spieleabend für Erwachsene
DESCRIPTION:Jeden dritten Dienstag im Monat ab 18:30 Uhr\, Gemeindezentrum oder (je nach Wetter) Kirchwiese an der Friedenskirche\n\n\nDer Spieletreff bietet Erwachsenen einen Ort für Gemeinschaft und Geselligkeit in der Gemeinde. Wir treffen uns im Gemeindezentrum oder bei warmem Wetter vor der Kirche und spielen und unterhalten uns miteinander. Bringt gerne eigene Spiele mit\, die ihr spielen möchtet.Kontakt – Infos – (ohne) Anmeldung \n❗Möglicherweise finden einzelne Termine auf Grund Feiertage oder Ferien nicht statt\, bitte informieren Sie sich rechtzeitig vorher bei der Gemeinde.
URL:https://www.evforum-bonn.de/veranstaltung/spieleabend-fuer-erwachsene-2026/2026-12-15/
LOCATION:Gemeindehaus der Friedenskirchengemeinde\, Franz-Bücheler-Straße 10\, Bonn\, NRW\, 53129\, Germany
CATEGORIES:Ev. Friedenskirchengemeinde,Philosophisch-psychologische Kaffeehausgespräche,Veranstaltungen von Gemeinden,Veranstaltungsreihen
ATTACH;FMTTYPE=image/jpeg:https://www.evforum-bonn.de/wp-content/uploads/2025/05/Wuerfel_Pixabay-Free-e1748427191989.jpg
END:VEVENT
BEGIN:VEVENT
DTSTART;TZID=Europe/Berlin:20261215T193000
DTEND;TZID=Europe/Berlin:20261215T203000
DTSTAMP:20260423T134655
CREATED:20260220T085434Z
LAST-MODIFIED:20260220T090009Z
UID:10006952-1797363000-1797366600@www.evforum-bonn.de
SUMMARY:Lindy Hop | Offener Tanzunterricht
DESCRIPTION:Lindy Hop ist ein beschwingter Swing-Tanzstil mit Wurzeln in der afroamerikanischen Kultur der 1930er Jahre. In diesem offenen Tanzunterricht steht nicht nur die Freude an Bewegung im Mittelpunkt\, sondern auch das gemeinschaftliche Lernen: Vom ersten Grundschritt bis zur Improvisation können alle – mit oder ohne Vorkenntnisse – neue Schritte erlernen\, Koordination und Rhythmusgefühl schulen und dabei die Geschichte eines kulturell bedeutenden Tanzstils kennenlernen. \nDie Abende bieten Raum für Begegnung\, körperliche Aktivität und kulturelle Bildung – immer in respektvoller Atmosphäre und mit viel Spaß. Kommen Sie vorbei\, tanzen Sie mit! \n📍 Ort: Melanchthonhaus der Kreuzkirche📩 Anmeldung & Infos: lindyhop@justmail.de🕒 Wöchentlich dienstags um 19:30 Uhr (außer ggf. in den Ferien und an Feiertagen) \n❗ diese Veranstaltungsreihe wird uU als fortlaufender Termin auch in den Ferien angezeigt – bitte erkundigen Sie sich beim Veranstalter.
URL:https://www.evforum-bonn.de/veranstaltung/lindy-hop-2026/2026-12-15/
LOCATION:Melanchthon Haus der Kreuzkirche\, An der Evangelischen Kirche 6\, Bonn\, NRW\, 53113\, Germany
CATEGORIES:Gesundheit - Krankheit - Medizin,Lindy Hop,Tanz - Bewegung - Gesundheit,Veranstaltungen von Gemeinden,Veranstaltungsreihen
ATTACH;FMTTYPE=image/jpeg:https://www.evforum-bonn.de/wp-content/uploads/2025/07/Lindy-Hop_Foto-by-Lindy-Hop-e1753443452177.jpg
END:VEVENT
END:VCALENDAR