BEGIN:VCALENDAR
VERSION:2.0
PRODID:-//Evangelisches Forum Bonn - ECPv6.15.20//NONSGML v1.0//EN
CALSCALE:GREGORIAN
METHOD:PUBLISH
X-ORIGINAL-URL:https://www.evforum-bonn.de
X-WR-CALDESC:Veranstaltungen für Evangelisches Forum Bonn
REFRESH-INTERVAL;VALUE=DURATION:PT1H
X-Robots-Tag:noindex
X-PUBLISHED-TTL:PT1H
BEGIN:VTIMEZONE
TZID:Europe/Berlin
BEGIN:DAYLIGHT
TZOFFSETFROM:+0100
TZOFFSETTO:+0200
TZNAME:CEST
DTSTART:20240331T010000
END:DAYLIGHT
BEGIN:STANDARD
TZOFFSETFROM:+0200
TZOFFSETTO:+0100
TZNAME:CET
DTSTART:20241027T010000
END:STANDARD
BEGIN:DAYLIGHT
TZOFFSETFROM:+0100
TZOFFSETTO:+0200
TZNAME:CEST
DTSTART:20250330T010000
END:DAYLIGHT
BEGIN:STANDARD
TZOFFSETFROM:+0200
TZOFFSETTO:+0100
TZNAME:CET
DTSTART:20251026T010000
END:STANDARD
BEGIN:DAYLIGHT
TZOFFSETFROM:+0100
TZOFFSETTO:+0200
TZNAME:CEST
DTSTART:20260329T010000
END:DAYLIGHT
BEGIN:STANDARD
TZOFFSETFROM:+0200
TZOFFSETTO:+0100
TZNAME:CET
DTSTART:20261025T010000
END:STANDARD
END:VTIMEZONE
BEGIN:VEVENT
DTSTART;TZID=Europe/Berlin:20250921T113000
DTEND;TZID=Europe/Berlin:20250921T140000
DTSTAMP:20260423T104538
CREATED:20250730T102647Z
LAST-MODIFIED:20260402T101955Z
UID:10006076-1758454200-1758463200@www.evforum-bonn.de
SUMMARY:Tag der offenen Tür der Alevitischen Gemeinde Bonn
DESCRIPTION:Im Rahmen der Interkulturellen Woche 2025 laden wir herzlich ein zum Tag der offenen Tür der Alevitischen Gemeinde Bonn mit anschließender Lesung mit Attila Keskin\, Schriftsteller. \nDie Veranstaltung bietet Informationen über die Alevitische Gemeinde und ein Gespräch zum Thema Alevitentum: Wer sind die Aleviten? Unbekannte\, Vertraute oder Fremde …? \nAttila Keskin\, Autor aus der 68er Generation aus der Türkei\, liest aus seinen Büchern – bewegende Erinnerungen\, die lebendig halten. \n📚 Lesung mit Attila Keskin\, Schriftsteller📞 Kontakt: Tel. 0228 180 380 78 | 0173 211 0659 | batcemevi@gmail.com \n\nBildrechte EMFA und Integrationsagenturen NRW \nDr. phil. Hıdır Çelik\, Leiter der EMFA-Integrationsagentur im Evangelischen Kirchenkreis Bonn\nKontakt: EMFA-Integrationsagentur\, Brüdergasse 16-18\, 53111 Bonn\, Tel.: 0228/697491\, E-Mail: emfa@bonn-evangelisch.de \nDie Interkulturelle Woche wird vom „Amt für Integration und Vielfalt“ der Bundesstadt Bonn gefördert.
URL:https://www.evforum-bonn.de/veranstaltung/interkulturelle-woche-in-bonn_tag-der-off-tuer/
LOCATION:Alevitische Gemeinde Bonn e.V.\, Kreuzstr. 16-18\, Bonn\, 53225
CATEGORIES:Demokratie-Krieg,Existenzielle Fragestellungen,Kunst - Musik - Literatur,Lesung - Vortrag,Migration - Kultur - Kultureller Austausch,Philosophisch-psychologische Kaffeehausgespräche,Politik - Geschichte - Soziologie,Ressourcen - Umwelt - Klima,Theologie / Philosophie,Veranstaltungen von Gemeinden,Veranstaltungen von Institutionen und Verbänden,Veranstaltungsreihen,Wissenschaftsstadt
ATTACH;FMTTYPE=image/png:https://www.evforum-bonn.de/wp-content/uploads/2025/04/Interkulturelle-Woche-2025.png
END:VEVENT
END:VCALENDAR