BEGIN:VCALENDAR
VERSION:2.0
PRODID:-//Evangelisches Forum Bonn - ECPv6.15.20//NONSGML v1.0//EN
CALSCALE:GREGORIAN
METHOD:PUBLISH
X-WR-CALNAME:Evangelisches Forum Bonn
X-ORIGINAL-URL:https://www.evforum-bonn.de
X-WR-CALDESC:Veranstaltungen für Evangelisches Forum Bonn
REFRESH-INTERVAL;VALUE=DURATION:PT1H
X-Robots-Tag:noindex
X-PUBLISHED-TTL:PT1H
BEGIN:VTIMEZONE
TZID:Europe/Berlin
BEGIN:DAYLIGHT
TZOFFSETFROM:+0100
TZOFFSETTO:+0200
TZNAME:CEST
DTSTART:20240331T010000
END:DAYLIGHT
BEGIN:STANDARD
TZOFFSETFROM:+0200
TZOFFSETTO:+0100
TZNAME:CET
DTSTART:20241027T010000
END:STANDARD
BEGIN:DAYLIGHT
TZOFFSETFROM:+0100
TZOFFSETTO:+0200
TZNAME:CEST
DTSTART:20250330T010000
END:DAYLIGHT
BEGIN:STANDARD
TZOFFSETFROM:+0200
TZOFFSETTO:+0100
TZNAME:CET
DTSTART:20251026T010000
END:STANDARD
BEGIN:DAYLIGHT
TZOFFSETFROM:+0100
TZOFFSETTO:+0200
TZNAME:CEST
DTSTART:20260329T010000
END:DAYLIGHT
BEGIN:STANDARD
TZOFFSETFROM:+0200
TZOFFSETTO:+0100
TZNAME:CET
DTSTART:20261025T010000
END:STANDARD
BEGIN:DAYLIGHT
TZOFFSETFROM:+0100
TZOFFSETTO:+0200
TZNAME:CEST
DTSTART:20270328T010000
END:DAYLIGHT
BEGIN:STANDARD
TZOFFSETFROM:+0200
TZOFFSETTO:+0100
TZNAME:CET
DTSTART:20271031T010000
END:STANDARD
END:VTIMEZONE
BEGIN:VEVENT
DTSTART;TZID=Europe/Berlin:20260420T193000
DTEND;TZID=Europe/Berlin:20260420T203000
DTSTAMP:20260423T151843
CREATED:20260320T164447Z
LAST-MODIFIED:20260320T164447Z
UID:10007220-1776713400-1776717000@www.evforum-bonn.de
SUMMARY:Kirche und Geld: Wie finanziert sich die Kirche?
DESCRIPTION:Der Kirchenaustritt folgt oft einer Kosten-Nutzen-Abwägung: Der eigene Kirchensteuerbetrag wird gegenüber dem persönlichen Nutzen als unangemessen\nhoch empfunden. Es ist aufschlussreich\, diese Gleichung einmal genauer unter die Lupe zu nehmen: Wie finanziert die Kirche ihre Arbeit und wofür gibt sie ihr\nGeld aus? Gibt es andere Finanzierungsmodelle? Welche halten wir für sinnvoll? \n🎙️ Leitung: Pfarrer Johannes Nett \n🎟️ Anmeldung johannes.nett@ekir.de \n\n❗ Eine Veranstaltung der Ev. Thomas-Kirchengemeinde Bad Godesberg
URL:https://www.evforum-bonn.de/veranstaltung/kirche-und-geld-wie-finanziert-sich-die-kirche/
LOCATION:Café Selig (Pauluskirche)\, In der Maar 7\, Bonn\, NRW\, 53175\, Germany
CATEGORIES:Veranstaltungen von Gemeinden
ATTACH;FMTTYPE=image/png:https://www.evforum-bonn.de/wp-content/uploads/2026/03/Designer.png
END:VEVENT
BEGIN:VEVENT
DTSTART;TZID=Europe/Berlin:20250918T150000
DTEND;TZID=Europe/Berlin:20250918T163000
DTSTAMP:20260423T151843
CREATED:20250915T074505Z
LAST-MODIFIED:20250915T074505Z
UID:10006220-1758207600-1758213000@www.evforum-bonn.de
SUMMARY:Begegnungs-Cafè im Cafè Selig
DESCRIPTION:Herzliche Einladung ins Begegnungs-Café im Café Selig (Paulukirche). Bei Kaffee und Kuchen verbringen wir einen gemütlichen Nachmittag und kommen ins Gespräch über ein aktuelles Thema. Dieses Mal lädt die Friesdorfer Künstlerin Kirsten Treis dazu ein\, „Versunkenes“ auszuprobieren: Gemeinsam wollen wir mit spitzem Stift und suchenden Fingern vorsichtig Striche wagen und kleine Tierzeichnungen aufs Papier bringen. \nLeitung: Jutta Kahmann
URL:https://www.evforum-bonn.de/veranstaltung/begegnungs-cafe-im-cafe-selig/
LOCATION:Café Selig (Pauluskirche)\, In der Maar 7\, Bonn\, NRW\, 53175\, Germany
CATEGORIES:Altern und Alter,Angebote für Senioren,Bildung & Café,Seniorenbildung,Seniorenkreis -nachmittag,Veranstaltungen von Gemeinden,Veranstaltungsreihen
ATTACH;FMTTYPE=image/jpeg:https://www.evforum-bonn.de/wp-content/uploads/2022/12/Senior-e1751876645808.jpg
END:VEVENT
BEGIN:VEVENT
DTSTART;TZID=Europe/Berlin:20250910T190000
DTEND;TZID=Europe/Berlin:20250910T210000
DTSTAMP:20260423T151843
CREATED:20250826T135139Z
LAST-MODIFIED:20250826T135742Z
UID:10006192-1757530800-1757538000@www.evforum-bonn.de
SUMMARY:Islam und Moderne
DESCRIPTION:Das Leben in der Gegenwart\, hier als „Moderne“ bezeichnet\, stellt Gläubige aller Religionen vor große Herausforderungen. Die Quellen unseres Glaubens stammen aus einer anderen Zeit und scheinen nicht unmittelbar in die Gegenwart zu sprechen. Religiöse Menschen aller Religionen stehen vor der Aufgabe\, ihren Glauben in Treue gegenüber den Glaubenswahrheiten und in Verantwortung vor der Gegenwart zu gestalten. \nDie Versuche\, diesem Anspruch gerecht zu werden\, können traditionell oder progressiv sein. Die theologische Ausgangslage des Islams wird an diesem Abend zu Beginn kurz dargestellt\, um dann darauf aufbauend progressive islamische Theologen vorzustellen. An einem dogmatischen und einem ethischen Einzelfall sollen die Spannungen für die religiöse Praxis aufgezeigt werden. \n\nMittwoch\, 10. September 2025 • 19:00–21:00 Uhr • Pauluskirche\, Café-Selig
URL:https://www.evforum-bonn.de/veranstaltung/cafe-selig-25-09/
LOCATION:Café Selig (Pauluskirche)\, In der Maar 7\, Bonn\, NRW\, 53175\, Germany
CATEGORIES:Bibel - Bibelgespräch,Bildung & Café,Philosophisch-psychologische Kaffeehausgespräche,Theologie / Philosophie,Veranstaltungen von Gemeinden,Veranstaltungsreihen
ATTACH;FMTTYPE=image/jpeg:https://www.evforum-bonn.de/wp-content/uploads/2025/08/Cafe_unsplash.jpg
END:VEVENT
BEGIN:VEVENT
DTSTART;TZID=Europe/Berlin:20250620T193000
DTEND;TZID=Europe/Berlin:20250620T213000
DTSTAMP:20260423T151843
CREATED:20250616T110357Z
LAST-MODIFIED:20250616T110357Z
UID:10005807-1750447800-1750455000@www.evforum-bonn.de
SUMMARY:Wer ist eigentlich dieser Paulus?
DESCRIPTION:Vortrag mit Prof. Dr. Michael Meyer-Blanck \nPaulus von Tarsus – Völkerapostel\, Missionar\, Theologe und Briefautor – zählt zu den prägendsten Gestalten des frühen Christentums. Doch wer war dieser Paulus wirklich? Und was bedeuten seine Botschaften für unsere Zeit? \nProf. Dr. Michael Meyer-Blanck\, renommierter Theologe und ehemaliger Professor für Praktische Theologie an der Universität Bonn\, beleuchtet Leben\, Wirkung und bleibende Relevanz des Paulus – fundiert\, lebendig und dialogbereit. \n📍 Ort: Café Selig (Paulusgemeinde)\, In der Maar 7\, 53175 Bonn🕢 Termin: Freitag\, 20.06.2025\, 19:30 Uhr🎟️ Eintritt frei – Spenden willkommen
URL:https://www.evforum-bonn.de/veranstaltung/wer-ist-eigentlich-dieser-paulus/
LOCATION:Café Selig (Pauluskirche)\, In der Maar 7\, Bonn\, NRW\, 53175\, Germany
CATEGORIES:Bibel - Bibelgespräch,Bildung & Café,Lesung - Vortrag,Veranstaltungen von Gemeinden
ATTACH;FMTTYPE=image/png:https://www.evforum-bonn.de/wp-content/uploads/2025/06/Paulus_Bild_KI-generiert-e1750071811584.png
END:VEVENT
END:VCALENDAR