BEGIN:VCALENDAR
VERSION:2.0
PRODID:-//Evangelisches Forum Bonn - ECPv6.15.20//NONSGML v1.0//EN
CALSCALE:GREGORIAN
METHOD:PUBLISH
X-ORIGINAL-URL:https://www.evforum-bonn.de
X-WR-CALDESC:Veranstaltungen für Evangelisches Forum Bonn
REFRESH-INTERVAL;VALUE=DURATION:PT1H
X-Robots-Tag:noindex
X-PUBLISHED-TTL:PT1H
BEGIN:VTIMEZONE
TZID:Europe/Berlin
BEGIN:DAYLIGHT
TZOFFSETFROM:+0100
TZOFFSETTO:+0200
TZNAME:CEST
DTSTART:20240331T010000
END:DAYLIGHT
BEGIN:STANDARD
TZOFFSETFROM:+0200
TZOFFSETTO:+0100
TZNAME:CET
DTSTART:20241027T010000
END:STANDARD
BEGIN:DAYLIGHT
TZOFFSETFROM:+0100
TZOFFSETTO:+0200
TZNAME:CEST
DTSTART:20250330T010000
END:DAYLIGHT
BEGIN:STANDARD
TZOFFSETFROM:+0200
TZOFFSETTO:+0100
TZNAME:CET
DTSTART:20251026T010000
END:STANDARD
BEGIN:DAYLIGHT
TZOFFSETFROM:+0100
TZOFFSETTO:+0200
TZNAME:CEST
DTSTART:20260329T010000
END:DAYLIGHT
BEGIN:STANDARD
TZOFFSETFROM:+0200
TZOFFSETTO:+0100
TZNAME:CET
DTSTART:20261025T010000
END:STANDARD
BEGIN:DAYLIGHT
TZOFFSETFROM:+0100
TZOFFSETTO:+0200
TZNAME:CEST
DTSTART:20270328T010000
END:DAYLIGHT
BEGIN:STANDARD
TZOFFSETFROM:+0200
TZOFFSETTO:+0100
TZNAME:CET
DTSTART:20271031T010000
END:STANDARD
END:VTIMEZONE
BEGIN:VEVENT
DTSTART;TZID=Europe/Berlin:20260308T170000
DTEND;TZID=Europe/Berlin:20260308T190000
DTSTAMP:20260421T180446
CREATED:20260318T171712Z
LAST-MODIFIED:20260318T171712Z
UID:10007047-1772989200-1772996400@www.evforum-bonn.de
SUMMARY:„Die Schrift an der Wand“
DESCRIPTION:Biblisches Kindermusical von Hella Heizmann \nEs singt und spielt der Kinderchor der Auferstehungskirche\, gleichzeitig Chor-AG in den OGS-Bereichen der Engelsbachschule und der Waldschule. Es begleitet eine Band.\nDas Musical hat das Gastmahl des verschwenderischen babylonischen Königs Belsazar zum Thema. Bei diesem Fest erscheint eine geheimnisvolle Schrift an der Wand. \nZur Deutung wird der jüdische Prophet Daniel herbeigerufen. Er deutet das „Menetekel“ als Verurteilung Belsazars durch Gott.\nAußerdem ist auch die Geschichte von Daniel in der Löwengrube Teil des Musicals. \n🎙️ Leitung: Stephan Pridik\n🎟️ Der Eintritt ist frei \nPlakat zum Kindermusical
URL:https://www.evforum-bonn.de/veranstaltung/die-schrift-an-der-wand/
LOCATION:Ev. Auferstehungskirche\, Haager Weg 71\, Bonn\, NRW\, 53127
CATEGORIES:Kirche für Kinder,Veranstaltungen von Gemeinden
ATTACH;FMTTYPE=image/webp:https://www.evforum-bonn.de/wp-content/uploads/2025/02/musik-und-wort-e1738657162373.webp
END:VEVENT
BEGIN:VEVENT
DTSTART;TZID=Europe/Berlin:20250716T101500
DTEND;TZID=Europe/Berlin:20250716T163000
DTSTAMP:20260421T180446
CREATED:20250703T091614Z
LAST-MODIFIED:20250703T092028Z
UID:10005882-1752660900-1752683400@www.evforum-bonn.de
SUMMARY:Ausflug zum Altenberger Dom mit Domführung
DESCRIPTION:Das Projekt Miteinander–Füreinander lädt zu einem besonderen Ausflug in die bergische Kulturlandschaft ein: Ziel ist der Altenberger Dom in Odenthal – auch bekannt als „Bergischer Dom“. \nBei einer fachkundigen Domführung von 12:00 bis ca. 13:00 Uhr erkunden wir die beeindruckende gotische Architektur\, erfahren mehr über die spirituelle und kulturelle Geschichte des ehemaligen Zisterzienserklosters und entdecken die Verbindung von Glauben\, Kunst und Baukultur im Mittelalter. \nIm Anschluss kehren wir zum gemeinsamen Mittagessen in ein nahegelegenes Restaurant ein (Selbstzahlung). \n🚌 Treffpunkt & Abfahrt: 10:15 Uhr\, Kirchparkplatz (Gemeindebus & Privat-PKW)💶 Kosten: 10–15 € (abhängig von Gruppengröße; inkl. Führung & Fahrt)📌 Anmeldung erforderlich im [Gemeindebüro bei carla.hornberger@ekir.de]
URL:https://www.evforum-bonn.de/veranstaltung/ev-auferstehungsgemeinde_exkursion-07-25/
LOCATION:Ev. Auferstehungskirche\, Haager Weg 71\, Bonn\, NRW\, 53127
CATEGORIES:Existenzielle Fragestellungen,Exkursion - Ausflug - Tour,Theologie / Philosophie,Veranstaltungen von Gemeinden
ATTACH;FMTTYPE=image/jpeg:https://www.evforum-bonn.de/wp-content/uploads/2025/07/Ausflug-Gruppe_Lego_Pixabay-Free-von-planet_fox-e1751533902334.jpg
ORGANIZER;CN="Ev. Kirchengemeinde im Bonner Westen *eh. Auferstehung":MAILTO:carla.hornberger@ekir.de
END:VEVENT
BEGIN:VEVENT
DTSTART;TZID=Europe/Berlin:20250706T103000
DTEND;TZID=Europe/Berlin:20250706T170000
DTSTAMP:20260421T180446
CREATED:20250703T090214Z
LAST-MODIFIED:20250703T090214Z
UID:10005880-1751797800-1751821200@www.evforum-bonn.de
SUMMARY:Gemeindefest der Auferstehungsgemeinde Bonn
DESCRIPTION:Herzliche Einladung zum Gemeindefest am 6. Juli! \nLassen Sie uns gemeinsam feiern! Mit Essen und Trinken\, Lachen und Feiern und schönen Aktionen. \nDas können Sie auf dem Gemeindefest erleben: \n\nStart: 10.30 Uhr G-MIT-Gottesdienst mit der Band „Tiefgang“\nEssen und Trinken\nLine Dance\nKreative Aktionen\nKickerturnier\nRikscha-Fahrten\nBüchermarkt\nMusikeinlagen\n15.30 Uhr in der Kirche: „Von Hasen\, Rittern und anderen Wesen“.\nBunter Liederkalender mit Kinderchor und Kantorei\n16.30 Uhr Folk for Fun im Garten\n17.00 Uhr Abschluss mit Andacht\n\nWir freuen uns\, wenn Sie einen Kuchen oder einen Salat mitbringen!! \nHerzliche Grüße\nPfarrer Steffen Tiemann
URL:https://www.evforum-bonn.de/veranstaltung/gemeindefest-der-auferstehungsgemeinde-bonn/
LOCATION:Ev. Auferstehungskirche\, Haager Weg 71\, Bonn\, NRW\, 53127
CATEGORIES:Kunst - Musik - Literatur,Migration - Kultur - Kultureller Austausch,Pädagogische Bildung,Philosophisch-psychologische Kaffeehausgespräche,Theologie / Philosophie,Veranstaltungen von Gemeinden
ATTACH;FMTTYPE=image/jpeg:https://www.evforum-bonn.de/wp-content/uploads/2025/07/Sonnenblume_Fest-e1751533317500.jpg
ORGANIZER;CN="Ev. Kirchengemeinde im Bonner Westen *eh. Auferstehung":MAILTO:carla.hornberger@ekir.de
END:VEVENT
BEGIN:VEVENT
DTSTART;TZID=Europe/Berlin:20250624T131500
DTEND;TZID=Europe/Berlin:20250624T170000
DTSTAMP:20260421T180446
CREATED:20250703T091240Z
LAST-MODIFIED:20250703T091326Z
UID:10005881-1750770900-1750784400@www.evforum-bonn.de
SUMMARY:Nachmittagsausflug mit Stadtführung in Rheinbach
DESCRIPTION:Das Projekt Miteinander–Füreinander lädt herzlich ein zu einem abwechslungsreichen Ausflug mit kulturellem Schwerpunkt: \nBei einer Stadtführung durch Rheinbach (ca. 14–15 Uhr) erfahren wir mehr über die bewegte Geschichte\, die Architektur und die kulturgeschichtliche Entwicklung der Stadt. Die Führung vermittelt interessante Einblicke in Rheinbachs Wandel vom mittelalterlichen Ort zur modernen Kleinstadt mit Glas- und Töpfertradition. \nIm Anschluss geht es weiter zur alten Scheune in Hilberath\, wo der Tag bei Kaffee und Gesprächen in geselliger Runde ausklingen darf. \n🚌 Abfahrt: 13:15 Uhr\, Kirchparkplatz💶 Kosten: 8 € (inkl. Stadtführung\, Fahrtkosten und ein Getränk)📌 Anmeldung erforderlich im [Gemeindebüro bei carla.hornberger@ekir.de]
URL:https://www.evforum-bonn.de/veranstaltung/nachmittagsausflug-mit-stadtfuehrung-in-rheinbach/
LOCATION:Ev. Auferstehungskirche\, Haager Weg 71\, Bonn\, NRW\, 53127
CATEGORIES:Existenzielle Fragestellungen,Exkursion - Ausflug - Tour,Theologie / Philosophie,Veranstaltungen von Gemeinden
ATTACH;FMTTYPE=image/jpeg:https://www.evforum-bonn.de/wp-content/uploads/2025/07/Ausflug-Gruppe_Lego_Pixabay-Free-von-planet_fox-e1751533902334.jpg
ORGANIZER;CN="Ev. Kirchengemeinde im Bonner Westen *eh. Auferstehung":MAILTO:carla.hornberger@ekir.de
END:VEVENT
BEGIN:VEVENT
DTSTART;TZID=Europe/Berlin:20250202T100000
DTEND;TZID=Europe/Berlin:20250202T120000
DTSTAMP:20260421T180446
CREATED:20250108T133259Z
LAST-MODIFIED:20250108T134225Z
UID:10005096-1738490400-1738497600@www.evforum-bonn.de
SUMMARY:Workshop zur Namensfindung für die neue fusionierte Gemeinde
DESCRIPTION:Herzliche Einladung zu unserem Namens-Workshop in der Auferstehungskirche am 02.02.2025 nach dem Gottesdienst \nAuferstehung\, Hardtberg\, Johannis\, Kottenforst – drei einzelne Gemeinden und ein Bezirk haben beschlossen\, zum 1. Januar 2026 zu einer Gemeinde zusammenzugehen. \nDoch wie soll diese neue Gemeinde heißen? \nBiblische Figuren und [oder] geographische Beschreibungen\, theologische Begriffe und [oder] historische Personen – all das kommt als Name für unsere neue Kirchengemeinde in Betracht. Was wollen wir mit dem Namen über unsere Gemeinde aussagen und wen damit ansprechen? Diese Fragen möchten wir mit Ihnen in unseren Workshops klären\, an deren Ende Ihre Vorschläge für den Namen unserer neuen Gemeinde stehen werden! \n\n\nWir möchten vielen Menschen die Möglichkeit geben\, bei der Namensfindung für unsere neue Gemeinde aktiv mitzuwirken. Bei den Workshops wollen wir Ideen sammeln und konkrete Vorschläge entwickeln. Schließlich soll die neue Gemeinde einen Namen bekommen\, mit dem sich die Gemeindemitglieder identifizieren können. Der Name sollte Hoffnung\, Aufbruch und Zusammenhalt vermitteln und eine christliche Botschaft haben\, also nicht rein funktional sein. Er sollte kurz\, prägnant und einprägsam sein\, und keine andere Gemeinde in der näheren Umgebung sollte den gleichen Namen haben. \nWir laden Sie herzlich ein\, bei der Namensfindung mitzumachen. Besuchen Sie einen der folgenden Workshops zur Namensfindung. Kommen Sie mit anderen über das Thema ins Gespräch. Bringen Sie sich und Ihre eigenen Ideen ein. Am Ende jedes Workshops sollen sich die Teilnehmenden auf maximal drei Namensvorschläge einigen. Aus diesen maximal 12 Vorschlägen wird dann der Name für die neue Gemeinde ausgewählt. Die endgültige Entscheidung treffen die vier Presbyterien bis Mitte März 2025.
URL:https://www.evforum-bonn.de/veranstaltung/workshop-zur-namensfindung-fuer-die-neue-fusionierte-gemeinde/
LOCATION:Ev. Auferstehungskirche\, Haager Weg 71\, Bonn\, NRW\, 53127
CATEGORIES:Veranstaltungen von Gemeinden
ATTACH;FMTTYPE=image/jpeg:https://www.evforum-bonn.de/wp-content/uploads/2025/01/workshop.jpg
ORGANIZER;CN="Ev. Kirchengemeinde im Bonner Westen *eh. Hardtberg":MAILTO:hardtberg@ekir.de
END:VEVENT
END:VCALENDAR