BEGIN:VCALENDAR
VERSION:2.0
PRODID:-//Evangelisches Forum Bonn - ECPv6.15.20//NONSGML v1.0//EN
CALSCALE:GREGORIAN
METHOD:PUBLISH
X-ORIGINAL-URL:https://www.evforum-bonn.de
X-WR-CALDESC:Veranstaltungen für Evangelisches Forum Bonn
REFRESH-INTERVAL;VALUE=DURATION:PT1H
X-Robots-Tag:noindex
X-PUBLISHED-TTL:PT1H
BEGIN:VTIMEZONE
TZID:Europe/Berlin
BEGIN:DAYLIGHT
TZOFFSETFROM:+0100
TZOFFSETTO:+0200
TZNAME:CEST
DTSTART:20240331T010000
END:DAYLIGHT
BEGIN:STANDARD
TZOFFSETFROM:+0200
TZOFFSETTO:+0100
TZNAME:CET
DTSTART:20241027T010000
END:STANDARD
BEGIN:DAYLIGHT
TZOFFSETFROM:+0100
TZOFFSETTO:+0200
TZNAME:CEST
DTSTART:20250330T010000
END:DAYLIGHT
BEGIN:STANDARD
TZOFFSETFROM:+0200
TZOFFSETTO:+0100
TZNAME:CET
DTSTART:20251026T010000
END:STANDARD
BEGIN:DAYLIGHT
TZOFFSETFROM:+0100
TZOFFSETTO:+0200
TZNAME:CEST
DTSTART:20260329T010000
END:DAYLIGHT
BEGIN:STANDARD
TZOFFSETFROM:+0200
TZOFFSETTO:+0100
TZNAME:CET
DTSTART:20261025T010000
END:STANDARD
END:VTIMEZONE
BEGIN:VEVENT
DTSTART;TZID=Europe/Berlin:20250529T150000
DTEND;TZID=Europe/Berlin:20250529T180000
DTSTAMP:20260423T153209
CREATED:20250507T095326Z
LAST-MODIFIED:20250507T095644Z
UID:10005659-1748530800-1748541600@www.evforum-bonn.de
SUMMARY:Dünenfest: Natur - Schöpfung - Umwelt
DESCRIPTION:Zwischen 15h und 18h findet auf unserem Gelände das erste Tannenbuscher Dünenfest statt. Passend zur Düne als Naturschutzgebiet geht es um den Umgang mit der Natur und wie verschiedene Religionen auf Natur und Umwelt schauen. Das Fest ist damit auch eine Fortsetzung unserer „Begegnungen unter Nachbarn“\, die im Januar beim Sternsinge-Gottesdienst in St. Paulus ihren Anfang genommen haben. \nWir bieten an verschiedenen Ständen Informationen\, aber auch viele Mitmachaktionen – besonders für Familien. Außerdem laden wir ein auf der Wiese zu picknicken: entweder mit selbst mitgebrachten Speisen oder Essen\, das vor Ort gekauft werden kann. Getränke stehen kostenlos zur Verfügung. \nWir beginnen um 15h hinten im Garten mit einer gemeinsamen Andacht\, in der verschiedene Religionen Impulse zu Umwelt und Schöpfung beitragen. Ab 16h sind alle Stände geöffnet und Führungen in der Düne werden angeboten. \n \nAktueller Flyer zur Veranstaltung
URL:https://www.evforum-bonn.de/veranstaltung/duenenfest-natur-schoepfung-umwelt/
LOCATION:Ev. Apostelkirche Tannenbusch\, Lievelingsweg 162a\, Bonn\, NRW\, 53119\, Germany
CATEGORIES:Aktuelles,Ressourcen - Umwelt - Klima,Veranstaltungen von Gemeinden
ATTACH;FMTTYPE=image/jpeg:https://www.evforum-bonn.de/wp-content/uploads/2025/05/Apostelkirche_Bildquelle-Archiv-der-Ev.-Kirche-Bonn-e1746611791458.jpg
END:VEVENT
END:VCALENDAR