BEGIN:VCALENDAR
VERSION:2.0
PRODID:-//Evangelisches Forum Bonn - ECPv6.15.20//NONSGML v1.0//EN
CALSCALE:GREGORIAN
METHOD:PUBLISH
X-WR-CALNAME:Evangelisches Forum Bonn
X-ORIGINAL-URL:https://www.evforum-bonn.de
X-WR-CALDESC:Veranstaltungen für Evangelisches Forum Bonn
REFRESH-INTERVAL;VALUE=DURATION:PT1H
X-Robots-Tag:noindex
X-PUBLISHED-TTL:PT1H
BEGIN:VTIMEZONE
TZID:Europe/Berlin
BEGIN:DAYLIGHT
TZOFFSETFROM:+0100
TZOFFSETTO:+0200
TZNAME:CEST
DTSTART:20240331T010000
END:DAYLIGHT
BEGIN:STANDARD
TZOFFSETFROM:+0200
TZOFFSETTO:+0100
TZNAME:CET
DTSTART:20241027T010000
END:STANDARD
BEGIN:DAYLIGHT
TZOFFSETFROM:+0100
TZOFFSETTO:+0200
TZNAME:CEST
DTSTART:20250330T010000
END:DAYLIGHT
BEGIN:STANDARD
TZOFFSETFROM:+0200
TZOFFSETTO:+0100
TZNAME:CET
DTSTART:20251026T010000
END:STANDARD
BEGIN:DAYLIGHT
TZOFFSETFROM:+0100
TZOFFSETTO:+0200
TZNAME:CEST
DTSTART:20260329T010000
END:DAYLIGHT
BEGIN:STANDARD
TZOFFSETFROM:+0200
TZOFFSETTO:+0100
TZNAME:CET
DTSTART:20261025T010000
END:STANDARD
BEGIN:DAYLIGHT
TZOFFSETFROM:+0100
TZOFFSETTO:+0200
TZNAME:CEST
DTSTART:20270328T010000
END:DAYLIGHT
BEGIN:STANDARD
TZOFFSETFROM:+0200
TZOFFSETTO:+0100
TZNAME:CET
DTSTART:20271031T010000
END:STANDARD
END:VTIMEZONE
BEGIN:VEVENT
DTSTART;TZID=Europe/Berlin:20260327T190000
DTEND;TZID=Europe/Berlin:20260327T203000
DTSTAMP:20260423T135116
CREATED:20260123T123437Z
LAST-MODIFIED:20260123T123437Z
UID:10006555-1774638000-1774643400@www.evforum-bonn.de
SUMMARY:Biblisches Whisky-Tasting • genussvoll glauben
DESCRIPTION:Whisky ist mehr als ein Getränk – er ist Kultur\, Handwerk und Geschichte. An diesem besonderen Abend verbinden wir Genuss und Glauben: Ausgewählte Whiskys werden verkostet und mit biblischen Impulsen\, Geschichten und Gesprächen in Beziehung gesetzt. \nIn entspannter Atmosphäre laden wir dazu ein\, Whisky bewusst zu schmecken\, neue Perspektiven kennenzulernen und miteinander ins Gespräch zu kommen – über Geschmack\, Tradition und das\, was im Leben trägt. Vorkenntnisse sind nicht erforderlich\, Offenheit und Neugier genügen. \nDatum: Freitag\, 27. März 2026Uhrzeit: 19:00 UhrOrt: Gemeindehaus an der Apostelkirche\, Lievelingsweg 162a\, Bonn \nTeilnahmebeitrag: 20 € pro PersonAnmeldung & Information: Pfarrer Niels Wey\, 0174 / 1500414
URL:https://www.evforum-bonn.de/veranstaltung/biblisches-whisky-tasting-genussvoll-glauben/
LOCATION:Gemeindehaus der Apostelkirche\, Lievelingsweg 162\, Bonn\, NRW\, 53119\, Germany
CATEGORIES:Aktuelles,Bibel - Bibelgespräch,Ev. Forum Bonn,Veranstaltungen von Gemeinden
ATTACH;FMTTYPE=image/jpeg:https://www.evforum-bonn.de/wp-content/uploads/2026/01/27.03.26-WhiskyTasting_Apostel-1-scaled.jpg
END:VEVENT
BEGIN:VEVENT
DTSTART;TZID=Europe/Berlin:20250628T101500
DTEND;TZID=Europe/Berlin:20250628T101500
DTSTAMP:20260423T135116
CREATED:20250623T095213Z
LAST-MODIFIED:20250623T095757Z
UID:10005842-1751105700-1751105700@www.evforum-bonn.de
SUMMARY:Martin-Buber-Lesekreis
DESCRIPTION:Am 28. Juni 2025 um 10:15 Uhr im Gemeindezentrum Apostel – Sitzungsraum\n\nIm gemeinsamen Lesen und Diskutieren von Texten des jüdischen Religionsphilosophen Martin Buber widmen wir uns Fragen von Beziehung\, Dialog und Verantwortung. Der Lesekreis lädt ein zum offenen Austausch über Bubers Denken und dessen Bedeutung für unsere Zeit. Neue Interessierte sind herzlich willkommen! \nAnsprechpartner\nDr. Wolfgang Krone info@dialogisches-leben.de
URL:https://www.evforum-bonn.de/veranstaltung/martin-buber-lesekreis-2/
LOCATION:Gemeindehaus der Apostelkirche\, Lievelingsweg 162\, Bonn\, NRW\, 53119\, Germany
CATEGORIES:Arbeitskreis,Existenzielle Fragestellungen,Lesung - Vortrag,Migration - Kultur - Kultureller Austausch,Philosophisch-psychologische Kaffeehausgespräche,Theologie / Philosophie,Veranstaltungen von Gemeinden,Veranstaltungsreihen
END:VEVENT
BEGIN:VEVENT
DTSTART;TZID=Europe/Berlin:20250614T101500
DTEND;TZID=Europe/Berlin:20250614T130000
DTSTAMP:20260423T135116
CREATED:20250606T100231Z
LAST-MODIFIED:20250606T100417Z
UID:10005787-1749896100-1749906000@www.evforum-bonn.de
SUMMARY:Martin-Buber-Lesekreis
DESCRIPTION:Am 14. Juni 2025 um 10:15 Uhr im Gemeindezentrum Apostel – Sitzungsraum\n\nIm gemeinsamen Lesen und Diskutieren von Texten des jüdischen Religionsphilosophen Martin Buber widmen wir uns Fragen von Beziehung\, Dialog und Verantwortung. Der Lesekreis lädt ein zum offenen Austausch über Bubers Denken und dessen Bedeutung für unsere Zeit. Neue Interessierte sind herzlich willkommen! \nAnsprechpartner\nDr. Wolfgang Krone info@dialogisches-leben.de
URL:https://www.evforum-bonn.de/veranstaltung/martin-buber-lesekreis-1/
LOCATION:Gemeindehaus der Apostelkirche\, Lievelingsweg 162\, Bonn\, NRW\, 53119\, Germany
CATEGORIES:Arbeitskreis,Existenzielle Fragestellungen,Lesung - Vortrag,Migration - Kultur - Kultureller Austausch,Philosophisch-psychologische Kaffeehausgespräche,Theologie / Philosophie,Veranstaltungen von Gemeinden,Veranstaltungsreihen
END:VEVENT
BEGIN:VEVENT
DTSTART;TZID=Europe/Berlin:20250426T101500
DTEND;TZID=Europe/Berlin:20250426T130000
DTSTAMP:20260423T135116
CREATED:20250425T094913Z
LAST-MODIFIED:20250606T101014Z
UID:10005652-1745662500-1745672400@www.evforum-bonn.de
SUMMARY:Martin-Buber-Lesekreis
DESCRIPTION:Am 26. April 2025 um 10:15 Uhr im Gemeindezentrum Apostel – Sitzungsraum\n\nIm gemeinsamen Lesen und Diskutieren von Texten des jüdischen Religionsphilosophen Martin Buber widmen wir uns Fragen von Beziehung\, Dialog und Verantwortung. Der Lesekreis lädt ein zum offenen Austausch über Bubers Denken und dessen Bedeutung für unsere Zeit. Neue Interessierte sind herzlich willkommen! \nAnsprechpartner\nDr. Wolfgang Krone info@dialogisches-leben.de
URL:https://www.evforum-bonn.de/veranstaltung/martin-buber-lesekreis/
LOCATION:Gemeindehaus der Apostelkirche\, Lievelingsweg 162\, Bonn\, NRW\, 53119\, Germany
CATEGORIES:Arbeitskreis,Existenzielle Fragestellungen,Lesung - Vortrag,Migration - Kultur - Kultureller Austausch,Philosophisch-psychologische Kaffeehausgespräche,Theologie / Philosophie,Veranstaltungen von Gemeinden,Veranstaltungsreihen
END:VEVENT
END:VCALENDAR