BEGIN:VCALENDAR
VERSION:2.0
PRODID:-//Evangelisches Forum Bonn - ECPv6.15.20//NONSGML v1.0//EN
CALSCALE:GREGORIAN
METHOD:PUBLISH
X-WR-CALNAME:Evangelisches Forum Bonn
X-ORIGINAL-URL:https://www.evforum-bonn.de
X-WR-CALDESC:Veranstaltungen für Evangelisches Forum Bonn
REFRESH-INTERVAL;VALUE=DURATION:PT1H
X-Robots-Tag:noindex
X-PUBLISHED-TTL:PT1H
BEGIN:VTIMEZONE
TZID:Europe/Berlin
BEGIN:DAYLIGHT
TZOFFSETFROM:+0100
TZOFFSETTO:+0200
TZNAME:CEST
DTSTART:20240331T010000
END:DAYLIGHT
BEGIN:STANDARD
TZOFFSETFROM:+0200
TZOFFSETTO:+0100
TZNAME:CET
DTSTART:20241027T010000
END:STANDARD
BEGIN:DAYLIGHT
TZOFFSETFROM:+0100
TZOFFSETTO:+0200
TZNAME:CEST
DTSTART:20250330T010000
END:DAYLIGHT
BEGIN:STANDARD
TZOFFSETFROM:+0200
TZOFFSETTO:+0100
TZNAME:CET
DTSTART:20251026T010000
END:STANDARD
BEGIN:DAYLIGHT
TZOFFSETFROM:+0100
TZOFFSETTO:+0200
TZNAME:CEST
DTSTART:20260329T010000
END:DAYLIGHT
BEGIN:STANDARD
TZOFFSETFROM:+0200
TZOFFSETTO:+0100
TZNAME:CET
DTSTART:20261025T010000
END:STANDARD
BEGIN:DAYLIGHT
TZOFFSETFROM:+0100
TZOFFSETTO:+0200
TZNAME:CEST
DTSTART:20270328T010000
END:DAYLIGHT
BEGIN:STANDARD
TZOFFSETFROM:+0200
TZOFFSETTO:+0100
TZNAME:CET
DTSTART:20271031T010000
END:STANDARD
END:VTIMEZONE
BEGIN:VEVENT
DTSTART;TZID=Europe/Berlin:20260310T150000
DTEND;TZID=Europe/Berlin:20260310T180000
DTSTAMP:20260423T104752
CREATED:20260422T093853Z
LAST-MODIFIED:20260422T094107Z
UID:10007415-1773154800-1773165600@www.evforum-bonn.de
SUMMARY:Prävention: Inhouseschulung Basis - nicht buchbar!
DESCRIPTION:Nicht buchbar – Interne Schulung für ehrenamtlich Mitarbeitende (Inhouse-Schulung) \nIm Rahmen des Präventionskonzepts zur Stärkung des Schutzes von Kindern\, Jugendlichen und schutzbedürftigen Erwachsenen findet eine dreistündige Inhouse-Schulung für ehrenamtlich Mitarbeitende einer Kirchengemeinde statt. \nZiel ist es\, grundlegendes Wissen zu vermitteln\, für mögliche Gefährdungssituationen zu sensibilisieren und Handlungssicherheit im Umgang mit Nähe und Distanz zu fördern. \nDiese Schulung ist nicht öffentlich\, sondern richtet sich ausschließlich an Teilnehmende der einladenden Gemeinde. \n📍 Ort: vor Ort in der jeweiligen Gemeinde🕒 Dauer: 3 Stunden👤 Referentin: Beate Krugel (Diakonisches Werk)
URL:https://www.evforum-bonn.de/veranstaltung/prvention-inhouseschulung-basis-26-03-10/
LOCATION:Inhouse Schulung in Ihrer Kirchengemeinde\, individuell\, Germany
CATEGORIES:Ev. Forum Bonn,Fort- und Weiterbildung,Präventionsschulung,Veranstaltungsreihen
ATTACH;FMTTYPE=image/png:https://www.evforum-bonn.de/wp-content/uploads/2025/09/Slider-Praeventionsschulung-1-scaled-e1758713287182.png
ORGANIZER;CN="Evangelisches Forum Bonn":MAILTO:info@evforum-bonn.de
END:VEVENT
BEGIN:VEVENT
DTSTART;TZID=Europe/Berlin:20251010T160000
DTEND;TZID=Europe/Berlin:20251010T190000
DTSTAMP:20260423T104752
CREATED:20250807T123830Z
LAST-MODIFIED:20260202T110435Z
UID:10006137-1760112000-1760122800@www.evforum-bonn.de
SUMMARY:Prävention: Inhouseschulung Basis - nicht buchbar!
DESCRIPTION:Nicht buchbar – Interne Schulung für ehrenamtlich Mitarbeitende (Inhouse-Schulung) \nIm Rahmen des Präventionskonzepts zur Stärkung des Schutzes von Kindern\, Jugendlichen und schutzbedürftigen Erwachsenen findet eine dreistündige Inhouse-Schulung für ehrenamtlich Mitarbeitende einer Kirchengemeinde statt. \nZiel ist es\, grundlegendes Wissen zu vermitteln\, für mögliche Gefährdungssituationen zu sensibilisieren und Handlungssicherheit im Umgang mit Nähe und Distanz zu fördern. \nDiese Schulung ist nicht öffentlich\, sondern richtet sich ausschließlich an Teilnehmende der einladenden Gemeinde. \n📍 Ort: vor Ort in der jeweiligen Gemeinde🕒 Dauer: 3 Stunden👤 Referentin: Beate Krugel (Diakonisches Werk)
URL:https://www.evforum-bonn.de/veranstaltung/praeventionsschulung_basis-inhouse-25-09-25-copy/
LOCATION:Inhouse Schulung in Ihrer Kirchengemeinde\, individuell\, Germany
CATEGORIES:Fort- und Weiterbildung,Präventionsschulung,Veranstaltungsreihen
ATTACH;FMTTYPE=image/png:https://www.evforum-bonn.de/wp-content/uploads/2025/09/Slider-Praeventionsschulung-1-scaled-e1758713287182.png
ORGANIZER;CN="Evangelisches Forum Bonn":MAILTO:info@evforum-bonn.de
END:VEVENT
BEGIN:VEVENT
DTSTART;TZID=Europe/Berlin:20250925T100000
DTEND;TZID=Europe/Berlin:20250925T130000
DTSTAMP:20260423T104752
CREATED:20250704T112755Z
LAST-MODIFIED:20250926T103917Z
UID:10005978-1758794400-1758805200@www.evforum-bonn.de
SUMMARY:Prävention: Inhouseschulung Basis - nicht buchbar!
DESCRIPTION:Nicht buchbar – Interne Schulung für ehrenamtlich Mitarbeitende (Inhouse-Schulung) \nIm Rahmen des Präventionskonzepts zur Stärkung des Schutzes von Kindern\, Jugendlichen und schutzbedürftigen Erwachsenen findet eine dreistündige Inhouse-Schulung für ehrenamtlich Mitarbeitende einer Kirchengemeinde statt. \nZiel ist es\, grundlegendes Wissen zu vermitteln\, für mögliche Gefährdungssituationen zu sensibilisieren und Handlungssicherheit im Umgang mit Nähe und Distanz zu fördern. \nDiese Schulung ist nicht öffentlich\, sondern richtet sich ausschließlich an Teilnehmende der einladenden Gemeinde. \n📍 Ort: vor Ort in der jeweiligen Gemeinde🕒 Dauer: 3 Stunden👤 Referentin: Beate Krugel (Diakonisches Werk)
URL:https://www.evforum-bonn.de/veranstaltung/praeventionsschulung_basis-inhouse-25-09-25/
LOCATION:Inhouse Schulung in Ihrer Kirchengemeinde\, individuell\, Germany
CATEGORIES:Fort- und Weiterbildung,Präventionsschulung,Veranstaltungsreihen
ATTACH;FMTTYPE=image/png:https://www.evforum-bonn.de/wp-content/uploads/2025/09/Slider-Praeventionsschulung-1-scaled-e1758713287182.png
ORGANIZER;CN="Evangelisches Forum Bonn":MAILTO:info@evforum-bonn.de
END:VEVENT
BEGIN:VEVENT
DTSTART;TZID=Europe/Berlin:20250722T170000
DTEND;TZID=Europe/Berlin:20250722T200000
DTSTAMP:20260423T104752
CREATED:20250704T111736Z
LAST-MODIFIED:20250725T095037Z
UID:10005977-1753203600-1753214400@www.evforum-bonn.de
SUMMARY:Prävention: Inhouseschulung Basis - nicht buchbar!
DESCRIPTION:Nicht buchbar – Interne Schulung für ehrenamtlich Mitarbeitende (Inhouse-Schulung) \nIm Rahmen des Präventionskonzepts zur Stärkung des Schutzes von Kindern\, Jugendlichen und schutzbedürftigen Erwachsenen findet eine dreistündige Inhouse-Schulung für ehrenamtlich Mitarbeitende einer Kirchengemeinde statt. \nZiel ist es\, grundlegendes Wissen zu vermitteln\, für mögliche Gefährdungssituationen zu sensibilisieren und Handlungssicherheit im Umgang mit Nähe und Distanz zu fördern. \nDiese Schulung ist nicht öffentlich\, sondern richtet sich ausschließlich an Teilnehmende der einladenden Gemeinde. \n📍 Ort: vor Ort in der jeweiligen Gemeinde🕒 Dauer: 3 Stunden👤 Referentin: Beate Krugel (Diakonisches Werk)
URL:https://www.evforum-bonn.de/veranstaltung/praeventionsschulung_basis-inhouse-22-07-25/
LOCATION:Inhouse Schulung in Ihrer Kirchengemeinde\, individuell\, Germany
CATEGORIES:Fort- und Weiterbildung,Präventionsschulung,Veranstaltungsreihen
ATTACH;FMTTYPE=image/png:https://www.evforum-bonn.de/wp-content/uploads/2025/09/Slider-Praeventionsschulung-1-scaled-e1758713287182.png
ORGANIZER;CN="Evangelisches Forum Bonn":MAILTO:info@evforum-bonn.de
END:VEVENT
END:VCALENDAR