BEGIN:VCALENDAR
VERSION:2.0
PRODID:-//Evangelisches Forum Bonn - ECPv6.15.20//NONSGML v1.0//EN
CALSCALE:GREGORIAN
METHOD:PUBLISH
X-ORIGINAL-URL:https://www.evforum-bonn.de
X-WR-CALDESC:Veranstaltungen für Evangelisches Forum Bonn
REFRESH-INTERVAL;VALUE=DURATION:PT1H
X-Robots-Tag:noindex
X-PUBLISHED-TTL:PT1H
BEGIN:VTIMEZONE
TZID:Europe/Berlin
BEGIN:DAYLIGHT
TZOFFSETFROM:+0100
TZOFFSETTO:+0200
TZNAME:CEST
DTSTART:20240331T010000
END:DAYLIGHT
BEGIN:STANDARD
TZOFFSETFROM:+0200
TZOFFSETTO:+0100
TZNAME:CET
DTSTART:20241027T010000
END:STANDARD
BEGIN:DAYLIGHT
TZOFFSETFROM:+0100
TZOFFSETTO:+0200
TZNAME:CEST
DTSTART:20250330T010000
END:DAYLIGHT
BEGIN:STANDARD
TZOFFSETFROM:+0200
TZOFFSETTO:+0100
TZNAME:CET
DTSTART:20251026T010000
END:STANDARD
BEGIN:DAYLIGHT
TZOFFSETFROM:+0100
TZOFFSETTO:+0200
TZNAME:CEST
DTSTART:20260329T010000
END:DAYLIGHT
BEGIN:STANDARD
TZOFFSETFROM:+0200
TZOFFSETTO:+0100
TZNAME:CET
DTSTART:20261025T010000
END:STANDARD
END:VTIMEZONE
BEGIN:VEVENT
DTSTART;TZID=Europe/Berlin:20250409T193000
DTEND;TZID=Europe/Berlin:20250409T203000
DTSTAMP:20260423T165935
CREATED:20250402T080651Z
LAST-MODIFIED:20250402T081101Z
UID:10005582-1744227000-1744230600@www.evforum-bonn.de
SUMMARY:"Der Weg\, den ich geführt werde..."
DESCRIPTION:Am 09. April 2025 um 19:30 Uhr in der Jesus-Christus-Kirche Witterschlick laden wir ein zu einem musikalisch-literarischen Abend anlässlich des Todestages von Dietrich Bonhoeffer. Der evangelische Theologe und mutige Widerstandskämpfer gegen den Nationalsozialismus wurde 1945 im KZ Flossenbürg hingerichtet. Texte und Lieder seines Lebens und Glaubensweges laden ein zum Innehalten\, Gedenken und Weiterdenken. \nEv. Kirchengemeinde am Kottenforst | Gemeindebüro Astrid Barth Tel.: 0228-6880-419 | e-Mail:kottenforst@ekir.de
URL:https://www.evforum-bonn.de/veranstaltung/der-weg-den-ich-gefuehrt-werde/
LOCATION:Jesus-Christus-Kirche Witterschlick\, Witterschlicker-Allee 2\, Alfter-Witterschlick\, NRW\, 53347\, Germany
CATEGORIES:Bibel - Bibelgespräch,Kunst - Musik - Literatur,Lesung - Vortrag,Theologie / Philosophie,Veranstaltungen von Gemeinden
ATTACH;FMTTYPE=image/jpeg:https://www.evforum-bonn.de/wp-content/uploads/2025/04/Dietrich-Bonhoeffer-Photo-By-Tomasz-Kmita-Skarsgard-Wikimedia.jpg
END:VEVENT
END:VCALENDAR