BEGIN:VCALENDAR
VERSION:2.0
PRODID:-//Evangelisches Forum Bonn - ECPv6.15.20//NONSGML v1.0//EN
CALSCALE:GREGORIAN
METHOD:PUBLISH
X-WR-CALNAME:Evangelisches Forum Bonn
X-ORIGINAL-URL:https://www.evforum-bonn.de
X-WR-CALDESC:Veranstaltungen für Evangelisches Forum Bonn
REFRESH-INTERVAL;VALUE=DURATION:PT1H
X-Robots-Tag:noindex
X-PUBLISHED-TTL:PT1H
BEGIN:VTIMEZONE
TZID:Europe/Berlin
BEGIN:DAYLIGHT
TZOFFSETFROM:+0100
TZOFFSETTO:+0200
TZNAME:CEST
DTSTART:20240331T010000
END:DAYLIGHT
BEGIN:STANDARD
TZOFFSETFROM:+0200
TZOFFSETTO:+0100
TZNAME:CET
DTSTART:20241027T010000
END:STANDARD
BEGIN:DAYLIGHT
TZOFFSETFROM:+0100
TZOFFSETTO:+0200
TZNAME:CEST
DTSTART:20250330T010000
END:DAYLIGHT
BEGIN:STANDARD
TZOFFSETFROM:+0200
TZOFFSETTO:+0100
TZNAME:CET
DTSTART:20251026T010000
END:STANDARD
BEGIN:DAYLIGHT
TZOFFSETFROM:+0100
TZOFFSETTO:+0200
TZNAME:CEST
DTSTART:20260329T010000
END:DAYLIGHT
BEGIN:STANDARD
TZOFFSETFROM:+0200
TZOFFSETTO:+0100
TZNAME:CET
DTSTART:20261025T010000
END:STANDARD
BEGIN:DAYLIGHT
TZOFFSETFROM:+0100
TZOFFSETTO:+0200
TZNAME:CEST
DTSTART:20270328T010000
END:DAYLIGHT
BEGIN:STANDARD
TZOFFSETFROM:+0200
TZOFFSETTO:+0100
TZNAME:CET
DTSTART:20271031T010000
END:STANDARD
END:VTIMEZONE
BEGIN:VEVENT
DTSTART;TZID=Europe/Berlin:20260417T190000
DTEND;TZID=Europe/Berlin:20260417T203000
DTSTAMP:20260423T180221
CREATED:20260128T132310Z
LAST-MODIFIED:20260318T173751Z
UID:10007124-1776452400-1776457800@www.evforum-bonn.de
SUMMARY:Fotogruppe Hardtberg
DESCRIPTION:14 tägig Freitags um 19 Uhr\n\n\nDie Fotogruppe trifft sich regelmäßig um dem gemeinsamen Hobby der Fotografie nachzugehen. Wir probieren zusammen unterschiedliche Motive und Lichtverhältnisse aus\, erlernen Fotografiertechniken und erleben eine schöne gemeinsame Zeit. Manche der Fotos auf unserer Website stammen von der Fotogruppe.\n\n\nKontakt: Dr. Klaus Vedder\, Tel. 0171 7441471\nDr. Urs von Deimling\, Tel. 0172 6328220
URL:https://www.evforum-bonn.de/veranstaltung/fotogruppe-hardtberg-2026/2026-04-17/
LOCATION:Gemeindezentrum Matthäikirche\, Gutenbergstraße 10\, Bonn\, 53123\, Deutschland
CATEGORIES:Kunst - Musik - Literatur,Veranstaltungen von Gemeinden,Veranstaltungsreihen
ATTACH;FMTTYPE=image/jpeg:https://www.evforum-bonn.de/wp-content/uploads/2025/05/Kamera_Pixabay-Free_PublicDomainArchive-e1748429758644.jpg
ORGANIZER;CN="Ev. Kirchengemeinde im Bonner Westen (Hardtberg)":MAILTO:hardtberg@ekir.de
END:VEVENT
BEGIN:VEVENT
DTSTART;TZID=Europe/Berlin:20260403T190000
DTEND;TZID=Europe/Berlin:20260403T203000
DTSTAMP:20260423T180221
CREATED:20260128T132310Z
LAST-MODIFIED:20260318T173751Z
UID:10007123-1775242800-1775248200@www.evforum-bonn.de
SUMMARY:Fotogruppe Hardtberg
DESCRIPTION:14 tägig Freitags um 19 Uhr\n\n\nDie Fotogruppe trifft sich regelmäßig um dem gemeinsamen Hobby der Fotografie nachzugehen. Wir probieren zusammen unterschiedliche Motive und Lichtverhältnisse aus\, erlernen Fotografiertechniken und erleben eine schöne gemeinsame Zeit. Manche der Fotos auf unserer Website stammen von der Fotogruppe.\n\n\nKontakt: Dr. Klaus Vedder\, Tel. 0171 7441471\nDr. Urs von Deimling\, Tel. 0172 6328220
URL:https://www.evforum-bonn.de/veranstaltung/fotogruppe-hardtberg-2026/2026-04-03/
LOCATION:Gemeindezentrum Matthäikirche\, Gutenbergstraße 10\, Bonn\, 53123\, Deutschland
CATEGORIES:Kunst - Musik - Literatur,Veranstaltungen von Gemeinden,Veranstaltungsreihen
ATTACH;FMTTYPE=image/jpeg:https://www.evforum-bonn.de/wp-content/uploads/2025/05/Kamera_Pixabay-Free_PublicDomainArchive-e1748429758644.jpg
ORGANIZER;CN="Ev. Kirchengemeinde im Bonner Westen (Hardtberg)":MAILTO:hardtberg@ekir.de
END:VEVENT
BEGIN:VEVENT
DTSTART;TZID=Europe/Berlin:20260320T190000
DTEND;TZID=Europe/Berlin:20260320T203000
DTSTAMP:20260423T180221
CREATED:20260128T132310Z
LAST-MODIFIED:20260318T173751Z
UID:10007122-1774033200-1774038600@www.evforum-bonn.de
SUMMARY:Fotogruppe Hardtberg
DESCRIPTION:14 tägig Freitags um 19 Uhr\n\n\nDie Fotogruppe trifft sich regelmäßig um dem gemeinsamen Hobby der Fotografie nachzugehen. Wir probieren zusammen unterschiedliche Motive und Lichtverhältnisse aus\, erlernen Fotografiertechniken und erleben eine schöne gemeinsame Zeit. Manche der Fotos auf unserer Website stammen von der Fotogruppe.\n\n\nKontakt: Dr. Klaus Vedder\, Tel. 0171 7441471\nDr. Urs von Deimling\, Tel. 0172 6328220
URL:https://www.evforum-bonn.de/veranstaltung/fotogruppe-hardtberg-2026/2026-03-20/
LOCATION:Gemeindezentrum Matthäikirche\, Gutenbergstraße 10\, Bonn\, 53123\, Deutschland
CATEGORIES:Kunst - Musik - Literatur,Veranstaltungen von Gemeinden,Veranstaltungsreihen
ATTACH;FMTTYPE=image/jpeg:https://www.evforum-bonn.de/wp-content/uploads/2025/05/Kamera_Pixabay-Free_PublicDomainArchive-e1748429758644.jpg
ORGANIZER;CN="Ev. Kirchengemeinde im Bonner Westen (Hardtberg)":MAILTO:hardtberg@ekir.de
END:VEVENT
BEGIN:VEVENT
DTSTART;TZID=Europe/Berlin:20260306T190000
DTEND;TZID=Europe/Berlin:20260306T203000
DTSTAMP:20260423T180221
CREATED:20260128T132310Z
LAST-MODIFIED:20260318T173751Z
UID:10007121-1772823600-1772829000@www.evforum-bonn.de
SUMMARY:Fotogruppe Hardtberg
DESCRIPTION:14 tägig Freitags um 19 Uhr\n\n\nDie Fotogruppe trifft sich regelmäßig um dem gemeinsamen Hobby der Fotografie nachzugehen. Wir probieren zusammen unterschiedliche Motive und Lichtverhältnisse aus\, erlernen Fotografiertechniken und erleben eine schöne gemeinsame Zeit. Manche der Fotos auf unserer Website stammen von der Fotogruppe.\n\n\nKontakt: Dr. Klaus Vedder\, Tel. 0171 7441471\nDr. Urs von Deimling\, Tel. 0172 6328220
URL:https://www.evforum-bonn.de/veranstaltung/fotogruppe-hardtberg-2026/2026-03-06/
LOCATION:Gemeindezentrum Matthäikirche\, Gutenbergstraße 10\, Bonn\, 53123\, Deutschland
CATEGORIES:Kunst - Musik - Literatur,Veranstaltungen von Gemeinden,Veranstaltungsreihen
ATTACH;FMTTYPE=image/jpeg:https://www.evforum-bonn.de/wp-content/uploads/2025/05/Kamera_Pixabay-Free_PublicDomainArchive-e1748429758644.jpg
ORGANIZER;CN="Ev. Kirchengemeinde im Bonner Westen (Hardtberg)":MAILTO:hardtberg@ekir.de
END:VEVENT
BEGIN:VEVENT
DTSTART;TZID=Europe/Berlin:20260220T190000
DTEND;TZID=Europe/Berlin:20260220T203000
DTSTAMP:20260423T180221
CREATED:20260128T132310Z
LAST-MODIFIED:20260318T173751Z
UID:10007120-1771614000-1771619400@www.evforum-bonn.de
SUMMARY:Fotogruppe Hardtberg
DESCRIPTION:14 tägig Freitags um 19 Uhr\n\n\nDie Fotogruppe trifft sich regelmäßig um dem gemeinsamen Hobby der Fotografie nachzugehen. Wir probieren zusammen unterschiedliche Motive und Lichtverhältnisse aus\, erlernen Fotografiertechniken und erleben eine schöne gemeinsame Zeit. Manche der Fotos auf unserer Website stammen von der Fotogruppe.\n\n\nKontakt: Dr. Klaus Vedder\, Tel. 0171 7441471\nDr. Urs von Deimling\, Tel. 0172 6328220
URL:https://www.evforum-bonn.de/veranstaltung/fotogruppe-hardtberg-2026/2026-02-20/
LOCATION:Gemeindezentrum Matthäikirche\, Gutenbergstraße 10\, Bonn\, 53123\, Deutschland
CATEGORIES:Kunst - Musik - Literatur,Veranstaltungen von Gemeinden,Veranstaltungsreihen
ATTACH;FMTTYPE=image/jpeg:https://www.evforum-bonn.de/wp-content/uploads/2025/05/Kamera_Pixabay-Free_PublicDomainArchive-e1748429758644.jpg
ORGANIZER;CN="Ev. Kirchengemeinde im Bonner Westen (Hardtberg)":MAILTO:hardtberg@ekir.de
END:VEVENT
BEGIN:VEVENT
DTSTART;TZID=Europe/Berlin:20260206T190000
DTEND;TZID=Europe/Berlin:20260206T203000
DTSTAMP:20260423T180221
CREATED:20260128T132310Z
LAST-MODIFIED:20260318T173751Z
UID:10007119-1770404400-1770409800@www.evforum-bonn.de
SUMMARY:Fotogruppe Hardtberg
DESCRIPTION:14 tägig Freitags um 19 Uhr\n\n\nDie Fotogruppe trifft sich regelmäßig um dem gemeinsamen Hobby der Fotografie nachzugehen. Wir probieren zusammen unterschiedliche Motive und Lichtverhältnisse aus\, erlernen Fotografiertechniken und erleben eine schöne gemeinsame Zeit. Manche der Fotos auf unserer Website stammen von der Fotogruppe.\n\n\nKontakt: Dr. Klaus Vedder\, Tel. 0171 7441471\nDr. Urs von Deimling\, Tel. 0172 6328220
URL:https://www.evforum-bonn.de/veranstaltung/fotogruppe-hardtberg-2026/2026-02-06/
LOCATION:Gemeindezentrum Matthäikirche\, Gutenbergstraße 10\, Bonn\, 53123\, Deutschland
CATEGORIES:Kunst - Musik - Literatur,Veranstaltungen von Gemeinden,Veranstaltungsreihen
ATTACH;FMTTYPE=image/jpeg:https://www.evforum-bonn.de/wp-content/uploads/2025/05/Kamera_Pixabay-Free_PublicDomainArchive-e1748429758644.jpg
ORGANIZER;CN="Ev. Kirchengemeinde im Bonner Westen (Hardtberg)":MAILTO:hardtberg@ekir.de
END:VEVENT
BEGIN:VEVENT
DTSTART;TZID=Europe/Berlin:20260123T190000
DTEND;TZID=Europe/Berlin:20260123T203000
DTSTAMP:20260423T180221
CREATED:20260128T132310Z
LAST-MODIFIED:20260318T173751Z
UID:10007118-1769194800-1769200200@www.evforum-bonn.de
SUMMARY:Fotogruppe Hardtberg
DESCRIPTION:14 tägig Freitags um 19 Uhr\n\n\nDie Fotogruppe trifft sich regelmäßig um dem gemeinsamen Hobby der Fotografie nachzugehen. Wir probieren zusammen unterschiedliche Motive und Lichtverhältnisse aus\, erlernen Fotografiertechniken und erleben eine schöne gemeinsame Zeit. Manche der Fotos auf unserer Website stammen von der Fotogruppe.\n\n\nKontakt: Dr. Klaus Vedder\, Tel. 0171 7441471\nDr. Urs von Deimling\, Tel. 0172 6328220
URL:https://www.evforum-bonn.de/veranstaltung/fotogruppe-hardtberg-2026/2026-01-23/
LOCATION:Gemeindezentrum Matthäikirche\, Gutenbergstraße 10\, Bonn\, 53123\, Deutschland
CATEGORIES:Kunst - Musik - Literatur,Veranstaltungen von Gemeinden,Veranstaltungsreihen
ATTACH;FMTTYPE=image/jpeg:https://www.evforum-bonn.de/wp-content/uploads/2025/05/Kamera_Pixabay-Free_PublicDomainArchive-e1748429758644.jpg
ORGANIZER;CN="Ev. Kirchengemeinde im Bonner Westen (Hardtberg)":MAILTO:hardtberg@ekir.de
END:VEVENT
BEGIN:VEVENT
DTSTART;TZID=Europe/Berlin:20260109T190000
DTEND;TZID=Europe/Berlin:20260109T203000
DTSTAMP:20260423T180221
CREATED:20260128T132310Z
LAST-MODIFIED:20260318T173751Z
UID:10007117-1767985200-1767990600@www.evforum-bonn.de
SUMMARY:Fotogruppe Hardtberg
DESCRIPTION:14 tägig Freitags um 19 Uhr\n\n\nDie Fotogruppe trifft sich regelmäßig um dem gemeinsamen Hobby der Fotografie nachzugehen. Wir probieren zusammen unterschiedliche Motive und Lichtverhältnisse aus\, erlernen Fotografiertechniken und erleben eine schöne gemeinsame Zeit. Manche der Fotos auf unserer Website stammen von der Fotogruppe.\n\n\nKontakt: Dr. Klaus Vedder\, Tel. 0171 7441471\nDr. Urs von Deimling\, Tel. 0172 6328220
URL:https://www.evforum-bonn.de/veranstaltung/fotogruppe-hardtberg-2026/2026-01-09/
LOCATION:Gemeindezentrum Matthäikirche\, Gutenbergstraße 10\, Bonn\, 53123\, Deutschland
CATEGORIES:Kunst - Musik - Literatur,Veranstaltungen von Gemeinden,Veranstaltungsreihen
ATTACH;FMTTYPE=image/jpeg:https://www.evforum-bonn.de/wp-content/uploads/2025/05/Kamera_Pixabay-Free_PublicDomainArchive-e1748429758644.jpg
ORGANIZER;CN="Ev. Kirchengemeinde im Bonner Westen (Hardtberg)":MAILTO:hardtberg@ekir.de
END:VEVENT
BEGIN:VEVENT
DTSTART;TZID=Europe/Berlin:20250213T150000
DTEND;TZID=Europe/Berlin:20250213T170000
DTSTAMP:20260423T180221
CREATED:20250116T104334Z
LAST-MODIFIED:20250116T104451Z
UID:10005196-1739458800-1739466000@www.evforum-bonn.de
SUMMARY:Bibel im Gespräch in Matthäi
DESCRIPTION:Bibelgesprächskreis in der Matthäikirche. Nähere Informationen über Textauswahl etc. bei der \nLeitung: Pfr. i.R. Wolfgang Harnisch\, Tel.: 64 39 20 \n  \nNicht in den Schulferien
URL:https://www.evforum-bonn.de/veranstaltung/bibel-im-gesprach-2025-copy/
LOCATION:Gemeindezentrum Matthäikirche\, Gutenbergstraße 10\, Bonn\, 53123\, Deutschland
CATEGORIES:Bibel - Bibelgespräch,Veranstaltungen von Gemeinden
ATTACH;FMTTYPE=image/jpeg:https://www.evforum-bonn.de/wp-content/uploads/2025/01/matthaeikirche.jpg
ORGANIZER;CN="Ev. Kirchengemeinde im Bonner Westen (Hardtberg)":MAILTO:hardtberg@ekir.de
END:VEVENT
BEGIN:VEVENT
DTSTART;TZID=Europe/Berlin:20250116T150000
DTEND;TZID=Europe/Berlin:20250116T170000
DTSTAMP:20260423T180221
CREATED:20250116T103625Z
LAST-MODIFIED:20250116T104320Z
UID:10005195-1737039600-1737046800@www.evforum-bonn.de
SUMMARY:Bibel im Gespräch in Matthäi
DESCRIPTION:Bibelgesprächskreis in der Matthäikirche. Nähere Informationen über Textauswahl etc. bei der \nLeitung: Pfr. i.R. Wolfgang Harnisch\, Tel.: 64 39 20 \n  \nNicht in den Schulferien
URL:https://www.evforum-bonn.de/veranstaltung/bibel-im-gesprach-2025/
LOCATION:Gemeindezentrum Matthäikirche\, Gutenbergstraße 10\, Bonn\, 53123\, Deutschland
CATEGORIES:Veranstaltungen von Gemeinden
ATTACH;FMTTYPE=image/jpeg:https://www.evforum-bonn.de/wp-content/uploads/2025/01/matthaeikirche.jpg
ORGANIZER;CN="Ev. Kirchengemeinde im Bonner Westen (Hardtberg)":MAILTO:hardtberg@ekir.de
END:VEVENT
END:VCALENDAR